BEGIN:VCALENDAR
VERSION:2.0
PRODID:-//【湘南茅ヶ崎 平塚 藤沢ヨガ】イルチブレインヨガ辻堂スタジオ｜辻堂駅南口より徒歩8分 体と心と脳のヨガ - ECPv6.15.20//NONSGML v1.0//EN
CALSCALE:GREGORIAN
METHOD:PUBLISH
X-WR-CALNAME:【湘南茅ヶ崎 平塚 藤沢ヨガ】イルチブレインヨガ辻堂スタジオ｜辻堂駅南口より徒歩8分 体と心と脳のヨガ
X-ORIGINAL-URL:https://ilchibrainyoga-tsujido.com
X-WR-CALDESC:【湘南茅ヶ崎 平塚 藤沢ヨガ】イルチブレインヨガ辻堂スタジオ｜辻堂駅南口より徒歩8分 体と心と脳のヨガ のイベント
REFRESH-INTERVAL;VALUE=DURATION:PT1H
X-Robots-Tag:noindex
X-PUBLISHED-TTL:PT1H
BEGIN:VTIMEZONE
TZID:Asia/Tokyo
BEGIN:STANDARD
TZOFFSETFROM:+0900
TZOFFSETTO:+0900
TZNAME:JST
DTSTART:20130101T000000
END:STANDARD
END:VTIMEZONE
BEGIN:VEVENT
DTSTART;TZID=Asia/Tokyo:20140927T143000
DTEND;TZID=Asia/Tokyo:20140927T163000
DTSTAMP:20260425T114637
CREATED:20140908T070606Z
LAST-MODIFIED:20140912T224929Z
UID:155-1411828200-1411835400@ilchibrainyoga-tsujido.com
SUMMARY:きっと大丈夫セミナー
DESCRIPTION:＊きっと大丈夫セミナー＊\n～ツボを開くOpen Heartトレーニング～ \n私たちの体には365個ものツボがあるのをご存知ですか？\nツボが開けば心と体が元気になります！ご自分のための癒しの時間を過ごしませんか？ \n内容：・心と体が元気になる原理の説明\n・ツボを開く簡単トレーニング\n・エッセンシャルオイルを使ってセルフヒーリング\nイベントのご予約はこちら
URL:https://ilchibrainyoga-tsujido.com/event/%e3%81%8d%e3%81%a3%e3%81%a8%e5%a4%a7%e4%b8%88%e5%a4%ab%e3%82%bb%e3%83%9f%e3%83%8a%e3%83%bc/
LOCATION:イルチブレインヨガ辻堂スタジオ\, 神奈川県茅ヶ崎市浜竹２丁目２−４ 安達ビル2階\, 2530021\, 日本
END:VEVENT
BEGIN:VEVENT
DTSTART;TZID=Asia/Tokyo:20140924T143000
DTEND;TZID=Asia/Tokyo:20140924T163000
DTSTAMP:20260425T114637
CREATED:20140923T001459Z
LAST-MODIFIED:20140923T001607Z
UID:164-1411569000-1411576200@ilchibrainyoga-tsujido.com
SUMMARY:4日のつく日はヨガの日
DESCRIPTION:4日のつく日はヨガの日 \nクラス体験が、通常3000円→1000円 \n  \n  \n  \nイベントのご予約はこちら
URL:https://ilchibrainyoga-tsujido.com/event/4%e6%97%a5%e3%81%ae%e3%81%a4%e3%81%8f%e6%97%a5%e3%81%af%e3%83%a8%e3%82%ac%e3%81%ae%e6%97%a5/
LOCATION:イルチブレインヨガ辻堂スタジオ\, 神奈川県茅ヶ崎市浜竹２丁目２−４ 安達ビル2階\, 2530021\, 日本
END:VEVENT
BEGIN:VEVENT
DTSTART;TZID=Asia/Tokyo:20140904T190000
DTEND;TZID=Asia/Tokyo:20140904T210000
DTSTAMP:20260425T114637
CREATED:20140902T043425Z
LAST-MODIFIED:20140902T043758Z
UID:149-1409857200-1409864400@ilchibrainyoga-tsujido.com
SUMMARY:9月4日はヨガの日
DESCRIPTION:4日はヨガの日 \nクラス体験が、通常3000円→500円 \nオーラ撮影したい方は、＋500円でお撮りします。 \nevent-button
URL:https://ilchibrainyoga-tsujido.com/event/9%e6%9c%884%e6%97%a5%e3%81%af%e3%83%a8%e3%82%ac%e3%81%ae%e6%97%a5-2/
LOCATION:イルチブレインヨガ辻堂スタジオ\, 神奈川県茅ヶ崎市浜竹２丁目２−４ 安達ビル2階\, 2530021\, 日本
END:VEVENT
BEGIN:VEVENT
DTSTART;TZID=Asia/Tokyo:20140904T143000
DTEND;TZID=Asia/Tokyo:20140904T163000
DTSTAMP:20260425T114637
CREATED:20140902T043306Z
LAST-MODIFIED:20140902T043945Z
UID:148-1409841000-1409848200@ilchibrainyoga-tsujido.com
SUMMARY:9月4日はヨガの日
DESCRIPTION:4日はヨガの日 \nクラス体験が、通常3000円→500円 \nオーラ撮影したい方は、＋500円でお撮りします。 \n  \nevent-button
URL:https://ilchibrainyoga-tsujido.com/event/9%e6%9c%884%e6%97%a5%e3%81%af%e3%83%a8%e3%82%ac%e3%81%ae%e6%97%a5/
LOCATION:イルチブレインヨガ辻堂スタジオ\, 神奈川県茅ヶ崎市浜竹２丁目２−４ 安達ビル2階\, 2530021\, 日本
END:VEVENT
BEGIN:VEVENT
DTSTART;TZID=Asia/Tokyo:20140828T190000
DTEND;TZID=Asia/Tokyo:20140828T210000
DTSTAMP:20260425T114637
CREATED:20140825T100129Z
LAST-MODIFIED:20140825T100129Z
UID:146-1409252400-1409259600@ilchibrainyoga-tsujido.com
SUMMARY:３日間限定無料体験
DESCRIPTION:体の健康・心の健康が体験できるイルチブレインヨガ。 \n３日間限定無料体験。腸セラピー付き。 \n２６日～２８日。 \nこの機会にぜひお越しください。＾＾ \n  \nevent-button
URL:https://ilchibrainyoga-tsujido.com/event/%ef%bc%93%e6%97%a5%e9%96%93%e9%99%90%e5%ae%9a%e7%84%a1%e6%96%99%e4%bd%93%e9%a8%93-3/
LOCATION:イルチブレインヨガ辻堂スタジオ\, 神奈川県茅ヶ崎市浜竹２丁目２−４ 安達ビル2階\, 2530021\, 日本
END:VEVENT
BEGIN:VEVENT
DTSTART;TZID=Asia/Tokyo:20140828T143000
DTEND;TZID=Asia/Tokyo:20140828T163000
DTSTAMP:20260425T114637
CREATED:20140825T095304Z
LAST-MODIFIED:20140825T100227Z
UID:144-1409236200-1409243400@ilchibrainyoga-tsujido.com
SUMMARY:３日間限定無料体験
DESCRIPTION:体の健康・心の健康が体験できるイルチブレインヨガ。 \n３日間限定無料体験。腸セラピー付き。 \n２６日～２８日。 \nこの機会にぜひお越しください。＾＾ \n  \nevent-butto
URL:https://ilchibrainyoga-tsujido.com/event/%ef%bc%93%e6%97%a5%e9%96%93%e9%99%90%e5%ae%9a%e7%84%a1%e6%96%99%e4%bd%93%e9%a8%93-2/
LOCATION:イルチブレインヨガ辻堂スタジオ\, 神奈川県茅ヶ崎市浜竹２丁目２−４ 安達ビル2階\, 2530021\, 日本
END:VEVENT
BEGIN:VEVENT
DTSTART;TZID=Asia/Tokyo:20140827T190000
DTEND;TZID=Asia/Tokyo:20140827T210000
DTSTAMP:20260425T114637
CREATED:20140825T094941Z
LAST-MODIFIED:20140825T094941Z
UID:141-1409166000-1409173200@ilchibrainyoga-tsujido.com
SUMMARY:３日間限定無料体験
DESCRIPTION:体の健康・心の健康が体験できるイルチブレインヨガ。 \n３日間限定無料体験。腸セラピー付き。 \n２６日～２８日。 \nこの機会にぜひお越しください。＾＾ \n  \nevent-button
URL:https://ilchibrainyoga-tsujido.com/event/%ef%bc%93%e6%97%a5%e9%96%93%e9%99%90%e5%ae%9a%e7%84%a1%e6%96%99%e4%bd%93%e9%a8%93/
LOCATION:イルチブレインヨガ辻堂スタジオ\, 神奈川県茅ヶ崎市浜竹２丁目２−４ 安達ビル2階\, 2530021\, 日本
END:VEVENT
BEGIN:VEVENT
DTSTART;TZID=Asia/Tokyo:20140827T100000
DTEND;TZID=Asia/Tokyo:20140827T100000
DTSTAMP:20260425T114637
CREATED:20140825T093153Z
LAST-MODIFIED:20140825T093916Z
UID:136-1409133600-1409133600@ilchibrainyoga-tsujido.com
SUMMARY:３日間無料体験会
DESCRIPTION:体の健康・心の健康が体験できるイルチブレインヨガ。 \n３日間限定無料体験。腸セラピー付き。 \n２６日～２８日。 \nこの機会にぜひお越しください。＾＾ \n  \nevent-button
URL:https://ilchibrainyoga-tsujido.com/event/%ef%bc%93%e6%97%a5%e9%96%93%e7%84%a1%e6%96%99%e4%bd%93%e9%a8%93%e4%bc%9a/
LOCATION:イルチブレインヨガ辻堂スタジオ\, 神奈川県茅ヶ崎市浜竹２丁目２−４ 安達ビル2階\, 2530021\, 日本
END:VEVENT
BEGIN:VEVENT
DTSTART;TZID=Asia/Tokyo:20140826T190000
DTEND;TZID=Asia/Tokyo:20140826T210000
DTSTAMP:20260425T114637
CREATED:20140825T094152Z
LAST-MODIFIED:20140825T094234Z
UID:139-1409079600-1409086800@ilchibrainyoga-tsujido.com
SUMMARY:３日間限定無料体験会
DESCRIPTION:体の健康・心の健康が体験できるイルチブレインヨガ。 \n３日間限定無料体験。腸セラピー付き。 \n２６日～２８日。 \nこの機会にぜひお越しください。＾＾ \n  \nevent-button
URL:https://ilchibrainyoga-tsujido.com/event/%ef%bc%93%e6%97%a5%e9%96%93%e9%99%90%e5%ae%9a%e7%84%a1%e6%96%99%e4%bd%93%e9%a8%93%e4%bc%9a-2/
END:VEVENT
BEGIN:VEVENT
DTSTART;TZID=Asia/Tokyo:20140826T143000
DTEND;TZID=Asia/Tokyo:20140826T163000
DTSTAMP:20260425T114637
CREATED:20140825T094100Z
LAST-MODIFIED:20140825T094100Z
UID:138-1409063400-1409070600@ilchibrainyoga-tsujido.com
SUMMARY:３日間限定無料体験会
DESCRIPTION:体の健康・心の健康が体験できるイルチブレインヨガ。 \n３日間限定無料体験。腸セラピー付き。 \n２６日～２８日。 \nこの機会にぜひお越しください。＾＾ \n  \nevent-button
URL:https://ilchibrainyoga-tsujido.com/event/%ef%bc%93%e6%97%a5%e9%96%93%e9%99%90%e5%ae%9a%e7%84%a1%e6%96%99%e4%bd%93%e9%a8%93%e4%bc%9a/
END:VEVENT
BEGIN:VEVENT
DTSTART;TZID=Asia/Tokyo:20140820T103000
DTEND;TZID=Asia/Tokyo:20140822T193000
DTSTAMP:20260425T114637
CREATED:20140813T003830Z
LAST-MODIFIED:20140813T004844Z
UID:126-1408530600-1408735800@ilchibrainyoga-tsujido.com
SUMMARY:ブレインヨガでダイエット
DESCRIPTION:今年の夏は健康的にダイエット \n骨盤矯正で下半身太り解消（スタイルが良くなります） \nポッコリお腹の脂肪燃焼（内臓の冷えを解消） \n代謝を良くしてデトックス（むくみ・たるみ・便秘解消） \n①10:30~　②15：00~　③19:30～ \n  \nイベントのご予約はこちら
URL:https://ilchibrainyoga-tsujido.com/event/%e3%83%96%e3%83%ac%e3%82%a4%e3%83%b3%e3%83%a8%e3%82%ac%e3%81%a7%e3%83%80%e3%82%a4%e3%82%a8%e3%83%83%e3%83%88/
LOCATION:イルチブレインヨガ辻堂スタジオ\, 神奈川県茅ヶ崎市浜竹２丁目２−４ 安達ビル2階\, 2530021\, 日本
END:VEVENT
BEGIN:VEVENT
DTSTART;VALUE=DATE:20140806
DTEND;VALUE=DATE:20140811
DTSTAMP:20260425T114637
CREATED:20140807T101622Z
LAST-MODIFIED:20140809T024320Z
UID:116-1407283200-1407715199@ilchibrainyoga-tsujido.com
SUMMARY:ワンコイン体験会
DESCRIPTION:8月6日～10日までの期間限定、ワンコイン（500円）体験実施中！！ \n体験内容はブレインヨガでダイエット \n下半身太りがきになる方、ぽっかりお腹の脂肪がきになるかた、代謝が悪くむくみやすい方、 \n健康的にダイエットを目指します。 \nお気軽に体験してみてください。 \nイベントのご予約はこちら
URL:https://ilchibrainyoga-tsujido.com/event/%e3%83%af%e3%83%b3%e3%82%b3%e3%82%a4%e3%83%b3%e4%bd%93%e9%a8%93%e4%bc%9a/
LOCATION:イルチブレインヨガ辻堂スタジオ\, 神奈川県茅ヶ崎市浜竹２丁目２−４ 安達ビル2階\, 2530021\, 日本
END:VEVENT
BEGIN:VEVENT
DTSTART;TZID=Asia/Tokyo:20140727T150000
DTEND;TZID=Asia/Tokyo:20140727T170000
DTSTAMP:20260425T114637
CREATED:20140718T030831Z
LAST-MODIFIED:20140726T132930Z
UID:83-1406473200-1406480400@ilchibrainyoga-tsujido.com
SUMMARY:イルチブレインヨガでダイエット
DESCRIPTION:◆内容 無理なく、美しく、キレイにるダイエット \n◆期待できる効果 下半身太り解消・お腹の脂肪燃焼・代謝をよくしてデットックス \n◆対象者 美しく・健康的にダイエットをしたい方 \n◆参加費 ヨガ体験＋オーラ撮影　2000円（ご予約の方は1500円)\nイベントのご予約はこちら
URL:https://ilchibrainyoga-tsujido.com/event/%e3%82%a4%e3%83%ab%e3%83%81%e3%83%96%e3%83%ac%e3%82%a4%e3%83%b3%e3%83%a8%e3%82%ac%e3%81%a7%e3%83%80%e3%82%a4%e3%82%a8%e3%83%83%e3%83%88/
LOCATION:シーサイドスタイル・レンタルスペース\, 藤沢市片瀬海岸１－１２－４\, 日本
END:VEVENT
END:VCALENDAR