BEGIN:VCALENDAR
VERSION:2.0
PRODID:-//【湘南茅ヶ崎 平塚 藤沢ヨガ】イルチブレインヨガ辻堂スタジオ｜辻堂駅南口より徒歩8分 体と心と脳のヨガ - ECPv6.15.20//NONSGML v1.0//EN
CALSCALE:GREGORIAN
METHOD:PUBLISH
X-WR-CALNAME:【湘南茅ヶ崎 平塚 藤沢ヨガ】イルチブレインヨガ辻堂スタジオ｜辻堂駅南口より徒歩8分 体と心と脳のヨガ
X-ORIGINAL-URL:https://ilchibrainyoga-tsujido.com
X-WR-CALDESC:【湘南茅ヶ崎 平塚 藤沢ヨガ】イルチブレインヨガ辻堂スタジオ｜辻堂駅南口より徒歩8分 体と心と脳のヨガ のイベント
REFRESH-INTERVAL;VALUE=DURATION:PT1H
X-Robots-Tag:noindex
X-PUBLISHED-TTL:PT1H
BEGIN:VTIMEZONE
TZID:Asia/Tokyo
BEGIN:STANDARD
TZOFFSETFROM:+0900
TZOFFSETTO:+0900
TZNAME:JST
DTSTART:20130101T000000
END:STANDARD
END:VTIMEZONE
BEGIN:VEVENT
DTSTART;TZID=Asia/Tokyo:20150130T143000
DTEND;TZID=Asia/Tokyo:20150130T163000
DTSTAMP:20260425T072457
CREATED:20150120T124509Z
LAST-MODIFIED:20150120T124509Z
UID:297-1422628200-1422635400@ilchibrainyoga-tsujido.com
SUMMARY:体を柔軟にする秘訣大公開！
DESCRIPTION:体が硬くなると、冷えて、痛くなります。やわらかくなると、心が楽に、頭がすっきりします。簡単なのによく効く「ブレイン体操」・・・その数なんと３００種類！あなたに必要な体操を丁寧に指導いたします。初めての方もお気軽にどうぞ。 \nイベントのご予約はこちら
URL:https://ilchibrainyoga-tsujido.com/event/%e4%bd%93%e3%82%92%e6%9f%94%e8%bb%9f%e3%81%ab%e3%81%99%e3%82%8b%e7%a7%98%e8%a8%a3%e5%a4%a7%e5%85%ac%e9%96%8b%ef%bc%81-4/
LOCATION:イルチブレインヨガ辻堂スタジオ\, 神奈川県茅ヶ崎市浜竹２丁目２−４ 安達ビル2階\, 2530021\, 日本
END:VEVENT
BEGIN:VEVENT
DTSTART;TZID=Asia/Tokyo:20150130T100000
DTEND;TZID=Asia/Tokyo:20150130T120000
DTSTAMP:20260425T072457
CREATED:20150120T124236Z
LAST-MODIFIED:20150120T124236Z
UID:296-1422612000-1422619200@ilchibrainyoga-tsujido.com
SUMMARY:体を柔軟にする秘訣大公開！
DESCRIPTION:体が硬くなると、冷えて、痛くなります。やわらかくなると、心が楽に、頭がすっきりします。簡単なのによく効く「ブレイン体操」・・・その数なんと３００種類！あなたに必要な体操を丁寧に指導いたします。初めての方もお気軽にどうぞ。 \nイベントのご予約はこちら
URL:https://ilchibrainyoga-tsujido.com/event/%e4%bd%93%e3%82%92%e6%9f%94%e8%bb%9f%e3%81%ab%e3%81%99%e3%82%8b%e7%a7%98%e8%a8%a3%e5%a4%a7%e5%85%ac%e9%96%8b%ef%bc%81-3/
LOCATION:イルチブレインヨガ辻堂スタジオ\, 神奈川県茅ヶ崎市浜竹２丁目２−４ 安達ビル2階\, 2530021\, 日本
END:VEVENT
BEGIN:VEVENT
DTSTART;TZID=Asia/Tokyo:20150128T190000
DTEND;TZID=Asia/Tokyo:20150128T210000
DTSTAMP:20260425T072457
CREATED:20150120T124030Z
LAST-MODIFIED:20150120T124030Z
UID:295-1422471600-1422478800@ilchibrainyoga-tsujido.com
SUMMARY:体を柔軟にする秘訣大公開！
DESCRIPTION:体が硬くなると、冷えて、痛くなります。やわらかくなると、心が楽に、頭がすっきりします。簡単なのによく効く「ブレイン体操」・・・その数なんと３００種類！あなたに必要な体操を丁寧に指導いたします。初めての方もお気軽にどうぞ。 \nイベントのご予約はこちら\n 
URL:https://ilchibrainyoga-tsujido.com/event/%e4%bd%93%e3%82%92%e6%9f%94%e8%bb%9f%e3%81%ab%e3%81%99%e3%82%8b%e7%a7%98%e8%a8%a3%e5%a4%a7%e5%85%ac%e9%96%8b%ef%bc%81-2/
LOCATION:イルチブレインヨガ辻堂スタジオ\, 神奈川県茅ヶ崎市浜竹２丁目２−４ 安達ビル2階\, 2530021\, 日本
END:VEVENT
BEGIN:VEVENT
DTSTART;TZID=Asia/Tokyo:20150128T143000
DTEND;TZID=Asia/Tokyo:20150128T163000
DTSTAMP:20260425T072457
CREATED:20150120T123551Z
LAST-MODIFIED:20150120T123551Z
UID:294-1422455400-1422462600@ilchibrainyoga-tsujido.com
SUMMARY:体を柔軟にする秘訣大公開！
DESCRIPTION:体が硬くなると、冷えて、痛くなります。やわらかくなると、心が楽に、頭がすっきりします。簡単なのによく効く「ブレイン体操」・・・その数なんと３００種類！あなたに必要な体操を丁寧に指導いたします。初めての方もお気軽にどうぞ。 \nイベントのご予約はこちら
URL:https://ilchibrainyoga-tsujido.com/event/%e4%bd%93%e3%82%92%e6%9f%94%e8%bb%9f%e3%81%ab%e3%81%99%e3%82%8b%e7%a7%98%e8%a8%a3%e5%a4%a7%e5%85%ac%e9%96%8b%ef%bc%81/
LOCATION:イルチブレインヨガ辻堂スタジオ\, 神奈川県茅ヶ崎市浜竹２丁目２−４ 安達ビル2階\, 2530021\, 日本
END:VEVENT
BEGIN:VEVENT
DTSTART;TZID=Asia/Tokyo:20150128T100000
DTEND;TZID=Asia/Tokyo:20150128T120000
DTSTAMP:20260425T072457
CREATED:20150115T052451Z
LAST-MODIFIED:20150120T132400Z
UID:285-1422439200-1422446400@ilchibrainyoga-tsujido.com
SUMMARY:４・８のつく日はヨガの日
DESCRIPTION:４・８のつく日はヨガの日 \n呼吸・瞑想をする前に体をリラックスさせるために \n柔軟性をつけ、冷えを解消するために体操をします。 \nその体操の種類がなんと３００種類！！ \nなので、その時その時で体操が違います。 \nそれが魅力だとも言う方もいます。 \n脳は、マンネリを嫌うようです。 \n飽きずに、健康つくりにも役立つ脳活性ヨガ。 \n体験費がお安いに日体験してみませんか？ \nイベントのご予約はこちら
URL:https://ilchibrainyoga-tsujido.com/event/strong%ef%bc%94%e3%83%bb%ef%bc%98%e3%81%ae%e3%81%a4%e3%81%8f%e6%97%a5%e3%81%af%e3%83%a8%e3%82%ac%e3%81%ae%e6%97%a5strong-2/
LOCATION:イルチブレインヨガ辻堂スタジオ\, 神奈川県茅ヶ崎市浜竹２丁目２−４ 安達ビル2階\, 2530021\, 日本
END:VEVENT
BEGIN:VEVENT
DTSTART;TZID=Asia/Tokyo:20150124T223000
DTEND;TZID=Asia/Tokyo:20150124T223000
DTSTAMP:20260425T072457
CREATED:20150114T095136Z
LAST-MODIFIED:20150115T053143Z
UID:274-1422138600-1422138600@ilchibrainyoga-tsujido.com
SUMMARY:４・８のつく日はヨガの日
DESCRIPTION:４・８のつく日はヨガの日 \n呼吸・瞑想をする前に体をリラックスさせるために \n柔軟性をつけ、冷えを解消するために体操をします。 \nその体操の種類がなんと３００種類！！ \nなので、その時その時で体操が違います。 \nそれが魅力だとも言う方もいます。 \n脳は、マンネリを嫌うようです。 \n飽きずに、健康つくりにも役立つ脳活性ヨガ。 \n体験費がお安いに日体験してみませんか？ \nイベントのご予約はこちら
URL:https://ilchibrainyoga-tsujido.com/event/%ef%bc%94%e3%83%bb%ef%bc%98%e3%81%ae%e3%81%a4%e3%81%8f%e6%97%a5%e3%81%af%e3%83%a8%e3%82%ac%e3%81%ae%e6%97%a5-12/
LOCATION:イルチブレインヨガ辻堂スタジオ\, 神奈川県茅ヶ崎市浜竹２丁目２−４ 安達ビル2階\, 2530021\, 日本
END:VEVENT
BEGIN:VEVENT
DTSTART;TZID=Asia/Tokyo:20150124T170000
DTEND;TZID=Asia/Tokyo:20150124T190000
DTSTAMP:20260425T072457
CREATED:20150120T023114Z
LAST-MODIFIED:20150120T023114Z
UID:293-1422118800-1422126000@ilchibrainyoga-tsujido.com
SUMMARY:超すっきり！腸デトックス運動体験会
DESCRIPTION:あなたのぽっこりお腹、それ…脂肪ではなく腸のガスかもしれません！腸を動かす１０のポーズで手足の先までぽかぽか温かくなる体験をしてみませんか？腸に位置する「丹田」は元気の源。腸が元気になると、腰痛改善、むくみスッキリ、冷え改善、お肌つやつや、メンタル強化にも！腸は健康のバロメーターです。 \nチンして何度でも！赤外線でじんわり温か♥体験会当日のご入会で黄土パック（2\,000円相当）プレゼント \nイベントのご予約はこちら
URL:https://ilchibrainyoga-tsujido.com/event/%e8%b6%85%e3%81%99%e3%81%a3%e3%81%8d%e3%82%8a%ef%bc%81%e8%85%b8%e3%83%87%e3%83%88%e3%83%83%e3%82%af%e3%82%b9%e9%81%8b%e5%8b%95%e4%bd%93%e9%a8%93%e4%bc%9a-4/
LOCATION:イルチブレインヨガ辻堂スタジオ\, 神奈川県茅ヶ崎市浜竹２丁目２−４ 安達ビル2階\, 2530021\, 日本
END:VEVENT
BEGIN:VEVENT
DTSTART;TZID=Asia/Tokyo:20150124T140000
DTEND;TZID=Asia/Tokyo:20150124T160000
DTSTAMP:20260425T072457
CREATED:20150120T022853Z
LAST-MODIFIED:20150120T022853Z
UID:291-1422108000-1422115200@ilchibrainyoga-tsujido.com
SUMMARY:超すっきり！腸デトックス運動体験会
DESCRIPTION:あなたのぽっこりお腹、それ…脂肪ではなく腸のガスかもしれません！腸を動かす１０のポーズで手足の先までぽかぽか温かくなる体験をしてみませんか？腸に位置する「丹田」は元気の源。腸が元気になると、腰痛改善、むくみスッキリ、冷え改善、お肌つやつや、メンタル強化にも！腸は健康のバロメーターです。 \nチンして何度でも！赤外線でじんわり温か♥体験会当日のご入会で黄土パック（2\,000円相当）プレゼント \nイベントのご予約はこちら
URL:https://ilchibrainyoga-tsujido.com/event/%e8%b6%85%e3%81%99%e3%81%a3%e3%81%8d%e3%82%8a%ef%bc%81%e8%85%b8%e3%83%87%e3%83%88%e3%83%83%e3%82%af%e3%82%b9%e9%81%8b%e5%8b%95%e4%bd%93%e9%a8%93%e4%bc%9a-3/
LOCATION:イルチブレインヨガ辻堂スタジオ\, 神奈川県茅ヶ崎市浜竹２丁目２−４ 安達ビル2階\, 2530021\, 日本
END:VEVENT
BEGIN:VEVENT
DTSTART;TZID=Asia/Tokyo:20150123T190000
DTEND;TZID=Asia/Tokyo:20150123T210000
DTSTAMP:20260425T072457
CREATED:20150120T021532Z
LAST-MODIFIED:20150120T023417Z
UID:290-1422039600-1422046800@ilchibrainyoga-tsujido.com
SUMMARY:超すっきり！腸デトックス運動体験会
DESCRIPTION:あなたのぽっこりお腹、それ…脂肪ではなく腸のガスかもしれません！腸を動かす１０のポーズで手足の先までぽかぽか温かくなる体験をしてみませんか？腸に位置する「丹田」は元気の源。腸が元気になると、腰痛改善、むくみスッキリ、冷え改善、お肌つやつや、メンタル強化にも！腸は健康のバロメーターです。 \nチンして何度でも！赤外線でじんわり温か♥体験会当日のご入会で黄土パック（2\,000円相当）プレゼント \nイベントのご予約はこちら
URL:https://ilchibrainyoga-tsujido.com/event/%e8%b6%85%e3%81%99%e3%81%a3%e3%81%8d%e3%82%8a%ef%bc%81%e8%85%b8%e3%83%87%e3%83%88%e3%83%83%e3%82%af%e3%82%b9%e9%81%8b%e5%8b%95%e4%bd%93%e9%a8%93%e4%bc%9a-2/
LOCATION:イルチブレインヨガ辻堂スタジオ\, 神奈川県茅ヶ崎市浜竹２丁目２−４ 安達ビル2階\, 2530021\, 日本
END:VEVENT
BEGIN:VEVENT
DTSTART;TZID=Asia/Tokyo:20150123T100000
DTEND;TZID=Asia/Tokyo:20150123T120000
DTSTAMP:20260425T072457
CREATED:20150120T021254Z
LAST-MODIFIED:20150120T023508Z
UID:289-1422007200-1422014400@ilchibrainyoga-tsujido.com
SUMMARY:超すっきり！腸デトックス運動体験会
DESCRIPTION:あなたのぽっこりお腹、それ…脂肪ではなく腸のガスかもしれません！腸を動かす１０のポーズで手足の先までぽかぽか温かくなる体験をしてみませんか？腸に位置する「丹田」は元気の源。腸が元気になると、腰痛改善、むくみスッキリ、冷え改善、お肌つやつや、メンタル強化にも！腸は健康のバロメーターです。 \nチンして何度でも！赤外線でじんわり温か♥体験会当日のご入会で黄土パック（2\,000円相当）プレゼント \nイベントのご予約はこちら
URL:https://ilchibrainyoga-tsujido.com/event/%e8%b6%85%e3%81%99%e3%81%a3%e3%81%8d%e3%82%8a%ef%bc%81%e8%85%b8%e3%83%87%e3%83%88%e3%83%83%e3%82%af%e3%82%b9%e9%81%8b%e5%8b%95%e4%bd%93%e9%a8%93%e4%bc%9a/
LOCATION:イルチブレインヨガ辻堂スタジオ\, 神奈川県茅ヶ崎市浜竹２丁目２−４ 安達ビル2階\, 2530021\, 日本
END:VEVENT
BEGIN:VEVENT
DTSTART;TZID=Asia/Tokyo:20150121T190000
DTEND;TZID=Asia/Tokyo:20150121T210000
DTSTAMP:20260425T072457
CREATED:20150113T141419Z
LAST-MODIFIED:20150114T022604Z
UID:268-1421866800-1421874000@ilchibrainyoga-tsujido.com
SUMMARY:５日間限定ヨガ体験会
DESCRIPTION:あなたの健康イルチブレインヨガがサポートします　 \nオープンしてもうすぐ５年になり、長く続けていらっしゃる会員さんが多くなりました。 \nそこで今回、辻堂スタジオの会員さんの体験談を載せました。 \n脳活性ヨガを生活に取り入れたことで充実した人生になり、より一層トレーニングに励んでいます。 \n２０代～７０代まで幅広く通っていらっしゃいます。 \nトレーニングの内容もその時に来た会員さんに合わせてしていますので毎回違うのが魅力だという方も・・・。 \nそんな、方たちとトレーニングを始めてみませんか？ \n \nクリックするとPDFファイルが開きます \nイベントのご予約はこちら
URL:https://ilchibrainyoga-tsujido.com/event/%ef%bc%95%e6%97%a5%e9%96%93%e9%99%90%e5%ae%9a%e3%83%a8%e3%82%ac%e4%bd%93%e9%a8%93%e4%bc%9a-11/
LOCATION:イルチブレインヨガ辻堂スタジオ\, 神奈川県茅ヶ崎市浜竹２丁目２−４ 安達ビル2階\, 2530021\, 日本
END:VEVENT
BEGIN:VEVENT
DTSTART;TZID=Asia/Tokyo:20150121T143000
DTEND;TZID=Asia/Tokyo:20150121T163000
DTSTAMP:20260425T072457
CREATED:20150113T141310Z
LAST-MODIFIED:20150114T022618Z
UID:267-1421850600-1421857800@ilchibrainyoga-tsujido.com
SUMMARY:５日間限定ヨガ体験会
DESCRIPTION:あなたの健康イルチブレインヨガがサポートします　 \nオープンしてもうすぐ５年になり、長く続けていらっしゃる会員さんが多くなりました。 \nそこで今回、辻堂スタジオの会員さんの体験談を載せました。 \n脳活性ヨガを生活に取り入れたことで充実した人生になり、より一層トレーニングに励んでいます。 \n２０代～７０代まで幅広く通っていらっしゃいます。 \nトレーニングの内容もその時に来た会員さんに合わせてしていますので毎回違うのが魅力だという方も・・・。 \nそんな、方たちとトレーニングを始めてみませんか？ \n \nクリックするとPDFファイルが開きます \nイベントのご予約はこちら
URL:https://ilchibrainyoga-tsujido.com/event/%ef%bc%95%e6%97%a5%e9%96%93%e9%99%90%e5%ae%9a%e3%83%a8%e3%82%ac%e4%bd%93%e9%a8%93%e4%bc%9a-10/
LOCATION:イルチブレインヨガ辻堂スタジオ\, 神奈川県茅ヶ崎市浜竹２丁目２−４ 安達ビル2階\, 2530021\, 日本
END:VEVENT
BEGIN:VEVENT
DTSTART;TZID=Asia/Tokyo:20150121T100000
DTEND;TZID=Asia/Tokyo:20150121T120000
DTSTAMP:20260425T072457
CREATED:20150113T141057Z
LAST-MODIFIED:20150114T022638Z
UID:266-1421834400-1421841600@ilchibrainyoga-tsujido.com
SUMMARY:５日間限定ヨガ体験会
DESCRIPTION:あなたの健康イルチブレインヨガがサポートします　 \nオープンしてもうすぐ５年になり、長く続けていらっしゃる会員さんが多くなりました。 \nそこで今回、辻堂スタジオの会員さんの体験談を載せました。 \n脳活性ヨガを生活に取り入れたことで充実した人生になり、より一層トレーニングに励んでいます。 \n２０代～７０代まで幅広く通っていらっしゃいます。 \nトレーニングの内容もその時に来た会員さんに合わせてしていますので毎回違うのが魅力だという方も・・・。 \nそんな、方たちとトレーニングを始めてみませんか？ \n \nクリックするとPDFファイルが開きます \nイベントのご予約はこちら
URL:https://ilchibrainyoga-tsujido.com/event/%ef%bc%95%e6%97%a5%e9%96%93%e9%99%90%e5%ae%9a%e4%bd%93%e9%a8%93%e4%bc%9a/
LOCATION:イルチブレインヨガ辻堂スタジオ\, 神奈川県茅ヶ崎市浜竹２丁目２−４ 安達ビル2階\, 2530021\, 日本
END:VEVENT
BEGIN:VEVENT
DTSTART;TZID=Asia/Tokyo:20150120T220000
DTEND;TZID=Asia/Tokyo:20150120T220000
DTSTAMP:20260425T072457
CREATED:20150113T094145Z
LAST-MODIFIED:20150114T022706Z
UID:260-1421791200-1421791200@ilchibrainyoga-tsujido.com
SUMMARY:５日間限定ヨガ体験会
DESCRIPTION:あなたの健康イルチブレインヨガがサポートします　 \nオープンしてもうすぐ５年になり、長く続けていらっしゃる会員さんが多くなりました。 \nそこで今回、辻堂スタジオの会員さんの体験談を載せました。 \n脳活性ヨガを生活に取り入れたことで充実した人生になり、より一層トレーニングに励んでいます。 \n２０代～７０代まで幅広く通っていらっしゃいます。 \nトレーニングの内容もその時に来た会員さんに合わせてしていますので毎回違うのが魅力だという方も・・・。 \nそんな、方たちとトレーニングを始めてみませんか？ \n \nクリックするとPDFファイルが開きます \nイベントのご予約はこちら
URL:https://ilchibrainyoga-tsujido.com/event/%ef%bc%95%e6%97%a5%e9%96%93%e9%99%90%e5%ae%9a%e3%83%a8%e3%82%ac%e4%bd%93%e9%a8%93%e4%bc%9a-8/
LOCATION:イルチブレインヨガ辻堂スタジオ\, 神奈川県茅ヶ崎市浜竹２丁目２−４ 安達ビル2階\, 2530021\, 日本
END:VEVENT
BEGIN:VEVENT
DTSTART;TZID=Asia/Tokyo:20150120T143000
DTEND;TZID=Asia/Tokyo:20150120T163000
DTSTAMP:20260425T072457
CREATED:20150113T094304Z
LAST-MODIFIED:20150114T022740Z
UID:261-1421764200-1421771400@ilchibrainyoga-tsujido.com
SUMMARY:５日日間限定ヨガ体験会
DESCRIPTION:あなたの健康イルチブレインヨガがサポートします　 \nオープンしてもうすぐ５年になり、長く続けていらっしゃる会員さんが多くなりました。 \nそこで今回、辻堂スタジオの会員さんの体験談を載せました。 \n脳活性ヨガを生活に取り入れたことで充実した人生になり、より一層トレーニングに励んでいます。 \n２０代～７０代まで幅広く通っていらっしゃいます。 \nトレーニングの内容もその時に来た会員さんに合わせてしていますので毎回違うのが魅力だという方も・・・。 \nそんな、方たちとトレーニングを始めてみませんか？ \n \nクリックするとPDFファイルが開きます \nイベントのご予約はこちら
URL:https://ilchibrainyoga-tsujido.com/event/%ef%bc%95%e6%97%a5%e6%97%a5%e9%96%93%e9%99%90%e5%ae%9a%e3%83%a8%e3%82%ac%e4%bd%93%e9%a8%93%e4%bc%9a/
LOCATION:イルチブレインヨガ辻堂スタジオ\, 神奈川県茅ヶ崎市浜竹２丁目２−４ 安達ビル2階\, 2530021\, 日本
END:VEVENT
BEGIN:VEVENT
DTSTART;TZID=Asia/Tokyo:20150120T070000
DTEND;TZID=Asia/Tokyo:20150120T090000
DTSTAMP:20260425T072457
CREATED:20150113T094619Z
LAST-MODIFIED:20150114T023015Z
UID:262-1421737200-1421744400@ilchibrainyoga-tsujido.com
SUMMARY:５日間限定ヨガ体験会
DESCRIPTION:あなたの健康イルチブレインヨガがサポートします　 \nオープンしてもうすぐ５年になり、長く続けていらっしゃる会員さんが多くなりました。 \nそこで今回、辻堂スタジオの会員さんの体験談を載せました。 \n脳活性ヨガを生活に取り入れたことで充実した人生になり、より一層トレーニングに励んでいます。 \n２０代～７０代まで幅広く通っていらっしゃいます。 \nトレーニングの内容もその時に来た会員さんに合わせてしていますので毎回違うのが魅力だという方も・・・。 \nそんな、方たちとトレーニングを始めてみませんか？ \n \nクリックするとPDFファイルが開きます \nイベントのご予約はこちら
URL:https://ilchibrainyoga-tsujido.com/event/%ef%bc%95%e6%97%a5%e9%96%93%e9%99%90%e5%ae%9a%e3%83%a8%e3%82%ac%e4%bd%93%e9%a8%93%e4%bc%9a-9/
LOCATION:イルチブレインヨガ辻堂スタジオ\, 神奈川県茅ヶ崎市浜竹２丁目２−４ 安達ビル2階\, 2530021\, 日本
END:VEVENT
BEGIN:VEVENT
DTSTART;TZID=Asia/Tokyo:20150118T223000
DTEND;TZID=Asia/Tokyo:20150118T223000
DTSTAMP:20260425T072457
CREATED:20150114T095714Z
LAST-MODIFIED:20150115T053405Z
UID:276-1421620200-1421620200@ilchibrainyoga-tsujido.com
SUMMARY:４・８のつく日はヨガの日
DESCRIPTION:４・８のつく日はヨガの日 \n呼吸・瞑想をする前に体をリラックスさせるために \n柔軟性をつけ、冷えを解消するために体操をします。 \nその体操の種類がなんと３００種類！！ \nなので、その時その時で体操が違います。 \nそれが魅力だとも言う方もいます。 \n脳は、マンネリを嫌うようです。 \n飽きずに、健康つくりにも役立つ脳活性ヨガ。 \n体験費がお安いに日体験してみませんか？ \nイベントのご予約はこちら
URL:https://ilchibrainyoga-tsujido.com/event/%ef%bc%94%e3%83%bb%ef%bc%98%e3%81%ae%e3%81%a4%e3%81%8f%e6%97%a5%e3%81%af%e3%83%a8%e3%82%ac%e3%81%ae%e6%97%a5-13/
LOCATION:イルチブレインヨガ辻堂スタジオ\, 神奈川県茅ヶ崎市浜竹２丁目２−４ 安達ビル2階\, 2530021\, 日本
END:VEVENT
BEGIN:VEVENT
DTSTART;TZID=Asia/Tokyo:20150118T143000
DTEND;TZID=Asia/Tokyo:20150118T163000
DTSTAMP:20260425T072457
CREATED:20150113T094001Z
LAST-MODIFIED:20150115T053554Z
UID:259-1421591400-1421598600@ilchibrainyoga-tsujido.com
SUMMARY:５日間限定ヨガ体験会
DESCRIPTION:あなたの健康イルチブレインヨガがサポートします　 \nオープンしてもうすぐ５年になり、長く続けていらっしゃる会員さんが多くなりました。 \nそこで今回、辻堂スタジオの会員さんの体験談を載せました。 \n脳活性ヨガを生活に取り入れたことで充実した人生になり、より一層トレーニングに励んでいます。 \n２０代～７０代まで幅広く通っていらっしゃいます。 \nトレーニングの内容もその時に来た会員さんに合わせてしていますので毎回違うのが魅力だという方も・・・。 \nそんな、方たちとトレーニングを始めてみませんか？ \n \nクリックするとPDFファイルが開きます \nイベントのご予約はこちら
URL:https://ilchibrainyoga-tsujido.com/event/%ef%bc%95%e6%97%a5%e9%96%93%e9%99%90%e5%ae%9a%e3%83%a8%e3%82%ac%e4%bd%93%e9%a8%93%e4%bc%9a-7/
LOCATION:イルチブレインヨガ辻堂スタジオ\, 神奈川県茅ヶ崎市浜竹２丁目２−４ 安達ビル2階\, 2530021\, 日本
END:VEVENT
BEGIN:VEVENT
DTSTART;TZID=Asia/Tokyo:20150118T103000
DTEND;TZID=Asia/Tokyo:20150118T123000
DTSTAMP:20260425T072457
CREATED:20150113T085112Z
LAST-MODIFIED:20150114T022809Z
UID:254-1421577000-1421584200@ilchibrainyoga-tsujido.com
SUMMARY:５日間限定ヨガ体験会
DESCRIPTION:あなたの健康イルチブレインヨガがサポートします　 \nオープンしてもうすぐ５年になり、長く続けていらっしゃる会員さんが多くなりました。 \nそこで今回、辻堂スタジオの会員さんの体験談を載せました。 \n脳活性ヨガを生活に取り入れたことで充実した人生になり、より一層トレーニングに励んでいます。 \n２０代～７０代まで幅広く通っていらっしゃいます。 \nトレーニングの内容もその時に来た会員さんに合わせてしていますので毎回違うのが魅力だという方も・・・。 \nそんな、方たちとトレーニングを始めてみませんか？ \n \nクリックするとPDFファイルが開きます \nイベントのご予約はこちら
URL:https://ilchibrainyoga-tsujido.com/event/%ef%bc%95%e6%97%a5%e9%96%93%e9%99%90%e5%ae%9a%e3%83%a8%e3%82%ac%e4%bd%93%e9%a8%93%e4%bc%9a-6/
LOCATION:イルチブレインヨガ辻堂スタジオ\, 神奈川県茅ヶ崎市浜竹２丁目２−４ 安達ビル2階\, 2530021\, 日本
END:VEVENT
BEGIN:VEVENT
DTSTART;TZID=Asia/Tokyo:20150117T223000
DTEND;TZID=Asia/Tokyo:20150117T223000
DTSTAMP:20260425T072457
CREATED:20150113T084733Z
LAST-MODIFIED:20150114T022229Z
UID:251-1421533800-1421533800@ilchibrainyoga-tsujido.com
SUMMARY:５日間限定ヨガ体験会
DESCRIPTION:あなたの健康イルチブレインヨガがサポートします　 \nオープンしてもうすぐ５年になり、長く続けていらっしゃる会員さんが多くなりました。 \nそこで今回、辻堂スタジオの会員さんの体験談を載せました。 \n脳活性ヨガを生活に取り入れたことで充実した人生になり、より一層トレーニングに励んでいます。 \n２０代～７０代まで幅広く通っていらっしゃいます。 \nトレーニングの内容もその時に来た会員さんに合わせてしていますので毎回違うのが魅力だという方も・・・。 \nそんな、方たちとトレーニングを始めてみませんか？ \n \nクリックするとPDFファイルが開きます \nイベントのご予約はこちら
URL:https://ilchibrainyoga-tsujido.com/event/%ef%bc%95%e6%97%a5%e9%96%93%e9%99%90%e5%ae%9a%e3%83%a8%e3%82%ac%e4%bd%93%e9%a8%93%e4%bc%9a-4/
LOCATION:イルチブレインヨガ辻堂スタジオ\, 神奈川県茅ヶ崎市浜竹２丁目２−４ 安達ビル2階\, 2530021\, 日本
END:VEVENT
BEGIN:VEVENT
DTSTART;TZID=Asia/Tokyo:20150117T070000
DTEND;TZID=Asia/Tokyo:20150117T090000
DTSTAMP:20260425T072457
CREATED:20150113T084923Z
LAST-MODIFIED:20150114T025030Z
UID:253-1421478000-1421485200@ilchibrainyoga-tsujido.com
SUMMARY:５日間限定ヨガ体験会
DESCRIPTION:あなたの健康イルチブレインヨガがサポートします　 \nオープンしてもうすぐ５年になり、長く続けていらっしゃる会員さんが多くなりました。 \nそこで今回、辻堂スタジオの会員さんの体験談を載せました。 \n脳活性ヨガを生活に取り入れたことで充実した人生になり、より一層トレーニングに励んでいます。 \n２０代～７０代まで幅広く通っていらっしゃいます。 \nトレーニングの内容もその時に来た会員さんに合わせてしていますので毎回違うのが魅力だという方も・・・。 \nそんな、方たちとトレーニングを始めてみませんか？ \n \nクリックするとPDFファイルが開きます \nイベントのご予約はこちら
URL:https://ilchibrainyoga-tsujido.com/event/%ef%bc%95%e6%97%a5%e9%96%93%e9%99%90%e5%ae%9a%e3%83%a8%e3%82%ac%e4%bd%93%e9%a8%93%e4%bc%9a-5/
LOCATION:イルチブレインヨガ辻堂スタジオ\, 神奈川県茅ヶ崎市浜竹２丁目２−４ 安達ビル2階\, 2530021\, 日本
END:VEVENT
BEGIN:VEVENT
DTSTART;TZID=Asia/Tokyo:20150116T100000
DTEND;TZID=Asia/Tokyo:20150116T120000
DTSTAMP:20260425T072457
CREATED:20150113T084020Z
LAST-MODIFIED:20150114T022040Z
UID:247-1421402400-1421409600@ilchibrainyoga-tsujido.com
SUMMARY:５日間限定ヨガ体験会
DESCRIPTION:あなたの健康イルチブレインヨガがサポートします　 \nオープンしてもうすぐ５年になり、長く続けていらっしゃる会員さんが多くなりました。 \nそこで今回、辻堂スタジオの会員さんの体験談を載せました。 \n脳活性ヨガを生活に取り入れたことで充実した人生になり、より一層トレーニングに励んでいます。 \n２０代～７０代まで幅広く通っていらっしゃいます。 \nトレーニングの内容もその時に来た会員さんに合わせてしていますので毎回違うのが魅力だという方も・・・。 \nそんな、方たちとトレーニングを始めてみませんか？ \n \nクリックするとPDFファイルが開きます \nイベントのご予約はこちら
URL:https://ilchibrainyoga-tsujido.com/event/%ef%bc%95%e6%97%a5%e9%96%93%e9%99%90%e5%ae%9a%e3%83%a8%e3%82%ac%e4%bd%93%e9%a8%93%e4%bc%9a/
LOCATION:イルチブレインヨガ辻堂スタジオ\, 神奈川県茅ヶ崎市浜竹２丁目２−４ 安達ビル2階\, 2530021\, 日本
END:VEVENT
BEGIN:VEVENT
DTSTART;TZID=Asia/Tokyo:20150116T070000
DTEND;TZID=Asia/Tokyo:20150116T090000
DTSTAMP:20260425T072457
CREATED:20150113T084525Z
LAST-MODIFIED:20150114T024104Z
UID:250-1421391600-1421398800@ilchibrainyoga-tsujido.com
SUMMARY:５日間限定ヨガ体験会
DESCRIPTION:あなたの健康イルチブレインヨガがサポートします　 \nオープンしてもうすぐ５年になり、長く続けていらっしゃる会員さんが多くなりました。 \nそこで今回、辻堂スタジオの会員さんの体験談を載せました。 \n脳活性ヨガを生活に取り入れたことで充実した人生になり、より一層トレーニングに励んでいます。 \n２０代～７０代まで幅広く通っていらっしゃいます。 \nトレーニングの内容もその時に来た会員さんに合わせてしていますので毎回違うのが魅力だという方も・・・。 \nそんな、方たちとトレーニングを始めてみませんか？ \n \nクリックするとPDFファイルが開きます \nイベントのご予約はこちら
URL:https://ilchibrainyoga-tsujido.com/event/%ef%bc%95%e6%97%a5%e9%96%93%e9%99%90%e5%ae%9a%e3%83%a8%e3%82%ac%e4%bd%93%e9%a8%93%e4%bc%9a-3/
LOCATION:イルチブレインヨガ辻堂スタジオ\, 神奈川県茅ヶ崎市浜竹２丁目２−４ 安達ビル2階\, 2530021\, 日本
END:VEVENT
BEGIN:VEVENT
DTSTART;TZID=Asia/Tokyo:20150116T023000
DTEND;TZID=Asia/Tokyo:20150116T043000
DTSTAMP:20260425T072457
CREATED:20150113T084402Z
LAST-MODIFIED:20150114T024044Z
UID:249-1421375400-1421382600@ilchibrainyoga-tsujido.com
SUMMARY:５日間限定ヨガ体験会
DESCRIPTION:あなたの健康イルチブレインヨガがサポートします　 \nオープンしてもうすぐ５年になり、長く続けていらっしゃる会員さんが多くなりました。 \nそこで今回、辻堂スタジオの会員さんの体験談を載せました。 \n脳活性ヨガを生活に取り入れたことで充実した人生になり、より一層トレーニングに励んでいます。 \n２０代～７０代まで幅広く通っていらっしゃいます。 \nトレーニングの内容もその時に来た会員さんに合わせてしていますので毎回違うのが魅力だという方も・・・。 \nそんな、方たちとトレーニングを始めてみませんか？ \n \nクリックするとPDFファイルが開きます \nイベントのご予約はこちら
URL:https://ilchibrainyoga-tsujido.com/event/%ef%bc%95%e6%97%a5%e9%96%93%e9%99%90%e5%ae%9a%e3%83%a8%e3%82%ac%e4%bd%93%e9%a8%93%e4%bc%9a-2/
LOCATION:イルチブレインヨガ辻堂スタジオ\, 神奈川県茅ヶ崎市浜竹２丁目２−４ 安達ビル2階\, 2530021\, 日本
END:VEVENT
BEGIN:VEVENT
DTSTART;TZID=Asia/Tokyo:20150114T190000
DTEND;TZID=Asia/Tokyo:20150114T210000
DTSTAMP:20260425T072457
CREATED:20150113T015527Z
LAST-MODIFIED:20150113T025756Z
UID:237-1421262000-1421269200@ilchibrainyoga-tsujido.com
SUMMARY:４・８のつく日はヨガの日
DESCRIPTION:４・８のつく日はヨガの日 \n４と８のつく日はクラス体験が１０００円になります。 \n会員さんと一緒に楽しい時間を過ごしませんか？ \nヨガに興味がある方、健康つくりにやってみたい方。 \nそなたでも歓迎いたします。 \nイベントのご予約はこちら
URL:https://ilchibrainyoga-tsujido.com/event/%ef%bc%94%e3%83%bb%ef%bc%98%e3%81%ae%e3%81%a4%e3%81%8f%e6%97%a5%e3%81%af%e3%83%a8%e3%82%ac%e3%81%ae%e6%97%a5-11/
LOCATION:イルチブレインヨガ辻堂スタジオ\, 神奈川県茅ヶ崎市浜竹２丁目２−４ 安達ビル2階\, 2530021\, 日本
END:VEVENT
BEGIN:VEVENT
DTSTART;TZID=Asia/Tokyo:20150114T143000
DTEND;TZID=Asia/Tokyo:20150114T163000
DTSTAMP:20260425T072457
CREATED:20150113T015433Z
LAST-MODIFIED:20150114T095017Z
UID:236-1421245800-1421253000@ilchibrainyoga-tsujido.com
SUMMARY:４・８のつく日はヨガの日
DESCRIPTION:４・８のつく日はヨガの日 \n４と８のつく日はクラス体験が１０００円になります。 \n一緒に楽しい時間を過ごしませんか？ \nヨガに興味がある方、健康つくりにやってみたい方。 \nそなたでも歓迎いたします。 \nイベントのご予約はこちら
URL:https://ilchibrainyoga-tsujido.com/event/%ef%bc%94%e3%83%bb%ef%bc%98%e3%81%ae%e3%81%a4%e3%81%8f%e6%97%a5%e3%81%af%e3%83%a8%e3%82%ac%e3%81%ae%e6%97%a5-10/
LOCATION:イルチブレインヨガ辻堂スタジオ\, 神奈川県茅ヶ崎市浜竹２丁目２−４ 安達ビル2階\, 2530021\, 日本
END:VEVENT
BEGIN:VEVENT
DTSTART;TZID=Asia/Tokyo:20150114T100000
DTEND;TZID=Asia/Tokyo:20150114T100000
DTSTAMP:20260425T072457
CREATED:20150113T015147Z
LAST-MODIFIED:20150114T010931Z
UID:235-1421229600-1421229600@ilchibrainyoga-tsujido.com
SUMMARY:4・８のつく日はヨガの日
DESCRIPTION:４・８のつく日はヨガの日 \n４と８のつく日はクラス体験が１０００円になります。 \nヨガに興味がある方、健康つくりにやってみたい方。 \n一緒に楽しい時間を過ごしませんか？ \nそなたでも歓迎いたします。 \nイベントのご予約はこちら
URL:https://ilchibrainyoga-tsujido.com/event/4%e3%83%bb%ef%bc%98%e3%81%ae%e3%81%a4%e3%81%8f%e6%97%a5%e3%81%af%e3%83%a8%e3%82%ac%e3%81%ae%e6%97%a5/
LOCATION:イルチブレインヨガ辻堂スタジオ\, 神奈川県茅ヶ崎市浜竹２丁目２−４ 安達ビル2階\, 2530021\, 日本
END:VEVENT
BEGIN:VEVENT
DTSTART;TZID=Asia/Tokyo:20141207T143000
DTEND;TZID=Asia/Tokyo:20141207T163000
DTSTAMP:20260425T072457
CREATED:20141125T053622Z
LAST-MODIFIED:20141125T053749Z
UID:226-1417962600-1417969800@ilchibrainyoga-tsujido.com
SUMMARY:これからも私らしく生きていくためにＹＯＧＡで体も心も美しく
DESCRIPTION:これからも私らしく生きていくためにＹＯＧＡで体も心も美しく \n～いくつになっても自分をあきらめない人、応援します～ \n最近、体力・心力がおちているなと感じている方。 \n大丈夫です。このヨガをすることで体の中心の体幹が鍛えられ \n無理なくなりたい自分を創造的に創っていきます。 \n仕事や趣味で充実したい方。いつまでも輝いていたい方。人生の質をよくしたい方。 \n今月、１日限定体験会です。お気軽にお越しください。 \nイベントのご予約はこちら
URL:https://ilchibrainyoga-tsujido.com/event/%e3%81%93%e3%82%8c%e3%81%8b%e3%82%89%e3%82%82%e7%a7%81%e3%82%89%e3%81%97%e3%81%8f%e7%94%9f%e3%81%8d%e3%81%a6%e3%81%84%e3%81%8f%e3%81%9f%e3%82%81%e3%81%ab%ef%bd%99%ef%bd%8f%ef%bd%87%ef%bd%81%e3%81%a7/
LOCATION:イルチブレインヨガ辻堂スタジオ\, 神奈川県茅ヶ崎市浜竹２丁目２−４ 安達ビル2階\, 2530021\, 日本
END:VEVENT
BEGIN:VEVENT
DTSTART;TZID=Asia/Tokyo:20141128T190000
DTEND;TZID=Asia/Tokyo:20141128T210000
DTSTAMP:20260425T072457
CREATED:20141023T050724Z
LAST-MODIFIED:20141023T050724Z
UID:215-1417201200-1417208400@ilchibrainyoga-tsujido.com
SUMMARY:４・８のつく日はヨガの日
DESCRIPTION:４・８のつく日はヨガの日 \n体験してみたいけれどなかなか一歩が踏み出せないという方おすすめ。 \n4日・8日・14日・18日・24日・28日はヨガの日。 \nヨガ体験が通常3000円が1000円でできます。 \nお気軽に体験してみてください。 \n普通のヨガとは違う思ったよりハードと、体験された方からの声が多いですが \nなぜか、終わった後のすっきり感・軽い感じは他では味わえないです。 \n今まで何も運動もしてこなかったという方が、 \nもっと早くここに来ていればよかったという方もいらっしゃいます。 \nまずは、考えるよりも行動を起こしてみませんか。強要はいたしませんので・・・＾＾。 \nイベントのご予約はこちら
URL:https://ilchibrainyoga-tsujido.com/event/%ef%bc%94%e3%83%bb%ef%bc%98%e3%81%ae%e3%81%a4%e3%81%8f%e6%97%a5%e3%81%af%e3%83%a8%e3%82%ac%e3%81%ae%e6%97%a5-9/
LOCATION:イルチブレインヨガ辻堂スタジオ\, 神奈川県茅ヶ崎市浜竹２丁目２−４ 安達ビル2階\, 2530021\, 日本
END:VEVENT
BEGIN:VEVENT
DTSTART;TZID=Asia/Tokyo:20141128T100000
DTEND;TZID=Asia/Tokyo:20141128T120000
DTSTAMP:20260425T072457
CREATED:20141023T050604Z
LAST-MODIFIED:20141023T050604Z
UID:214-1417168800-1417176000@ilchibrainyoga-tsujido.com
SUMMARY:４・８のつく日はヨガの日
DESCRIPTION:４・８のつく日はヨガの日 \n体験してみたいけれどなかなか一歩が踏み出せないという方おすすめ。 \n4日・8日・14日・18日・24日・28日はヨガの日。 \nヨガ体験が通常3000円が1000円でできます。 \nお気軽に体験してみてください。 \n普通のヨガとは違う思ったよりハードと、体験された方からの声が多いですが \nなぜか、終わった後のすっきり感・軽い感じは他では味わえないです。 \n今まで何も運動もしてこなかったという方が、 \nもっと早くここに来ていればよかったという方もいらっしゃいます。 \nまずは、考えるよりも行動を起こしてみませんか。強要はいたしませんので・・・＾＾。 \nイベントのご予約はこちら
URL:https://ilchibrainyoga-tsujido.com/event/%ef%bc%94%e3%83%bb%ef%bc%98%e3%81%ae%e3%81%a4%e3%81%8f%e6%97%a5%e3%81%af%e3%83%a8%e3%82%ac%e3%81%ae%e6%97%a5-8/
LOCATION:イルチブレインヨガ辻堂スタジオ\, 神奈川県茅ヶ崎市浜竹２丁目２−４ 安達ビル2階\, 2530021\, 日本
END:VEVENT
END:VCALENDAR