BEGIN:VCALENDAR
VERSION:2.0
PRODID:-//【湘南茅ヶ崎 平塚 藤沢ヨガ】イルチブレインヨガ辻堂スタジオ｜辻堂駅南口より徒歩8分 体と心と脳のヨガ - ECPv6.15.20//NONSGML v1.0//EN
CALSCALE:GREGORIAN
METHOD:PUBLISH
X-WR-CALNAME:【湘南茅ヶ崎 平塚 藤沢ヨガ】イルチブレインヨガ辻堂スタジオ｜辻堂駅南口より徒歩8分 体と心と脳のヨガ
X-ORIGINAL-URL:https://ilchibrainyoga-tsujido.com
X-WR-CALDESC:【湘南茅ヶ崎 平塚 藤沢ヨガ】イルチブレインヨガ辻堂スタジオ｜辻堂駅南口より徒歩8分 体と心と脳のヨガ のイベント
REFRESH-INTERVAL;VALUE=DURATION:PT1H
X-Robots-Tag:noindex
X-PUBLISHED-TTL:PT1H
BEGIN:VTIMEZONE
TZID:Asia/Tokyo
BEGIN:STANDARD
TZOFFSETFROM:+0900
TZOFFSETTO:+0900
TZNAME:JST
DTSTART:20140101T000000
END:STANDARD
END:VTIMEZONE
BEGIN:VEVENT
DTSTART;TZID=Asia/Tokyo:20151224T190000
DTEND;TZID=Asia/Tokyo:20151224T210000
DTSTAMP:20260424T160711
CREATED:20151122T124700Z
LAST-MODIFIED:20151122T124700Z
UID:779-1450983600-1450990800@ilchibrainyoga-tsujido.com
SUMMARY:４のつく日はヨガの日
DESCRIPTION:４のつく日はヨガの日。 \nヨガが体と心をつなげるという意味があります。 \n質のよい、呼吸と瞑想でその効果があらわれます。 \nトレーニングでは、体をよくほぐしてあげて、複式呼吸が自然にできるようにします。 \nイルチブレインヨガでは、脳科学と東洋医学融合した画期的なヨガ。 \nその効果が世界的にも認められています。 \n飽きずに、健康つくりにも役立つ脳活性ヨガ。 \n体験費がお安いに日体験してみませんか？ \nイベントのご予約はこちら
URL:https://ilchibrainyoga-tsujido.com/event/%ef%bc%94%e3%81%ae%e3%81%a4%e3%81%8f%e6%97%a5%e3%81%af%e3%83%a8%e3%82%ac%e3%81%ae%e6%97%a5-10/
LOCATION:イルチブレインヨガ辻堂スタジオ\, 神奈川県茅ヶ崎市浜竹２丁目２−４ 安達ビル2階\, 2530021\, 日本
END:VEVENT
BEGIN:VEVENT
DTSTART;TZID=Asia/Tokyo:20151224T143000
DTEND;TZID=Asia/Tokyo:20151224T163000
DTSTAMP:20260424T160711
CREATED:20151122T124111Z
LAST-MODIFIED:20151122T124111Z
UID:778-1450967400-1450974600@ilchibrainyoga-tsujido.com
SUMMARY:４のつく日はヨガの日
DESCRIPTION:４のつく日はヨガの日。 \nヨガが体と心をつなげるという意味があります。 \n質のよい、呼吸と瞑想でその効果があらわれます。 \nトレーニングでは、体をよくほぐしてあげて、複式呼吸が自然にできるようにします。 \nイルチブレインヨガでは、脳科学と東洋医学融合した画期的なヨガ。 \nその効果が世界的にも認められています。 \n飽きずに、健康つくりにも役立つ脳活性ヨガ。 \n体験費がお安いに日体験してみませんか？ \nイベントのご予約はこちら
URL:https://ilchibrainyoga-tsujido.com/event/%ef%bc%94%e3%81%ae%e3%81%a4%e3%81%8f%e6%97%a5%e3%81%af%e3%83%a8%e3%82%ac%e3%81%ae%e6%97%a5-9/
LOCATION:イルチブレインヨガ辻堂スタジオ\, 神奈川県茅ヶ崎市浜竹２丁目２−４ 安達ビル2階\, 2530021\, 日本
END:VEVENT
BEGIN:VEVENT
DTSTART;TZID=Asia/Tokyo:20151212T083000
DTEND;TZID=Asia/Tokyo:20151212T210000
DTSTAMP:20260424T160711
CREATED:20151122T125202Z
LAST-MODIFIED:20151122T125428Z
UID:780-1449909000-1449954000@ilchibrainyoga-tsujido.com
SUMMARY:４番チャクラトレーニング
DESCRIPTION:あなたは、幸せですか？自分の生きたい生き方をしていますか？ \n この答えに堂々と「YES」と答えられるでしょうか？\n\nもし、そうでないとしたらもう１度自分を振り返る時間をとってあげてください。\n\n１人では、なかなかできないことが４番チャクラトレーニングでは１日でその答えが自然と湧き出てきます。\n\nもう１人の自分。本当の自分に出会える時間。\n\n自分の価値を見つけ、人生の意欲がわき、自分も幸せで、周りも幸せにできる自分。\n\nそんな自分にであいたくないですか？\n\n※このトレーニングを受ける前にスタジオクラストレーニング受講。\n　４番チャクラトレーニングの準備をします。\n\n イベントのご予約はこちら
URL:https://ilchibrainyoga-tsujido.com/event/%ef%bc%94%e7%95%aa%e3%83%81%e3%83%a3%e3%82%af%e3%83%a9%e3%83%88%e3%83%ac%e3%83%bc%e3%83%8b%e3%83%b3%e3%82%b0-2/
LOCATION:川崎教育院\, 川崎市川崎区小川町15－13\, 神奈川県
END:VEVENT
BEGIN:VEVENT
DTSTART;TZID=Asia/Tokyo:20151204T190000
DTEND;TZID=Asia/Tokyo:20151204T210000
DTSTAMP:20260424T160711
CREATED:20151122T123951Z
LAST-MODIFIED:20151122T123951Z
UID:777-1449255600-1449262800@ilchibrainyoga-tsujido.com
SUMMARY:４日はヨガの日
DESCRIPTION:４のつく日はヨガの日。 \nヨガが体と心をつなげるという意味があります。 \n質のよい、呼吸と瞑想でその効果があらわれます。 \nトレーニングでは、体をよくほぐしてあげて、複式呼吸が自然にできるようにします。 \nイルチブレインヨガでは、脳科学と東洋医学融合した画期的なヨガ。 \nその効果が世界的にも認められています。 \n飽きずに、健康つくりにも役立つ脳活性ヨガ。 \n体験費がお安いに日体験してみませんか？ \nイベントのご予約はこちら
URL:https://ilchibrainyoga-tsujido.com/event/%ef%bc%94%e6%97%a5%e3%81%af%e3%83%a8%e3%82%ac%e3%81%ae%e6%97%a5-20/
LOCATION:イルチブレインヨガ辻堂スタジオ\, 神奈川県茅ヶ崎市浜竹２丁目２−４ 安達ビル2階\, 2530021\, 日本
END:VEVENT
BEGIN:VEVENT
DTSTART;TZID=Asia/Tokyo:20151204T100000
DTEND;TZID=Asia/Tokyo:20151204T120000
DTSTAMP:20260424T160711
CREATED:20151122T123737Z
LAST-MODIFIED:20151122T123737Z
UID:776-1449223200-1449230400@ilchibrainyoga-tsujido.com
SUMMARY:４日はヨガの日
DESCRIPTION:４のつく日はヨガの日。 \nヨガが体と心をつなげるという意味があります。 \n質のよい、呼吸と瞑想でその効果があらわれます。 \nトレーニングでは、体をよくほぐしてあげて、複式呼吸が自然にできるようにします。 \nイルチブレインヨガでは、脳科学と東洋医学融合した画期的なヨガ。 \nその効果が世界的にも認められています。 \n飽きずに、健康つくりにも役立つ脳活性ヨガ。 \n体験費がお安いに日体験してみませんか？ \nイベントのご予約はこちら
URL:https://ilchibrainyoga-tsujido.com/event/%ef%bc%94%e6%97%a5%e3%81%af%e3%83%a8%e3%82%ac%e3%81%ae%e6%97%a5-19/
LOCATION:イルチブレインヨガ辻堂スタジオ\, 神奈川県茅ヶ崎市浜竹２丁目２−４ 安達ビル2階\, 2530021\, 日本
END:VEVENT
BEGIN:VEVENT
DTSTART;TZID=Asia/Tokyo:20151124T190000
DTEND;TZID=Asia/Tokyo:20151124T210000
DTSTAMP:20260424T160711
CREATED:20151102T134159Z
LAST-MODIFIED:20151102T134159Z
UID:766-1448391600-1448398800@ilchibrainyoga-tsujido.com
SUMMARY:４のつく日はヨガの日
DESCRIPTION:４のつく日はヨガの日。 \nヨガが体と心をつなげるという意味があります。 \n質のよい、呼吸と瞑想でその効果があらわれます。 \nトレーニングでは、体をよくほぐしてあげて、複式呼吸が自然にできるようにします。 \nイルチブレインヨガでは、脳科学と東洋医学融合した画期的なヨガ。 \nその効果が世界的にも認められています。 \n飽きずに、健康つくりにも役立つ脳活性ヨガ。 \n体験費がお安いに日体験してみませんか？ \nイベントのご予約はこちら
URL:https://ilchibrainyoga-tsujido.com/event/%ef%bc%94%e3%81%ae%e3%81%a4%e3%81%8f%e6%97%a5%e3%81%af%e3%83%a8%e3%82%ac%e3%81%ae%e6%97%a5-8/
LOCATION:イルチブレインヨガ辻堂スタジオ\, 神奈川県茅ヶ崎市浜竹２丁目２−４ 安達ビル2階\, 2530021\, 日本
END:VEVENT
BEGIN:VEVENT
DTSTART;TZID=Asia/Tokyo:20151124T143000
DTEND;TZID=Asia/Tokyo:20151124T163000
DTSTAMP:20260424T160711
CREATED:20151102T134048Z
LAST-MODIFIED:20151102T134048Z
UID:765-1448375400-1448382600@ilchibrainyoga-tsujido.com
SUMMARY:４のつく日はヨガの日
DESCRIPTION:４のつく日はヨガの日。 \nヨガが体と心をつなげるという意味があります。 \n質のよい、呼吸と瞑想でその効果があらわれます。 \nトレーニングでは、体をよくほぐしてあげて、複式呼吸が自然にできるようにします。 \nイルチブレインヨガでは、脳科学と東洋医学融合した画期的なヨガ。 \nその効果が世界的にも認められています。 \n飽きずに、健康つくりにも役立つ脳活性ヨガ。 \n体験費がお安いに日体験してみませんか？ \nイベントのご予約はこちら
URL:https://ilchibrainyoga-tsujido.com/event/%ef%bc%94%e3%81%ae%e3%81%a4%e3%81%8f%e6%97%a5%e3%81%af%e3%83%a8%e3%82%ac%e3%81%ae%e6%97%a5-7/
LOCATION:イルチブレインヨガ辻堂スタジオ\, 神奈川県茅ヶ崎市浜竹２丁目２−４ 安達ビル2階\, 2530021\, 日本
END:VEVENT
BEGIN:VEVENT
DTSTART;TZID=Asia/Tokyo:20151121T083000
DTEND;TZID=Asia/Tokyo:20151121T210000
DTSTAMP:20260424T160711
CREATED:20151102T134419Z
LAST-MODIFIED:20151102T134434Z
UID:767-1448094600-1448139600@ilchibrainyoga-tsujido.com
SUMMARY:4番チャクラトレーニング
DESCRIPTION:あなたは、幸せですか？自分の生きたい生き方をしていますか？ \n この答えに堂々と「YES」と答えられるでしょうか？\n\nもし、そうでないとしたらもう１度自分を振り返る時間をとってあげてください。\n\n１人では、なかなかできないことが４番チャクラトレーニングでは１日でその答えが自然と湧き出てきます。\n\nもう１人の自分。本当の自分に出会える時間。\n\n自分の価値を見つけ、人生の意欲がわき、自分も幸せで、周りも幸せにできる自分。\n\nそんな自分にであいたくないですか？\n\n※このトレーニングを受ける前にスタジオクラストレーニング受講。\n　４番チャクラトレーニングの準備をします。\n\nイベントのご予約はこちら
URL:https://ilchibrainyoga-tsujido.com/event/4%e7%95%aa%e3%83%81%e3%83%a3%e3%82%af%e3%83%a9%e3%83%88%e3%83%ac%e3%83%bc%e3%83%8b%e3%83%b3%e3%82%b0/
LOCATION:川崎教育院\, 川崎市川崎区小川町15－13\, 神奈川県
END:VEVENT
BEGIN:VEVENT
DTSTART;TZID=Asia/Tokyo:20151114T103000
DTEND;TZID=Asia/Tokyo:20151114T123000
DTSTAMP:20260424T160711
CREATED:20151102T133932Z
LAST-MODIFIED:20151102T133932Z
UID:764-1447497000-1447504200@ilchibrainyoga-tsujido.com
SUMMARY:４のつく日はヨガの日
DESCRIPTION:４のつく日はヨガの日。 \nヨガが体と心をつなげるという意味があります。 \n質のよい、呼吸と瞑想でその効果があらわれます。 \nトレーニングでは、体をよくほぐしてあげて、複式呼吸が自然にできるようにします。 \nイルチブレインヨガでは、脳科学と東洋医学融合した画期的なヨガ。 \nその効果が世界的にも認められています。 \n飽きずに、健康つくりにも役立つ脳活性ヨガ。 \n体験費がお安いに日体験してみませんか？ \nイベントのご予約はこちら
URL:https://ilchibrainyoga-tsujido.com/event/%ef%bc%94%e3%81%ae%e3%81%a4%e3%81%8f%e6%97%a5%e3%81%af%e3%83%a8%e3%82%ac%e3%81%ae%e6%97%a5-6/
LOCATION:イルチブレインヨガ辻堂スタジオ\, 神奈川県茅ヶ崎市浜竹２丁目２−４ 安達ビル2階\, 2530021\, 日本
END:VEVENT
BEGIN:VEVENT
DTSTART;TZID=Asia/Tokyo:20151104T190000
DTEND;TZID=Asia/Tokyo:20151104T210000
DTSTAMP:20260424T160711
CREATED:20151102T133734Z
LAST-MODIFIED:20151102T133734Z
UID:763-1446663600-1446670800@ilchibrainyoga-tsujido.com
SUMMARY:4日はヨガの日
DESCRIPTION:４日はヨガの日。 \nヨガが体と心をつなげるという意味があります。 \n質のよい、呼吸と瞑想でその効果があらわれます。 \nトレーニングでは、体をよくほぐしてあげて、複式呼吸が自然にできるようにします。 \nイルチブレインヨガでは、脳科学と東洋医学融合した画期的なヨガ。 \nその効果が世界的にも認められています。 \n飽きずに、健康つくりにも役立つ脳活性ヨガ。 \n体験費がお安いに日体験してみませんか？
URL:https://ilchibrainyoga-tsujido.com/event/4%e6%97%a5%e3%81%af%e3%83%a8%e3%82%ac%e3%81%ae%e6%97%a5-8/
LOCATION:イルチブレインヨガ辻堂スタジオ\, 神奈川県茅ヶ崎市浜竹２丁目２−４ 安達ビル2階\, 2530021\, 日本
END:VEVENT
BEGIN:VEVENT
DTSTART;TZID=Asia/Tokyo:20151104T100000
DTEND;TZID=Asia/Tokyo:20151104T120000
DTSTAMP:20260424T160711
CREATED:20151102T133635Z
LAST-MODIFIED:20151102T133635Z
UID:762-1446631200-1446638400@ilchibrainyoga-tsujido.com
SUMMARY:4日はヨガの日
DESCRIPTION:４日はヨガの日。 \nヨガが体と心をつなげるという意味があります。 \n質のよい、呼吸と瞑想でその効果があらわれます。 \nトレーニングでは、体をよくほぐしてあげて、複式呼吸が自然にできるようにします。 \nイルチブレインヨガでは、脳科学と東洋医学融合した画期的なヨガ。 \nその効果が世界的にも認められています。 \n飽きずに、健康つくりにも役立つ脳活性ヨガ。 \n体験費がお安いに日体験してみませんか？ \nイベントのご予約はこちら
URL:https://ilchibrainyoga-tsujido.com/event/4%e6%97%a5%e3%81%af%e3%83%a8%e3%82%ac%e3%81%ae%e6%97%a5-7/
LOCATION:イルチブレインヨガ辻堂スタジオ\, 神奈川県茅ヶ崎市浜竹２丁目２−４ 安達ビル2階\, 2530021\, 日本
END:VEVENT
BEGIN:VEVENT
DTSTART;TZID=Asia/Tokyo:20151025T083000
DTEND;TZID=Asia/Tokyo:20151025T203000
DTSTAMP:20260424T160711
CREATED:20151001T120439Z
LAST-MODIFIED:20151012T150033Z
UID:745-1445761800-1445805000@ilchibrainyoga-tsujido.com
SUMMARY:４番チャクラトレーニング
DESCRIPTION:あなたは、幸せですか？自分の生きたい生き方をしていますか？ \n この答えに堂々と「YES」と答えられるでしょうか？\n\nもし、そうでないとしたらもう１度自分を振り返る時間をとってあげてください。\n\n１人では、なかなかできないことが４番チャクラトレーニングでは１日でその答えが自然と湧き出てきます。\n\nもう１人の自分。本当の自分に出会える時間。\n\n自分の価値を見つけ、人生の意欲がわき、自分も幸せで、周りも幸せにできる自分。\n\nそんな自分にであいたくないですか？\n\n※このトレーニングを受ける前にスタジオクラストレーニング受講。\n　４番チャクラトレーニングの準備をします。\n\n イベントのご予約はこちら
URL:https://ilchibrainyoga-tsujido.com/event/%ef%bc%94%e7%95%aa%e3%83%81%e3%83%a3%e3%82%af%e3%83%a9%e3%83%88%e3%83%ac%e3%83%bc%e3%83%8b%e3%83%b3%e3%82%b0/
LOCATION:川崎教育院\, 川崎市川崎区小川町15－13\, 神奈川県
END:VEVENT
BEGIN:VEVENT
DTSTART;TZID=Asia/Tokyo:20151024T103000
DTEND;TZID=Asia/Tokyo:20151024T123000
DTSTAMP:20260424T160711
CREATED:20151001T112942Z
LAST-MODIFIED:20151001T112942Z
UID:744-1445682600-1445689800@ilchibrainyoga-tsujido.com
SUMMARY:4のつく日はヨガの日
DESCRIPTION:４日はヨガの日。 \nヨガが体と心をつなげるという意味があります。 \n質のよい、呼吸と瞑想でその効果があらわれます。 \nトレーニングでは、体をよくほぐしてあげて、複式呼吸が自然にできるようにします。 \nイルチブレインヨガでは、脳科学と東洋医学融合した画期的なヨガ。 \nその効果が世界的にも認められています。 \n飽きずに、健康つくりにも役立つ脳活性ヨガ。 \n体験費がお安いに日体験してみませんか？ \n体験ご希望の方は、イベントをクリックしてください。 \nイベントのご予約はこちら
URL:https://ilchibrainyoga-tsujido.com/event/4%e3%81%ae%e3%81%a4%e3%81%8f%e6%97%a5%e3%81%af%e3%83%a8%e3%82%ac%e3%81%ae%e6%97%a5-3/
LOCATION:イルチブレインヨガ辻堂スタジオ\, 神奈川県茅ヶ崎市浜竹２丁目２−４ 安達ビル2階\, 2530021\, 日本
END:VEVENT
BEGIN:VEVENT
DTSTART;TZID=Asia/Tokyo:20151014T190000
DTEND;TZID=Asia/Tokyo:20151014T210000
DTSTAMP:20260424T160711
CREATED:20151001T112751Z
LAST-MODIFIED:20151001T112751Z
UID:743-1444849200-1444856400@ilchibrainyoga-tsujido.com
SUMMARY:4のつく日はヨガの日
DESCRIPTION:４日はヨガの日。 \nヨガが体と心をつなげるという意味があります。 \n質のよい、呼吸と瞑想でその効果があらわれます。 \nトレーニングでは、体をよくほぐしてあげて、複式呼吸が自然にできるようにします。 \nイルチブレインヨガでは、脳科学と東洋医学融合した画期的なヨガ。 \nその効果が世界的にも認められています。 \n飽きずに、健康つくりにも役立つ脳活性ヨガ。 \n体験費がお安いに日体験してみませんか？ \n体験ご希望の方は、イベントをクリックしてください。 \nイベントのご予約はこちら
URL:https://ilchibrainyoga-tsujido.com/event/4%e3%81%ae%e3%81%a4%e3%81%8f%e6%97%a5%e3%81%af%e3%83%a8%e3%82%ac%e3%81%ae%e6%97%a5-2/
LOCATION:イルチブレインヨガ辻堂スタジオ\, 神奈川県茅ヶ崎市浜竹２丁目２−４ 安達ビル2階\, 2530021\, 日本
END:VEVENT
BEGIN:VEVENT
DTSTART;TZID=Asia/Tokyo:20151014T100000
DTEND;TZID=Asia/Tokyo:20151014T120000
DTSTAMP:20260424T160711
CREATED:20151001T112621Z
LAST-MODIFIED:20151001T112621Z
UID:742-1444816800-1444824000@ilchibrainyoga-tsujido.com
SUMMARY:４のつく日はヨガの日
DESCRIPTION:４日はヨガの日。 \nヨガが体と心をつなげるという意味があります。 \n質のよい、呼吸と瞑想でその効果があらわれます。 \nトレーニングでは、体をよくほぐしてあげて、複式呼吸が自然にできるようにします。 \nイルチブレインヨガでは、脳科学と東洋医学融合した画期的なヨガ。 \nその効果が世界的にも認められています。 \n飽きずに、健康つくりにも役立つ脳活性ヨガ。 \n体験費がお安いに日体験してみませんか？ \n体験ご希望の方は、イベントをクリックしてください。 \nイベントのご予約はこちら
URL:https://ilchibrainyoga-tsujido.com/event/%ef%bc%94%e3%81%ae%e3%81%a4%e3%81%8f%e6%97%a5%e3%81%af%e3%83%a8%e3%82%ac%e3%81%ae%e6%97%a5-5/
LOCATION:イルチブレインヨガ辻堂スタジオ\, 神奈川県茅ヶ崎市浜竹２丁目２−４ 安達ビル2階\, 2530021\, 日本
END:VEVENT
BEGIN:VEVENT
DTSTART;TZID=Asia/Tokyo:20151011T150000
DTEND;TZID=Asia/Tokyo:20151011T170000
DTSTAMP:20260424T160711
CREATED:20151001T090326Z
LAST-MODIFIED:20151001T090326Z
UID:737-1444575600-1444582800@ilchibrainyoga-tsujido.com
SUMMARY:丹無道
DESCRIPTION:イルチブレインヨガ辻堂スタジオにて \n丹無道トレーナーを招待しての特別トレーニングがあります。 \n気功の要素を取り入れた丹無道は、気の流れに呼吸を合わせて \nゆったりした動きに体の中からほぐされて、自分の内面へと入っていきます。 \n体と1つになり。呼吸と1つになり、 \n深く感じていくとすべてと1つになる感じ。 \n初心者でも大丈夫です。 \n日常の生活からはなれて自分の内面と会話してみてください。＾＾ \n 
URL:https://ilchibrainyoga-tsujido.com/event/%e4%b8%b9%e7%84%a1%e9%81%93/
LOCATION:イルチブレインヨガ辻堂スタジオ\, 神奈川県茅ヶ崎市浜竹２丁目２−４ 安達ビル2階\, 2530021\, 日本
END:VEVENT
BEGIN:VEVENT
DTSTART;TZID=Asia/Tokyo:20151008T190000
DTEND;TZID=Asia/Tokyo:20151008T213000
DTSTAMP:20260424T160711
CREATED:20151001T122024Z
LAST-MODIFIED:20151001T122024Z
UID:747-1444330800-1444339800@ilchibrainyoga-tsujido.com
SUMMARY:ソーラメソッド
DESCRIPTION:太陽のように明るく輝くような存在。 \n誰でもそんな人間になりたいけれど、社会生活の中での人間関係・社会のシステムにあわせて \n自分を見失っていないでしょうか？ \nソーラーメソッドは複雑な社会の中で自分自身をしかっりもてるような \n原理・体を動かすトレーニングをしていきます。 \n自分の今までの生き方に少しずつ変化が起きていき \n過去の後悔、未来の心配に時間を費やすことが無くなり \n今をよりよく生きていく生き方にチェンジしていきます。 \n講師も25年のキャリアを持つベテラントレーナーです。 \n興味のある方は、まずは当スタジオにご連絡ください。 \n※会員割引があります。 \nイベントのご予約はこちら\n 
URL:https://ilchibrainyoga-tsujido.com/event/%e3%82%bd%e3%83%bc%e3%83%a9%e3%83%a1%e3%82%bd%e3%83%83%e3%83%89/
LOCATION:イルチブレインヨガ横浜スタジオ\, 横浜市神奈川区鶴屋町1－8－1\, 神奈川県
END:VEVENT
BEGIN:VEVENT
DTSTART;TZID=Asia/Tokyo:20151004T103000
DTEND;TZID=Asia/Tokyo:20151004T123000
DTSTAMP:20260424T160711
CREATED:20151001T112244Z
LAST-MODIFIED:20151001T112244Z
UID:741-1443954600-1443961800@ilchibrainyoga-tsujido.com
SUMMARY:４日はヨガの日
DESCRIPTION:４日はヨガの日。 \nヨガが体と心をつなげるという意味があります。 \n質のよい、呼吸と瞑想でその効果があらわれます。 \nトレーニングでは、体をよくほぐしてあげて、複式呼吸が自然にできるようにします。 \nイルチブレインヨガでは、脳科学と東洋医学融合した画期的なヨガ。 \nその効果が世界的にも認められています。 \n飽きずに、健康つくりにも役立つ脳活性ヨガ。 \n体験費がお安いに日体験してみませんか？ \n体験ご希望の方は、イベントをクリックしてください。 \nイベントのご予約はこちら\n 
URL:https://ilchibrainyoga-tsujido.com/event/%ef%bc%94%e6%97%a5%e3%81%af%e3%83%a8%e3%82%ac%e3%81%ae%e6%97%a5-18/
LOCATION:イルチブレインヨガ辻堂スタジオ\, 神奈川県茅ヶ崎市浜竹２丁目２−４ 安達ビル2階\, 2530021\, 日本
END:VEVENT
BEGIN:VEVENT
DTSTART;TZID=Asia/Tokyo:20150925T133000
DTEND;TZID=Asia/Tokyo:20150925T143000
DTSTAMP:20260424T160711
CREATED:20150904T000422Z
LAST-MODIFIED:20150904T000704Z
UID:713-1443187800-1443191400@ilchibrainyoga-tsujido.com
SUMMARY:オーラ撮影
DESCRIPTION:スタジオの駐車場でオーラ撮影診断イベントを開催します。 \n時間は13:30～14:30 \nオーラ撮影はその方の生体エネルギーを特殊な機械で読み取り \nパソコン上で色として映し出すものです。 \n性格も様々のように、色もそれぞれ違い何色か入り混じっている方も・・・。 \nそして、健康チェックもできます。 \n体・心・精神的なバランスなど今の状態が視覚でよく分かります。 \n５分くらいで撮れますので興味のある方はぜひいらしてください。 \nお待ちしています。 \n注：雨天中止(予約いただいた方は雨のときは屋内でお撮りします） \nイベントのご予約はこちら
URL:https://ilchibrainyoga-tsujido.com/event/%e3%82%aa%e3%83%bc%e3%83%a9%e6%92%ae%e5%bd%b1-2/
LOCATION:イルチブレインヨガ辻堂スタジオ\, 神奈川県茅ヶ崎市浜竹２丁目２−４ 安達ビル2階\, 2530021\, 日本
END:VEVENT
BEGIN:VEVENT
DTSTART;TZID=Asia/Tokyo:20150924T023000
DTEND;TZID=Asia/Tokyo:20150924T043000
DTSTAMP:20260424T160711
CREATED:20150831T104852Z
LAST-MODIFIED:20150831T104852Z
UID:699-1443061800-1443069000@ilchibrainyoga-tsujido.com
SUMMARY:4日はヨガの日
DESCRIPTION:４日はヨガの日。 \nヨガが体と心をつなげるという意味があります。 \n質のよい、呼吸と瞑想でその効果があらわれます。 \nトレーニングでは、体をよくほぐしてあげて、複式呼吸が自然にできるようにします。 \nイルチブレインヨガでは、脳科学と東洋医学融合した画期的なヨガ。 \nその効果が世界的にも認められています。 \n飽きずに、健康つくりにも役立つ脳活性ヨガ。 \n体験費がお安いに日体験してみませんか？ \n体験ご希望の方は、イベントをクリックしてください。 \nイベントのご予約はこちら
URL:https://ilchibrainyoga-tsujido.com/event/4%e6%97%a5%e3%81%af%e3%83%a8%e3%82%ac%e3%81%ae%e6%97%a5-6/
LOCATION:イルチブレインヨガ辻堂スタジオ\, 神奈川県茅ヶ崎市浜竹２丁目２−４ 安達ビル2階\, 2530021\, 日本
END:VEVENT
BEGIN:VEVENT
DTSTART;TZID=Asia/Tokyo:20150918T100000
DTEND;TZID=Asia/Tokyo:20150918T120000
DTSTAMP:20260424T160711
CREATED:20150831T141637Z
LAST-MODIFIED:20150831T141637Z
UID:706-1442570400-1442577600@ilchibrainyoga-tsujido.com
SUMMARY:8のつく日はレディースデー
DESCRIPTION:8のつく日はレディースデー \n当スタジオでは、20代～70代の方が通っています。 \n長い方では、4年目という方もいます。 \n週に1回～2回。多い方では3回くらい来る方も。 \n以前よりも体が柔軟になった。強くなった。健康になった。 \n病気の改善。老化予防。心が前向きになった。集中力がついた。 \nなどなど効果はいろいろたくさん。 \nその方の体や心の状態もお聞きして個人ケアーもしています。 \n目的が達成できるようにお手伝いいたします。 \nイベントのご予約はこちら
URL:https://ilchibrainyoga-tsujido.com/event/8%e3%81%ae%e3%81%a4%e3%81%8f%e6%97%a5%e3%81%af%e3%83%ac%e3%83%87%e3%82%a3%e3%83%bc%e3%82%b9%e3%83%87%e3%83%bc-11/
LOCATION:イルチブレインヨガ辻堂スタジオ\, 神奈川県茅ヶ崎市浜竹２丁目２−４ 安達ビル2階\, 2530021\, 日本
END:VEVENT
BEGIN:VEVENT
DTSTART;TZID=Asia/Tokyo:20150918T070000
DTEND;TZID=Asia/Tokyo:20150918T210000
DTSTAMP:20260424T160711
CREATED:20150901T093622Z
LAST-MODIFIED:20150901T093622Z
UID:708-1442559600-1442610000@ilchibrainyoga-tsujido.com
SUMMARY:8のつく日はレディースデー
DESCRIPTION:8のつく日はレディースデー \n当スタジオでは、20代～70代の方が通っています。 \n長い方では、4年目という方もいます。 \n週に1回～2回。多い方では3回くらい来る方も。 \n以前よりも体が柔軟になった。強くなった。健康になった。 \n病気の改善。老化予防。心が前向きになった。集中力がついた。 \nなどなど効果はいろいろたくさん。 \nその方の体や心の状態もお聞きして個人ケアーもしています。 \n目的が達成できるようにお手伝いいたします。 \nイベントのご予約はこちら
URL:https://ilchibrainyoga-tsujido.com/event/8%e3%81%ae%e3%81%a4%e3%81%8f%e6%97%a5%e3%81%af%e3%83%ac%e3%83%87%e3%82%a3%e3%83%bc%e3%82%b9%e3%83%87%e3%83%bc-12/
LOCATION:イルチブレインヨガ辻堂スタジオ\, 神奈川県茅ヶ崎市浜竹２丁目２−４ 安達ビル2階\, 2530021\, 日本
END:VEVENT
BEGIN:VEVENT
DTSTART;TZID=Asia/Tokyo:20150911T133000
DTEND;TZID=Asia/Tokyo:20150911T143000
DTSTAMP:20260424T160711
CREATED:20150904T000302Z
LAST-MODIFIED:20150904T000629Z
UID:712-1441978200-1441981800@ilchibrainyoga-tsujido.com
SUMMARY:オーラ撮影
DESCRIPTION:スタジオの駐車場でオーラ撮影診断イベントを開催します。 \n時間は13:30～14:30 \nオーラ撮影はその方の生体エネルギーを特殊な機械で読み取り \nパソコン上で色として映し出すものです。 \n性格も様々のように、色もそれぞれ違い何色か入り混じっている方も・・・。 \nそして、健康チェックもできます。 \n体・心・精神的なバランスなど今の状態が視覚でよく分かります。 \n５分くらいで撮れますので興味のある方はぜひいらしてください。 \nお待ちしています。 \n注：雨天中止(予約いただいた方は雨のときは屋内でお撮りします） \nイベントのご予約はこちら
URL:https://ilchibrainyoga-tsujido.com/event/%e3%82%aa%e3%83%bc%e3%83%a9%e6%92%ae%e5%bd%b1/
LOCATION:イルチブレインヨガ辻堂スタジオ\, 神奈川県茅ヶ崎市浜竹２丁目２−４ 安達ビル2階\, 2530021\, 日本
END:VEVENT
BEGIN:VEVENT
DTSTART;TZID=Asia/Tokyo:20150908T070000
DTEND;TZID=Asia/Tokyo:20150908T090000
DTSTAMP:20260424T160711
CREATED:20150831T141526Z
LAST-MODIFIED:20150831T141526Z
UID:705-1441695600-1441702800@ilchibrainyoga-tsujido.com
SUMMARY:8のつく日はレディースデー
DESCRIPTION:8のつく日はレディースデー \n当スタジオでは、20代～70代の方が通っています。 \n長い方では、4年目という方もいます。 \n週に1回～2回。多い方では3回くらい来る方も。 \n以前よりも体が柔軟になった。強くなった。健康になった。 \n病気の改善。老化予防。心が前向きになった。集中力がついた。 \nなどなど効果はいろいろたくさん。 \nその方の体や心の状態もお聞きして個人ケアーもしています。 \n目的が達成できるようにお手伝いいたします。 \nイベントのご予約はこちら
URL:https://ilchibrainyoga-tsujido.com/event/8%e3%81%ae%e3%81%a4%e3%81%8f%e6%97%a5%e3%81%af%e3%83%ac%e3%83%87%e3%82%a3%e3%83%bc%e3%82%b9%e3%83%87%e3%83%bc-10/
LOCATION:イルチブレインヨガ辻堂スタジオ\, 神奈川県茅ヶ崎市浜竹２丁目２−４ 安達ビル2階\, 2530021\, 日本
END:VEVENT
BEGIN:VEVENT
DTSTART;TZID=Asia/Tokyo:20150908T023000
DTEND;TZID=Asia/Tokyo:20150908T043000
DTSTAMP:20260424T160711
CREATED:20150831T141029Z
LAST-MODIFIED:20150831T141029Z
UID:703-1441679400-1441686600@ilchibrainyoga-tsujido.com
SUMMARY:8のつく日はレディースデー
DESCRIPTION:8のつく日はレディースデー \n当スタジオでは、20代～70代の方が通っています。 \n長い方では、4年目という方もいます。 \n週に1回～2回。多い方では3回くらい来る方も。 \n以前よりも体が柔軟になった。強くなった。健康になった。 \n病気の改善。老化予防。心が前向きになった。集中力がついた。 \nなどなど効果はいろいろたくさん。 \nその方の体や心の状態もお聞きして個人ケアーもしています。 \n目的が達成できるようにお手伝いいたします。 \nイベントのご予約はこちら
URL:https://ilchibrainyoga-tsujido.com/event/8%e3%81%ae%e3%81%a4%e3%81%8f%e6%97%a5%e3%81%af%e3%83%ac%e3%83%87%e3%82%a3%e3%83%bc%e3%82%b9%e3%83%87%e3%83%bc-9/
LOCATION:イルチブレインヨガ辻堂スタジオ\, 神奈川県茅ヶ崎市浜竹２丁目２−４ 安達ビル2階\, 2530021\, 日本
END:VEVENT
BEGIN:VEVENT
DTSTART;TZID=Asia/Tokyo:20150904T100000
DTEND;TZID=Asia/Tokyo:20150904T120000
DTSTAMP:20260424T160711
CREATED:20150831T103736Z
LAST-MODIFIED:20150831T103736Z
UID:695-1441360800-1441368000@ilchibrainyoga-tsujido.com
SUMMARY:4日はヨガの日
DESCRIPTION:４日はヨガの日。 \nヨガが体と心をつなげるという意味があります。 \n質のよい、呼吸と瞑想でその効果があらわれます。 \nトレーニングでは、体をよくほぐしてあげて、複式呼吸が自然にできるようにします。 \nイルチブレインヨガでは、脳科学と東洋医学融合した画期的なヨガ。 \nその効果が世界的にも認められています。 \n飽きずに、健康つくりにも役立つ脳活性ヨガ。 \n体験費がお安いに日体験してみませんか？ \n体験ご希望の方は、イベントをクリックしてください。 \nイベントのご予約はこちら
URL:https://ilchibrainyoga-tsujido.com/event/4%e6%97%a5%e3%81%af%e3%83%a8%e3%82%ac%e3%81%ae%e6%97%a5-4/
LOCATION:イルチブレインヨガ辻堂スタジオ\, 神奈川県茅ヶ崎市浜竹２丁目２−４ 安達ビル2階\, 2530021\, 日本
END:VEVENT
BEGIN:VEVENT
DTSTART;TZID=Asia/Tokyo:20150904T070000
DTEND;TZID=Asia/Tokyo:20150904T090000
DTSTAMP:20260424T160711
CREATED:20150831T104402Z
LAST-MODIFIED:20150831T104402Z
UID:697-1441350000-1441357200@ilchibrainyoga-tsujido.com
SUMMARY:4日はヨガの日
DESCRIPTION:４日はヨガの日。 \nヨガが体と心をつなげるという意味があります。 \n質のよい、呼吸と瞑想でその効果があらわれます。 \nトレーニングでは、体をよくほぐしてあげて、複式呼吸が自然にできるようにします。 \nイルチブレインヨガでは、脳科学と東洋医学融合した画期的なヨガ。 \nその効果が世界的にも認められています。 \n飽きずに、健康つくりにも役立つ脳活性ヨガ。 \n体験費がお安いに日体験してみませんか？ \n体験ご希望の方は、イベントをクリックしてください。 \nイベントのご予約はこちら
URL:https://ilchibrainyoga-tsujido.com/event/4%e6%97%a5%e3%81%af%e3%83%a8%e3%82%ac%e3%81%ae%e6%97%a5-5/
LOCATION:イルチブレインヨガ辻堂スタジオ\, 神奈川県茅ヶ崎市浜竹２丁目２−４ 安達ビル2階\, 2530021\, 日本
END:VEVENT
BEGIN:VEVENT
DTSTART;TZID=Asia/Tokyo:20150828T190000
DTEND;TZID=Asia/Tokyo:20150828T210000
DTSTAMP:20260424T160711
CREATED:20150802T142124Z
LAST-MODIFIED:20150802T142124Z
UID:626-1440788400-1440795600@ilchibrainyoga-tsujido.com
SUMMARY:8のつく日はレディースデー
DESCRIPTION:8のつく日はレディースデー \n当スタジオでは、20代～70代の方が通っています。 \n長い方では、4年目という方もいます。 \n週に1回～2回。多い方では3回くらい来る方も。 \n以前よりも体が柔軟になった。強くなった。健康になった。 \n病気の改善。心が前向きになった。集中力がついた。肯定的になった。老化予防。 \nなどなど効果はいろいろたくさん。 \nその方の体や心の状態もお聞きして個人ケアーもしています。 \n目的が達成できるようにお手伝いいたします。 \nイベントのご予約はこちら
URL:https://ilchibrainyoga-tsujido.com/event/8%e3%81%ae%e3%81%a4%e3%81%8f%e6%97%a5%e3%81%af%e3%83%ac%e3%83%87%e3%82%a3%e3%83%bc%e3%82%b9%e3%83%87%e3%83%bc-8/
LOCATION:イルチブレインヨガ辻堂スタジオ\, 神奈川県茅ヶ崎市浜竹２丁目２−４ 安達ビル2階\, 2530021\, 日本
END:VEVENT
BEGIN:VEVENT
DTSTART;TZID=Asia/Tokyo:20150828T100000
DTEND;TZID=Asia/Tokyo:20150828T120000
DTSTAMP:20260424T160711
CREATED:20150802T141956Z
LAST-MODIFIED:20150802T141956Z
UID:624-1440756000-1440763200@ilchibrainyoga-tsujido.com
SUMMARY:8のつく日はレディースデー
DESCRIPTION:8のつく日はレディースデー \n当スタジオでは、20代～70代の方が通っています。 \n長い方では、4年目という方もいます。 \n週に1回～2回。多い方では3回くらい来る方も。 \n以前よりも体が柔軟になった。強くなった。健康になった。 \n病気の改善。心が前向きになった。集中力がついた。肯定的になった。老化予防。 \nなどなど効果はいろいろたくさん。 \nその方の体や心の状態もお聞きして個人ケアーもしています。 \n目的が達成できるようにお手伝いいたします。 \nイベントのご予約はこちら
URL:https://ilchibrainyoga-tsujido.com/event/8%e3%81%ae%e3%81%a4%e3%81%8f%e6%97%a5%e3%81%af%e3%83%ac%e3%83%87%e3%82%a3%e3%83%bc%e3%82%b9%e3%83%87%e3%83%bc-7/
LOCATION:イルチブレインヨガ辻堂スタジオ\, 神奈川県茅ヶ崎市浜竹２丁目２−４ 安達ビル2階\, 2530021\, 日本
END:VEVENT
BEGIN:VEVENT
DTSTART;TZID=Asia/Tokyo:20150818T190000
DTEND;TZID=Asia/Tokyo:20150818T210000
DTSTAMP:20260424T160711
CREATED:20150802T141840Z
LAST-MODIFIED:20150802T141840Z
UID:623-1439924400-1439931600@ilchibrainyoga-tsujido.com
SUMMARY:8のつく日はレディースデー
DESCRIPTION:8のつく日はレディースデー \n当スタジオでは、20代～70代の方が通っています。 \n長い方では、4年目という方もいます。 \n週に1回～2回。多い方では3回くらい来る方も。 \n以前よりも体が柔軟になった。強くなった。健康になった。 \n病気の改善。心が前向きになった。集中力がついた。肯定的になった。老化予防。 \nなどなど効果はいろいろたくさん。 \nその方の体や心の状態もお聞きして個人ケアーもしています。 \n目的が達成できるようにお手伝いいたします。 \nイベントのご予約はこちら
URL:https://ilchibrainyoga-tsujido.com/event/8%e3%81%ae%e3%81%a4%e3%81%8f%e6%97%a5%e3%81%af%e3%83%ac%e3%83%87%e3%82%a3%e3%83%bc%e3%82%b9%e3%83%87%e3%83%bc-6/
LOCATION:イルチブレインヨガ辻堂スタジオ\, 神奈川県茅ヶ崎市浜竹２丁目２−４ 安達ビル2階\, 2530021\, 日本
END:VEVENT
END:VCALENDAR