BEGIN:VCALENDAR
VERSION:2.0
PRODID:-//【湘南茅ヶ崎 平塚 藤沢ヨガ】イルチブレインヨガ辻堂スタジオ｜辻堂駅南口より徒歩8分 体と心と脳のヨガ - ECPv6.15.20//NONSGML v1.0//EN
CALSCALE:GREGORIAN
METHOD:PUBLISH
X-WR-CALNAME:【湘南茅ヶ崎 平塚 藤沢ヨガ】イルチブレインヨガ辻堂スタジオ｜辻堂駅南口より徒歩8分 体と心と脳のヨガ
X-ORIGINAL-URL:https://ilchibrainyoga-tsujido.com
X-WR-CALDESC:【湘南茅ヶ崎 平塚 藤沢ヨガ】イルチブレインヨガ辻堂スタジオ｜辻堂駅南口より徒歩8分 体と心と脳のヨガ のイベント
REFRESH-INTERVAL;VALUE=DURATION:PT1H
X-Robots-Tag:noindex
X-PUBLISHED-TTL:PT1H
BEGIN:VTIMEZONE
TZID:Asia/Tokyo
BEGIN:STANDARD
TZOFFSETFROM:+0900
TZOFFSETTO:+0900
TZNAME:JST
DTSTART:20150101T000000
END:STANDARD
END:VTIMEZONE
BEGIN:VEVENT
DTSTART;TZID=Asia/Tokyo:20160724T103000
DTEND;TZID=Asia/Tokyo:20160724T123000
DTSTAMP:20260424T082422
CREATED:20160628T045833Z
LAST-MODIFIED:20160628T045833Z
UID:960-1469356200-1469363400@ilchibrainyoga-tsujido.com
SUMMARY:4日のつく日はヨガの日
DESCRIPTION:4日のつく日はヨガの日 \nネットから予約いただいた方→体験費が1000円でお得 \nヨガが体と心をつなげるという意味があります。 \n質のよい、呼吸と瞑想でその効果があらわれます。 \nトレーニングでは、体をよくほぐし、内臓までもほぐしていきます。 \nそれで丹田呼吸（下腹が動く呼吸）が自然にできるようにします。 \nイルチブレインヨガでは、脳科学と東洋医学融合した画期的なヨガ。 \nその効果が世界的にも認められています。 飽きずに、健康つくりにも役立つ脳活性ヨガ。 \n日常生活で体のメンテナンスをお考えの方、ぜひこの機会に体験してみてください。 \nイベントのご予約はこちら
URL:https://ilchibrainyoga-tsujido.com/event/4%e6%97%a5%e3%81%ae%e3%81%a4%e3%81%8f%e6%97%a5%e3%81%af%e3%83%a8%e3%82%ac%e3%81%ae%e6%97%a5-4/
LOCATION:イルチブレインヨガ辻堂スタジオ\, 神奈川県茅ヶ崎市浜竹２丁目２−４ 安達ビル2階\, 2530021\, 日本
END:VEVENT
BEGIN:VEVENT
DTSTART;TZID=Asia/Tokyo:20160716T023000
DTEND;TZID=Asia/Tokyo:20160716T180000
DTSTAMP:20260424T082422
CREATED:20160704T130501Z
LAST-MODIFIED:20160704T130544Z
UID:962-1468636200-1468692000@ilchibrainyoga-tsujido.com
SUMMARY:へそ健康講座
DESCRIPTION:お母さんのおなかの中で酸素や栄養をもらう所。 \n役目は終わったと思われがちな「へそ」。実は、内臓やリンパ節、神経が集まった「健康ボタン」だったのです。 \nへそをほぐすと、全身ぽかぽかすっきり！へそから体も心も元気になる健康法を \n体験を交えながらわかりやすくお伝えします。 \n■病原菌と闘うリンパ節\n 私たちの体には、血管と同じように、リンパ管がくまなく張り巡らされています。リンパ管の中にはリンパ液が流れており、全身の老廃物や細菌、ウイルスなどの有害な物質を回収してくれます。回収した水分は、「リンパ節（せつ）」と呼ばれるリンパ管の結合部分に集められ、ここで老廃物やウイルスが分解・浄化されます。リンパ節の中にある免疫機能が、ウイルスなどの病原菌を退治してくれるのです。風邪を引いたときに、首の下のリンパ節が腫れて痛むことがありますが、これはリンパ節の中の免疫システムが細菌と闘っているからです。 \n■へその周りに集中\nリンパ節は、体全体で４００～７００個あるとされ、その半数以上が腹部に集中しているとされます。とくにへその周りにはたくさんのリンパ節があり、免疫システムのカギを握っています。 \n■へそヒーリングとは\nへそヒーリングは、へその周辺に働きかけることで腹部のリンパ節の働きを活発にして、免疫反応や老廃物の排出を盛んにする健康法です。さらに、おへそから胃腸を刺激して腸内環境を整えるとともに、腸の中に溜まっている血液をポンピングし、全身に循環させていきます。気血循環の改善によって、短時間で腹部から下半身や足先まですぐに温かくなるのが感じられるのが特徴。腸のぜん動運動の活発化により、ダイエット効果も期待できます。 また、硬くなっていた腸の緊張がほぐれるとともに感情的な緊張もほぐれるため、心のリラックスやストレス解消へとつながります。 \n講座ではおへその話・実際に健康になれる体操・ヒーリングをします。
URL:https://ilchibrainyoga-tsujido.com/event/%e3%81%b8%e3%81%9d%e3%83%92%e3%83%bc%e3%83%aa%e3%83%b3%e3%82%b0%e8%ac%9b%e5%ba%a7/
LOCATION:イルチブレインヨガ辻堂スタジオ\, 神奈川県茅ヶ崎市浜竹２丁目２−４ 安達ビル2階\, 2530021\, 日本
END:VEVENT
BEGIN:VEVENT
DTSTART;TZID=Asia/Tokyo:20160714T143000
DTEND;TZID=Asia/Tokyo:20160714T163000
DTSTAMP:20260424T082422
CREATED:20160628T045730Z
LAST-MODIFIED:20160628T045730Z
UID:959-1468506600-1468513800@ilchibrainyoga-tsujido.com
SUMMARY:4日のつく日はヨガの日
DESCRIPTION:4日のつく日はヨガの日 \nネットから予約いただいた方→体験費が1000円でお得 \nヨガが体と心をつなげるという意味があります。 \n質のよい、呼吸と瞑想でその効果があらわれます。 \nトレーニングでは、体をよくほぐし、内臓までもほぐしていきます。 \nそれで丹田呼吸（下腹が動く呼吸）が自然にできるようにします。 \nイルチブレインヨガでは、脳科学と東洋医学融合した画期的なヨガ。 \nその効果が世界的にも認められています。 飽きずに、健康つくりにも役立つ脳活性ヨガ。 \n日常生活で体のメンテナンスをお考えの方、ぜひこの機会に体験してみてください。 \nイベントのご予約はこちら
URL:https://ilchibrainyoga-tsujido.com/event/4%e6%97%a5%e3%81%ae%e3%81%a4%e3%81%8f%e6%97%a5%e3%81%af%e3%83%a8%e3%82%ac%e3%81%ae%e6%97%a5-3/
LOCATION:イルチブレインヨガ辻堂スタジオ\, 神奈川県茅ヶ崎市浜竹２丁目２−４ 安達ビル2階\, 2530021\, 日本
END:VEVENT
BEGIN:VEVENT
DTSTART;TZID=Asia/Tokyo:20160708T143000
DTEND;TZID=Asia/Tokyo:20160708T160000
DTSTAMP:20260424T082422
CREATED:20160704T130231Z
LAST-MODIFIED:20160704T130231Z
UID:961-1467988200-1467993600@ilchibrainyoga-tsujido.com
SUMMARY:へそ健康講座
DESCRIPTION:お母さんのおなかの中で酸素や栄養をもらう所。 \n役目は終わったと思われがちな「へそ」。実は、内臓やリンパ節、神経が集まった「健康ボタン」だったのです。 \nへそをほぐすと、全身ぽかぽかすっきり！へそから体も心も元気になる健康法を \n体験を交えながらわかりやすくお伝えします。 \n■病原菌と闘うリンパ節\n 私たちの体には、血管と同じように、リンパ管がくまなく張り巡らされています。リンパ管の中にはリンパ液が流れており、全身の老廃物や細菌、ウイルスなどの有害な物質を回収してくれます。回収した水分は、「リンパ節（せつ）」と呼ばれるリンパ管の結合部分に集められ、ここで老廃物やウイルスが分解・浄化されます。リンパ節の中にある免疫機能が、ウイルスなどの病原菌を退治してくれるのです。風邪を引いたときに、首の下のリンパ節が腫れて痛むことがありますが、これはリンパ節の中の免疫システムが細菌と闘っているからです。 \n■へその周りに集中\nリンパ節は、体全体で４００～７００個あるとされ、その半数以上が腹部に集中しているとされます。とくにへその周りにはたくさんのリンパ節があり、免疫システムのカギを握っています。 \n■へそヒーリングとは\nへそヒーリングは、へその周辺に働きかけることで腹部のリンパ節の働きを活発にして、免疫反応や老廃物の排出を盛んにする健康法です。さらに、おへそから胃腸を刺激して腸内環境を整えるとともに、腸の中に溜まっている血液をポンピングし、全身に循環させていきます。気血循環の改善によって、短時間で腹部から下半身や足先まですぐに温かくなるのが感じられるのが特徴。腸のぜん動運動の活発化により、ダイエット効果も期待できます。 また、硬くなっていた腸の緊張がほぐれるとともに感情的な緊張もほぐれるため、心のリラックスやストレス解消へとつながります。 \n講座ではおへその話・実際に健康になれる体操・ヒーリングをします。
URL:https://ilchibrainyoga-tsujido.com/event/%e3%81%b8%e3%81%9d%e5%81%a5%e5%ba%b7%e8%ac%9b%e5%ba%a7/
LOCATION:イルチブレインヨガ辻堂スタジオ\, 神奈川県茅ヶ崎市浜竹２丁目２−４ 安達ビル2階\, 2530021\, 日本
END:VEVENT
BEGIN:VEVENT
DTSTART;TZID=Asia/Tokyo:20160626T103000
DTEND;TZID=Asia/Tokyo:20160626T123000
DTSTAMP:20260424T082422
CREATED:20160530T032019Z
LAST-MODIFIED:20160530T032019Z
UID:949-1466937000-1466944200@ilchibrainyoga-tsujido.com
SUMMARY:日曜日にヨガ
DESCRIPTION:日曜日にヨガ \nお休みの日にヨガでリラックスタイムはいかがでしょうか？ \n午前のゆっくりした時間からはじめ、体をほぐした後の午後の時間が有意義になります！ \n１週間がんばってきた自分にご褒美の時間をつくることで、またがんばろうという意欲が出てきます。 \n特にイルチブレインヨガのトレーニングの特徴が横になってポーズをとる時間が長いこと。 \nただ寝ているだけではなく、そのときは呼吸・瞑想をします。 \n時には気持ちが良くて寝てしまう方もいるくらいです。 \nそんな体験をして見ませんか？ \n日常の緊張・ストレス・人間関係の悩みから解き放たれた自分のだけの時間をどうぞ満喫してください。
URL:https://ilchibrainyoga-tsujido.com/event/%e6%97%a5%e6%9b%9c%e6%97%a5%e3%81%ab%e3%83%a8%e3%82%ac-10/
LOCATION:イルチブレインヨガ辻堂スタジオ\, 神奈川県茅ヶ崎市浜竹２丁目２−４ 安達ビル2階\, 2530021\, 日本
END:VEVENT
BEGIN:VEVENT
DTSTART;TZID=Asia/Tokyo:20160624T190000
DTEND;TZID=Asia/Tokyo:20160624T200000
DTSTAMP:20260424T082422
CREATED:20160530T021623Z
LAST-MODIFIED:20160530T021623Z
UID:945-1466794800-1466798400@ilchibrainyoga-tsujido.com
SUMMARY:4のつく日はヨガの日
DESCRIPTION:4のつく日はヨガの日 \nネットから予約いただいた方→体験費が1000円でお得 \nヨガが体と心をつなげるという意味があります。 \n質のよい、呼吸と瞑想でその効果があらわれます。 \nトレーニングでは、体をよくほぐし、内臓までもほぐしていきます。 \nそれで丹田呼吸（下腹が動く呼吸）が自然にできるようにします。 \nイルチブレインヨガでは、脳科学と東洋医学融合した画期的なヨガ。 \nその効果が世界的にも認められています。 飽きずに、健康つくりにも役立つ脳活性ヨガ。 \n日常生活で体のメンテナンスをお考えの方、ぜひこの機会に体験してみてください。
URL:https://ilchibrainyoga-tsujido.com/event/4%e3%81%ae%e3%81%a4%e3%81%8f%e6%97%a5%e3%81%af%e3%83%a8%e3%82%ac%e3%81%ae%e6%97%a5-14/
LOCATION:イルチブレインヨガ辻堂スタジオ\, 神奈川県茅ヶ崎市浜竹２丁目２−４ 安達ビル2階\, 2530021\, 日本
END:VEVENT
BEGIN:VEVENT
DTSTART;TZID=Asia/Tokyo:20160624T100000
DTEND;TZID=Asia/Tokyo:20160624T120000
DTSTAMP:20260424T082422
CREATED:20160530T021446Z
LAST-MODIFIED:20160530T021446Z
UID:944-1466762400-1466769600@ilchibrainyoga-tsujido.com
SUMMARY:4のつく日はヨガの日
DESCRIPTION:4のつく日はヨガの日 \nネットから予約いただいた方→体験費が1000円でお得 \nヨガが体と心をつなげるという意味があります。 \n質のよい、呼吸と瞑想でその効果があらわれます。 \nトレーニングでは、体をよくほぐし、内臓までもほぐしていきます。 \nそれで丹田呼吸（下腹が動く呼吸）が自然にできるようにします。 \nイルチブレインヨガでは、脳科学と東洋医学融合した画期的なヨガ。 \nその効果が世界的にも認められています。 飽きずに、健康つくりにも役立つ脳活性ヨガ。 \n日常生活で体のメンテナンスをお考えの方、ぜひこの機会に体験してみてください。
URL:https://ilchibrainyoga-tsujido.com/event/4%e3%81%ae%e3%81%a4%e3%81%8f%e6%97%a5%e3%81%af%e3%83%a8%e3%82%ac%e3%81%ae%e6%97%a5-13/
LOCATION:イルチブレインヨガ辻堂スタジオ\, 神奈川県茅ヶ崎市浜竹２丁目２−４ 安達ビル2階\, 2530021\, 日本
END:VEVENT
BEGIN:VEVENT
DTSTART;TZID=Asia/Tokyo:20160619T103000
DTEND;TZID=Asia/Tokyo:20160619T123000
DTSTAMP:20260424T082422
CREATED:20160530T031909Z
LAST-MODIFIED:20160530T031909Z
UID:948-1466332200-1466339400@ilchibrainyoga-tsujido.com
SUMMARY:日曜日にヨガ
DESCRIPTION:日曜日にヨガ \nお休みの日にヨガでリラックスタイムはいかがでしょうか？ \n午前のゆっくりした時間からはじめ、体をほぐした後の午後の時間が有意義になります！ \n１週間がんばってきた自分にご褒美の時間をつくることで、またがんばろうという意欲が出てきます。 \n特にイルチブレインヨガのトレーニングの特徴が横になってポーズをとる時間が長いこと。 \nただ寝ているだけではなく、そのときは呼吸・瞑想をします。 \n時には気持ちが良くて寝てしまう方もいるくらいです。 \nそんな体験をして見ませんか？ \n日常の緊張・ストレス・人間関係の悩みから解き放たれた自分のだけの時間をどうぞ満喫してください。
URL:https://ilchibrainyoga-tsujido.com/event/%e6%97%a5%e6%9b%9c%e6%97%a5%e3%81%ab%e3%83%a8%e3%82%ac-9/
LOCATION:イルチブレインヨガ辻堂スタジオ\, 神奈川県茅ヶ崎市浜竹２丁目２−４ 安達ビル2階\, 2530021\, 日本
END:VEVENT
BEGIN:VEVENT
DTSTART;TZID=Asia/Tokyo:20160614T190000
DTEND;TZID=Asia/Tokyo:20160614T210000
DTSTAMP:20260424T082422
CREATED:20160530T021303Z
LAST-MODIFIED:20160530T021303Z
UID:943-1465930800-1465938000@ilchibrainyoga-tsujido.com
SUMMARY:4のつく日はヨガの日
DESCRIPTION:4のつく日はヨガの日 \nネットから予約いただいた方→体験費が1000円でお得 \nヨガが体と心をつなげるという意味があります。 \n質のよい、呼吸と瞑想でその効果があらわれます。 \nトレーニングでは、体をよくほぐし、内臓までもほぐしていきます。 \nそれで丹田呼吸（下腹が動く呼吸）が自然にできるようにします。 \nイルチブレインヨガでは、脳科学と東洋医学融合した画期的なヨガ。 \nその効果が世界的にも認められています。 飽きずに、健康つくりにも役立つ脳活性ヨガ。 \n日常生活で体のメンテナンスをお考えの方、ぜひこの機会に体験してみてください。
URL:https://ilchibrainyoga-tsujido.com/event/4%e3%81%ae%e3%81%a4%e3%81%8f%e6%97%a5%e3%81%af%e3%83%a8%e3%82%ac%e3%81%ae%e6%97%a5-12/
LOCATION:イルチブレインヨガ辻堂スタジオ\, 神奈川県茅ヶ崎市浜竹２丁目２−４ 安達ビル2階\, 2530021\, 日本
END:VEVENT
BEGIN:VEVENT
DTSTART;TZID=Asia/Tokyo:20160614T143000
DTEND;TZID=Asia/Tokyo:20160614T163000
DTSTAMP:20260424T082422
CREATED:20160530T021145Z
LAST-MODIFIED:20160530T021145Z
UID:942-1465914600-1465921800@ilchibrainyoga-tsujido.com
SUMMARY:4のつく日はヨガの日
DESCRIPTION:4のつく日はヨガの日 \nネットから予約いただいた方→体験費が1000円でお得 \nヨガが体と心をつなげるという意味があります。 \n質のよい、呼吸と瞑想でその効果があらわれます。 \nトレーニングでは、体をよくほぐし、内臓までもほぐしていきます。 \nそれで丹田呼吸（下腹が動く呼吸）が自然にできるようにします。 \nイルチブレインヨガでは、脳科学と東洋医学融合した画期的なヨガ。 \nその効果が世界的にも認められています。 飽きずに、健康つくりにも役立つ脳活性ヨガ。 \n日常生活で体のメンテナンスをお考えの方、ぜひこの機会に体験してみてください。
URL:https://ilchibrainyoga-tsujido.com/event/4%e3%81%ae%e3%81%a4%e3%81%8f%e6%97%a5%e3%81%af%e3%83%a8%e3%82%ac%e3%81%ae%e6%97%a5-11/
LOCATION:イルチブレインヨガ辻堂スタジオ\, 神奈川県茅ヶ崎市浜竹２丁目２−４ 安達ビル2階\, 2530021\, 日本
END:VEVENT
BEGIN:VEVENT
DTSTART;TZID=Asia/Tokyo:20160612T103000
DTEND;TZID=Asia/Tokyo:20160612T123000
DTSTAMP:20260424T082422
CREATED:20160530T031817Z
LAST-MODIFIED:20160530T031817Z
UID:947-1465727400-1465734600@ilchibrainyoga-tsujido.com
SUMMARY:日曜日にヨガ
DESCRIPTION:日曜日にヨガ \nお休みの日にヨガでリラックスタイムはいかがでしょうか？ \n午前のゆっくりした時間からはじめ、体をほぐした後の午後の時間が有意義になります！ \n１週間がんばってきた自分にご褒美の時間をつくることで、またがんばろうという意欲が出てきます。 \n特にイルチブレインヨガのトレーニングの特徴が横になってポーズをとる時間が長いこと。 \nただ寝ているだけではなく、そのときは呼吸・瞑想をします。 \n時には気持ちが良くて寝てしまう方もいるくらいです。 \nそんな体験をして見ませんか？ \n日常の緊張・ストレス・人間関係の悩みから解き放たれた自分のだけの時間をどうぞ満喫してください。
URL:https://ilchibrainyoga-tsujido.com/event/%e6%97%a5%e6%9b%9c%e6%97%a5%e3%81%ab%e3%83%a8%e3%82%ac-8/
LOCATION:イルチブレインヨガ辻堂スタジオ\, 神奈川県茅ヶ崎市浜竹２丁目２−４ 安達ビル2階\, 2530021\, 日本
END:VEVENT
BEGIN:VEVENT
DTSTART;TZID=Asia/Tokyo:20160605T103000
DTEND;TZID=Asia/Tokyo:20160605T123000
DTSTAMP:20260424T082422
CREATED:20160530T031721Z
LAST-MODIFIED:20160530T031721Z
UID:946-1465122600-1465129800@ilchibrainyoga-tsujido.com
SUMMARY:日曜日にヨガ
DESCRIPTION:日曜日にヨガ \nお休みの日にヨガでリラックスタイムはいかがでしょうか？ \n午前のゆっくりした時間からはじめ、体をほぐした後の午後の時間が有意義になります！ \n１週間がんばってきた自分にご褒美の時間をつくることで、またがんばろうという意欲が出てきます。 \n特にイルチブレインヨガのトレーニングの特徴が横になってポーズをとる時間が長いこと。 \nただ寝ているだけではなく、そのときは呼吸・瞑想をします。 \n時には気持ちが良くて寝てしまう方もいるくらいです。 \nそんな体験をして見ませんか？ \n日常の緊張・ストレス・人間関係の悩みから解き放たれた自分のだけの時間をどうぞ満喫してください。
URL:https://ilchibrainyoga-tsujido.com/event/%e6%97%a5%e6%9b%9c%e6%97%a5%e3%81%ab%e3%83%a8%e3%82%ac-7/
LOCATION:イルチブレインヨガ辻堂スタジオ\, 神奈川県茅ヶ崎市浜竹２丁目２−４ 安達ビル2階\, 2530021\, 日本
END:VEVENT
BEGIN:VEVENT
DTSTART;TZID=Asia/Tokyo:20160604T103000
DTEND;TZID=Asia/Tokyo:20160604T123000
DTSTAMP:20260424T082422
CREATED:20160530T020712Z
LAST-MODIFIED:20160530T021028Z
UID:941-1465036200-1465043400@ilchibrainyoga-tsujido.com
SUMMARY:4日はヨガの日
DESCRIPTION:4日のつく日はヨガの日 \nネットから予約いただいた方→体験費が1000円でお得 \nヨガが体と心をつなげるという意味があります。 \n質のよい、呼吸と瞑想でその効果があらわれます。 \nトレーニングでは、体をよくほぐし、内臓までもほぐしていきます。 \nそれで丹田呼吸（下腹が動く呼吸）が自然にできるようにします。 \nイルチブレインヨガでは、脳科学と東洋医学融合した画期的なヨガ。 \nその効果が世界的にも認められています。 飽きずに、健康つくりにも役立つ脳活性ヨガ。 \n日常生活で体のメンテナンスをお考えの方、ぜひこの機会に体験してみてください。
URL:https://ilchibrainyoga-tsujido.com/event/4%e6%97%a5%e3%81%af%e3%83%a8%e3%82%ac%e3%81%ae%e6%97%a5-14/
LOCATION:イルチブレインヨガ辻堂スタジオ\, 神奈川県茅ヶ崎市浜竹２丁目２−４ 安達ビル2階\, 2530021\, 日本
END:VEVENT
BEGIN:VEVENT
DTSTART;TZID=Asia/Tokyo:20160529T143000
DTEND;TZID=Asia/Tokyo:20160529T163000
DTSTAMP:20260424T082422
CREATED:20160510T123610Z
LAST-MODIFIED:20160511T084913Z
UID:925-1464532200-1464539400@ilchibrainyoga-tsujido.com
SUMMARY:腸活性ヨガ
DESCRIPTION:腸活性ヨガ\nオールシーズン頭寒足熱（水昇火降）で内から温めて健康になる体の法則をお教えします \n体の中から暖かくなることで気のめぐりが良くなり、内臓の機能が良くなります。 \nまたこれからの暑い季節よく汗をかき夏ばて予防にもなります。 \nまたこれからの暑い季節よく汗をかき夏ばて予防にもなります。 \n美肌にもダイエットにも体質改善にも「腸の状態」が大きく影響することが明らかになっています。 \n腸のすごさは、その機能の多彩さにあります。 \n食べ物も消化・吸収を担っているのは勿論ん免疫機能や自律神経メンタルにも関係しているといわれています。 \nそんな腸の働きを左右するのが１００兆以上という腸内細菌たち。 \nバランスの取れた食生活に加え、適度な運動でお腹をぽかぽかにし、 \n腸内細菌のバランスを整えることが健康の鍵です。
URL:https://ilchibrainyoga-tsujido.com/event/%e8%85%b8%e6%b4%bb%e6%80%a7%e3%83%a8%e3%82%ac-2/
LOCATION:イルチブレインヨガ辻堂スタジオ\, 神奈川県茅ヶ崎市浜竹２丁目２−４ 安達ビル2階\, 2530021\, 日本
END:VEVENT
BEGIN:VEVENT
DTSTART;TZID=Asia/Tokyo:20160529T103000
DTEND;TZID=Asia/Tokyo:20160529T123000
DTSTAMP:20260424T082422
CREATED:20160401T134743Z
LAST-MODIFIED:20160401T134743Z
UID:906-1464517800-1464525000@ilchibrainyoga-tsujido.com
SUMMARY:日曜にヨガ
DESCRIPTION:お休みの日にヨガでリラックスタイムはいかがでしょうか？ \n午前のゆっくりした時間からはじめ、体をほぐした後の午後の時間が有意義になります！ \n１週間がんばってきた自分にご褒美の時間をつくることで、またがんばろうという意欲が出てきます。 \n特にイルチブレインヨガのトレーニングの特徴が横になってポーズをとる時間が長いこと。 \nただ寝ているだけではなく、そのときは呼吸・瞑想をします。 \n時には気持ちが良くて寝てしまう方もいるくらいです。 \nそんな体験をして見ませんか？ \n日常の緊張・ストレス・人間関係の悩みから解き放たれた自分のだけの時間をどうぞ満喫してください。 \n  \nイベントのご予約はこちら
URL:https://ilchibrainyoga-tsujido.com/event/%e6%97%a5%e6%9b%9c%e3%81%ab%e3%83%a8%e3%82%ac-2/
LOCATION:イルチブレインヨガ辻堂スタジオ\, 神奈川県茅ヶ崎市浜竹２丁目２−４ 安達ビル2階\, 2530021\, 日本
END:VEVENT
BEGIN:VEVENT
DTSTART;TZID=Asia/Tokyo:20160527T143000
DTEND;TZID=Asia/Tokyo:20160527T163000
DTSTAMP:20260424T082422
CREATED:20160510T123457Z
LAST-MODIFIED:20160511T084737Z
UID:924-1464359400-1464366600@ilchibrainyoga-tsujido.com
SUMMARY:腸活性ヨガ
DESCRIPTION:腸活性ヨガ\nオールシーズン頭寒足熱（水昇火降）で内から温めて健康になる体の法則をお教えします \n体の中から暖かくなることで気のめぐりが良くなり、内臓の機能が良くなります。 \nまたこれからの暑い季節よく汗をかき夏ばて予防にもなります。 \n美肌にもダイエットにも体質改善にも「腸の状態」が大きく影響することが明らかになっています。 \n腸のすごさは、その機能の多彩さにあります。 \n食べ物も消化・吸収を担っているのは勿論ん免疫機能や自律神経メンタルにも関係しているといわれています。 \nそんな腸の働きを左右するのが１００兆以上という腸内細菌たち。 \nバランスの取れた食生活に加え、適度な運動でお腹をぽかぽかにし、 \n腸内細菌のバランスを整えることが健康の鍵です。 \n  \n 
URL:https://ilchibrainyoga-tsujido.com/event/%e8%85%b8%e6%b4%bb%e6%80%a7%e3%83%a8%e3%82%ac/
LOCATION:イルチブレインヨガ辻堂スタジオ\, 神奈川県茅ヶ崎市浜竹２丁目２−４ 安達ビル2階\, 2530021\, 日本
END:VEVENT
BEGIN:VEVENT
DTSTART;TZID=Asia/Tokyo:20160524T190000
DTEND;TZID=Asia/Tokyo:20160524T210000
DTSTAMP:20260424T082422
CREATED:20160401T075802Z
LAST-MODIFIED:20160401T075802Z
UID:897-1464116400-1464123600@ilchibrainyoga-tsujido.com
SUMMARY:4日のつく日はヨガの日
DESCRIPTION:4日のつく日はヨガの日 \nネットから予約いただいた方→体験費が1000円でお得 \nヨガが体と心をつなげるという意味があります。 \n質のよい、呼吸と瞑想でその効果があらわれます。 \nトレーニングでは、体をよくほぐし、内臓までもほぐしていきます。 \nそれで丹田呼吸（下腹が動く呼吸）が自然にできるようにします。 \nイルチブレインヨガでは、脳科学と東洋医学融合した画期的なヨガ。 \nその効果が世界的にも認められています。 飽きずに、健康つくりにも役立つ脳活性ヨガ。 \n日常生活で体のメンテナンスをお考えの方、ぜひこの機会に体験してみてください。 \nイベントのご予約はこちら
URL:https://ilchibrainyoga-tsujido.com/event/4%e6%97%a5%e3%81%ae%e3%81%a4%e3%81%8f%e6%97%a5%e3%81%af%e3%83%a8%e3%82%ac%e3%81%ae%e6%97%a5-2/
LOCATION:イルチブレインヨガ辻堂スタジオ\, 神奈川県茅ヶ崎市浜竹２丁目２−４ 安達ビル2階\, 2530021\, 日本
END:VEVENT
BEGIN:VEVENT
DTSTART;TZID=Asia/Tokyo:20160524T100000
DTEND;TZID=Asia/Tokyo:20160524T120000
DTSTAMP:20260424T082422
CREATED:20160401T075708Z
LAST-MODIFIED:20160401T075708Z
UID:896-1464084000-1464091200@ilchibrainyoga-tsujido.com
SUMMARY:４のつく日はヨガの日
DESCRIPTION:4日のつく日はヨガの日 \nネットから予約いただいた方→体験費が1000円でお得 \nヨガが体と心をつなげるという意味があります。 \n質のよい、呼吸と瞑想でその効果があらわれます。 \nトレーニングでは、体をよくほぐし、内臓までもほぐしていきます。 \nそれで丹田呼吸（下腹が動く呼吸）が自然にできるようにします。 \nイルチブレインヨガでは、脳科学と東洋医学融合した画期的なヨガ。 \nその効果が世界的にも認められています。 飽きずに、健康つくりにも役立つ脳活性ヨガ。 \n日常生活で体のメンテナンスをお考えの方、ぜひこの機会に体験してみてください。 \nイベントのご予約はこちら
URL:https://ilchibrainyoga-tsujido.com/event/%ef%bc%94%e3%81%ae%e3%81%a4%e3%81%8f%e6%97%a5%e3%81%af%e3%83%a8%e3%82%ac%e3%81%ae%e6%97%a5-14/
LOCATION:イルチブレインヨガ辻堂スタジオ\, 神奈川県茅ヶ崎市浜竹２丁目２−４ 安達ビル2階\, 2530021\, 日本
END:VEVENT
BEGIN:VEVENT
DTSTART;TZID=Asia/Tokyo:20160522T103000
DTEND;TZID=Asia/Tokyo:20160522T123000
DTSTAMP:20260424T082422
CREATED:20160401T134632Z
LAST-MODIFIED:20160401T134632Z
UID:905-1463913000-1463920200@ilchibrainyoga-tsujido.com
SUMMARY:日曜にヨガ
DESCRIPTION:お休みの日にヨガでリラックスタイムはいかがでしょうか？ \n午前のゆっくりした時間からはじめ、体をほぐした後の午後の時間が有意義になります！ \n１週間がんばってきた自分にご褒美の時間をつくることで、またがんばろうという意欲が出てきます。 \n特にイルチブレインヨガのトレーニングの特徴が横になってポーズをとる時間が長いこと。 \nただ寝ているだけではなく、そのときは呼吸・瞑想をします。 \n時には気持ちが良くて寝てしまう方もいるくらいです。 \nそんな体験をして見ませんか？ \n日常の緊張・ストレス・人間関係の悩みから解き放たれた自分のだけの時間をどうぞ満喫してくだい。 \n  \nイベントのご予約はこちら
URL:https://ilchibrainyoga-tsujido.com/event/%e6%97%a5%e6%9b%9c%e3%81%ab%e3%83%a8%e3%82%ac/
LOCATION:イルチブレインヨガ辻堂スタジオ\, 神奈川県茅ヶ崎市浜竹２丁目２−４ 安達ビル2階\, 2530021\, 日本
END:VEVENT
BEGIN:VEVENT
DTSTART;TZID=Asia/Tokyo:20160520T190000
DTEND;TZID=Asia/Tokyo:20160520T210000
DTSTAMP:20260424T082422
CREATED:20160401T075342Z
LAST-MODIFIED:20160401T075342Z
UID:894-1463770800-1463778000@ilchibrainyoga-tsujido.com
SUMMARY:20日は腸の日
DESCRIPTION:腸の機能がしていることが消化以外であることが最近の研究で明らかになってきています。 \n体を健康にするのと同じように、腸を健康にするための方法は食べ物の以外にされているでしょうか？ \nイルチブレインヨガではすでにこの腸の健康トレーニングを10年以上前から多くの方に伝えています。 \nそれで、腸を健康にすることで、体全体の健康を感じるようになっている方が多いです。 \n肩こり・便秘・腰痛・不眠・倦怠感・疲れやすい　などの改善 \n精神的な安定・対人関係の改善などなどにも効果があります。 \n腸はそれだけ大事な臓器だということですね。 \nイベントのご予約はこちら
URL:https://ilchibrainyoga-tsujido.com/event/20%e6%97%a5%e3%81%af%e8%85%b8%e3%81%ae%e6%97%a5-4/
LOCATION:イルチブレインヨガ辻堂スタジオ\, 神奈川県茅ヶ崎市浜竹２丁目２−４ 安達ビル2階\, 2530021\, 日本
END:VEVENT
BEGIN:VEVENT
DTSTART;TZID=Asia/Tokyo:20160520T100000
DTEND;TZID=Asia/Tokyo:20160520T120000
DTSTAMP:20260424T082422
CREATED:20160401T075230Z
LAST-MODIFIED:20160401T075230Z
UID:893-1463738400-1463745600@ilchibrainyoga-tsujido.com
SUMMARY:20日は腸の日
DESCRIPTION:腸の機能がしていることが消化以外であることが最近の研究で明らかになってきています。 \n体を健康にするのと同じように、腸を健康にするための方法は食べ物の以外にされているでしょうか？ \nイルチブレインヨガではすでにこの腸の健康トレーニングを10年以上前から多くの方に伝えています。 \nそれで、腸を健康にすることで、体全体の健康を感じるようになっている方が多いです。 \n肩こり・便秘・腰痛・不眠・倦怠感・疲れやすい　などの改善 \n精神的な安定・対人関係の改善などなどにも効果があります。 \n腸はそれだけ大事な臓器だということですね。 \nイベントのご予約はこちら
URL:https://ilchibrainyoga-tsujido.com/event/20%e6%97%a5%e3%81%af%e8%85%b8%e3%81%ae%e6%97%a5-3/
LOCATION:イルチブレインヨガ辻堂スタジオ\, 神奈川県茅ヶ崎市浜竹２丁目２−４ 安達ビル2階\, 2530021\, 日本
END:VEVENT
BEGIN:VEVENT
DTSTART;TZID=Asia/Tokyo:20160514T103000
DTEND;TZID=Asia/Tokyo:20160514T123000
DTSTAMP:20260424T082422
CREATED:20160401T075558Z
LAST-MODIFIED:20160401T075558Z
UID:895-1463221800-1463229000@ilchibrainyoga-tsujido.com
SUMMARY:4のつく日はヨガの日
DESCRIPTION:4日のつく日はヨガの日 \nネットから予約いただいた方→体験費が1000円でお得 \nヨガが体と心をつなげるという意味があります。 \n質のよい、呼吸と瞑想でその効果があらわれます。 \nトレーニングでは、体をよくほぐし、内臓までもほぐしていきます。 \nそれで丹田呼吸（下腹が動く呼吸）が自然にできるようにします。 \nイルチブレインヨガでは、脳科学と東洋医学融合した画期的なヨガ。 \nその効果が世界的にも認められています。 飽きずに、健康つくりにも役立つ脳活性ヨガ。 \n日常生活で体のメンテナンスをお考えの方、ぜひこの機会に体験してみてください。 \nイベントのご予約はこちら
URL:https://ilchibrainyoga-tsujido.com/event/4%e3%81%ae%e3%81%a4%e3%81%8f%e6%97%a5%e3%81%af%e3%83%a8%e3%82%ac%e3%81%ae%e6%97%a5-10/
LOCATION:イルチブレインヨガ辻堂スタジオ\, 神奈川県茅ヶ崎市浜竹２丁目２−４ 安達ビル2階\, 2530021\, 日本
END:VEVENT
BEGIN:VEVENT
DTSTART;TZID=Asia/Tokyo:20160508T103000
DTEND;TZID=Asia/Tokyo:20160508T123000
DTSTAMP:20260424T082422
CREATED:20160401T072944Z
LAST-MODIFIED:20160401T072944Z
UID:886-1462703400-1462710600@ilchibrainyoga-tsujido.com
SUMMARY:日曜日にヨガ
DESCRIPTION:日曜日にヨガ \nお休みの日にヨガでリラックスタイムはいかがでしょうか？ \n午前のゆっくりした時間からはじめ、体をほぐした後の午後の時間が有意義になります！ \n１週間がんばってきた自分にご褒美の時間をつくることで、またがんばろうという意欲が出てきます。 \n特にイルチブレインヨガのトレーニングの特徴が横になってポーズをとる時間が長いこと。 \nただ寝ているだけではなく、そのときは呼吸・瞑想をします。 \n時には気持ちが良くて寝てしまう方もいるくらいです。 \nそんな体験をして見ませんか？ \n日常の緊張・ストレス・人間関係の悩みから解き放たれた自分のだけの時間をどうぞ満喫してください。 \nイベントのご予約はこちら
URL:https://ilchibrainyoga-tsujido.com/event/%e6%97%a5%e6%9b%9c%e6%97%a5%e3%81%ab%e3%83%a8%e3%82%ac-5/
LOCATION:イルチブレインヨガ辻堂スタジオ\, 神奈川県茅ヶ崎市浜竹２丁目２−４ 安達ビル2階\, 2530021\, 日本
END:VEVENT
BEGIN:VEVENT
DTSTART;TZID=Asia/Tokyo:20160505T000000
DTEND;TZID=Asia/Tokyo:20160505T120000
DTSTAMP:20260424T082422
CREATED:20160401T082517Z
LAST-MODIFIED:20160401T082517Z
UID:904-1462406400-1462449600@ilchibrainyoga-tsujido.com
SUMMARY:ゴールデンウィークお休み
DESCRIPTION:
URL:https://ilchibrainyoga-tsujido.com/event/%e3%82%b4%e3%83%bc%e3%83%ab%e3%83%87%e3%83%b3%e3%82%a6%e3%82%a3%e3%83%bc%e3%82%af%e3%81%8a%e4%bc%91%e3%81%bf-3/
END:VEVENT
BEGIN:VEVENT
DTSTART;TZID=Asia/Tokyo:20160504T000000
DTEND;TZID=Asia/Tokyo:20160504T120000
DTSTAMP:20260424T082422
CREATED:20160401T082438Z
LAST-MODIFIED:20160401T082438Z
UID:903-1462320000-1462363200@ilchibrainyoga-tsujido.com
SUMMARY:ゴールデンウィークお休み
DESCRIPTION:
URL:https://ilchibrainyoga-tsujido.com/event/%e3%82%b4%e3%83%bc%e3%83%ab%e3%83%87%e3%83%b3%e3%82%a6%e3%82%a3%e3%83%bc%e3%82%af%e3%81%8a%e4%bc%91%e3%81%bf-2/
END:VEVENT
BEGIN:VEVENT
DTSTART;TZID=Asia/Tokyo:20160503T000000
DTEND;TZID=Asia/Tokyo:20160503T120000
DTSTAMP:20260424T082422
CREATED:20160401T082359Z
LAST-MODIFIED:20160401T082635Z
UID:902-1462233600-1462276800@ilchibrainyoga-tsujido.com
SUMMARY:ゴールデンウィークお休み
DESCRIPTION:
URL:https://ilchibrainyoga-tsujido.com/event/%e3%82%b4%e3%83%bc%e3%83%ab%e3%83%87%e3%83%b3%e3%82%a6%e3%82%a3%e3%83%bc%e3%82%af%e3%81%8a%e4%bc%91%e3%81%bf/
END:VEVENT
BEGIN:VEVENT
DTSTART;TZID=Asia/Tokyo:20160501T143000
DTEND;TZID=Asia/Tokyo:20160501T163000
DTSTAMP:20260424T082422
CREATED:20160401T081923Z
LAST-MODIFIED:20160407T022742Z
UID:901-1462113000-1462120200@ilchibrainyoga-tsujido.com
SUMMARY:腸活ヨガ体験会
DESCRIPTION:腸の調子は良いですか？ \nその日によってお腹の調子が違ってくるくらい敏感な臓器ではないでしょうか？ \n便秘をはじめ下痢・腹部暴慢感・ガス腹・便秘ではなくても残便感などいろいろな症状があります。 \n最近では、女性の癌で最も多いのは乳がんについで大腸がんだそうです。 \n腸は第2の心臓・第2の脳と呼ばれるくらい腸の機能は私たちの体にかなりの影響を及ぼしています。 \n最近では腸で95％のセロトニンが作られているといいます。 \n肥満の原因も腸内細菌の種類とか、また独自の神経系の機能を持つことや骨を守ることも知られているそうです。 \nこれだけでも、腸がとても大事な臓器だということがわかります。 \nだけど、どのように腸を健康にしたり、鍛えることができるのかを知っている方は少ないと思います。 \nそこで、今回の体験会では腸の健康体操・お腹を自力で温める方法をお教えいたします。 \nこれを、繰り返し続けることで腸が元気になっていきます。 \n誰でもできる内容になっています。 \n腸を健康にしたいという方は、ぜひいらしてください。 \n今回は1日限定で外部での体験会になります。詳しくは下記をご覧ください。 \n4月29日も同じ場所で開催します。 \n※予約は準備のため前日までにお願いします。 \n  \nイベントのご予約はこちら
URL:https://ilchibrainyoga-tsujido.com/event/901/
LOCATION:ベル・フルール\, 茅ヶ崎市旭が丘６－３０
END:VEVENT
BEGIN:VEVENT
DTSTART;TZID=Asia/Tokyo:20160501T103000
DTEND;TZID=Asia/Tokyo:20160501T123000
DTSTAMP:20260424T082422
CREATED:20160401T072800Z
LAST-MODIFIED:20160401T072800Z
UID:884-1462098600-1462105800@ilchibrainyoga-tsujido.com
SUMMARY:日曜日にヨガ
DESCRIPTION:日曜日にヨガ \nお休みの日にヨガでリラックスタイムはいかがでしょうか？ \n午前のゆっくりした時間からはじめ、体をほぐした後の午後の時間が有意義になります！ \n１週間がんばってきた自分にご褒美の時間をつくることで、またがんばろうという意欲が出てきます。 \n特にイルチブレインヨガのトレーニングの特徴が横になってポーズをとる時間が長いこと。 \nただ寝ているだけではなく、そのときは呼吸・瞑想をします。 \n時には気持ちが良くて寝てしまう方もいるくらいです。 \nそんな体験をして見ませんか？ \n日常の緊張・ストレス・人間関係の悩みから解き放たれた自分のだけの時間をどうぞ満喫してください。 \n  \nイベントのご予約はこちら
URL:https://ilchibrainyoga-tsujido.com/event/%e6%97%a5%e6%9b%9c%e6%97%a5%e3%81%ab%e3%83%a8%e3%82%ac-4/
LOCATION:イルチブレインヨガ辻堂スタジオ\, 神奈川県茅ヶ崎市浜竹２丁目２−４ 安達ビル2階\, 2530021\, 日本
END:VEVENT
BEGIN:VEVENT
DTSTART;TZID=Asia/Tokyo:20160429T143000
DTEND;TZID=Asia/Tokyo:20160429T163000
DTSTAMP:20260424T082422
CREATED:20160401T081555Z
LAST-MODIFIED:20160407T022709Z
UID:900-1461940200-1461947400@ilchibrainyoga-tsujido.com
SUMMARY:腸活ヨガ体験会
DESCRIPTION:腸の調子は良いですか？ \nその日によってお腹の調子が違ってくるくらい敏感な臓器ではないでしょうか？ \n便秘をはじめ下痢・腹部暴慢感・ガス腹・便秘ではなくても残便感などいろいろな症状があります。 \n最近では、女性の癌で最も多いのは乳がんについで大腸がんだそうです。 \n腸は第2の心臓・第2の脳と呼ばれるくらい腸の機能は私たちの体にかなりの影響を及ぼしています。 \n最近では腸で95％のセロトニンが作られているといいます。 \n肥満の原因も腸内細菌の種類とか、また独自の神経系の機能を持つことや骨を守ることも知られています。 \nこれだけでも、腸がとても大事な臓器だということがわかります。 \nだけど、どのように腸を健康にしたり、鍛えることができるのかを知っている方は少ないと思います。 \nそこで、今回の体験会では腸の健康体操・お腹を自力で温める方法をお教えいたします。 \nこれを、繰り返し続けることで腸が元気になっていきます。 \n誰でもできる内容になっています。 \n腸を健康にしたいという方は、ぜひいらしてください。 \n今回は２日限定で外部での体験会になります。詳しくは下記をご覧ください。 \n5月1日も同じ場所で開催します。 \n※予約は準備のため前日までにお願いします。 \nイベントのご予約はこちら
URL:https://ilchibrainyoga-tsujido.com/event/900/
LOCATION:ベル・フルール\, 茅ヶ崎市旭が丘６－３０
END:VEVENT
BEGIN:VEVENT
DTSTART;TZID=Asia/Tokyo:20160424T103000
DTEND;TZID=Asia/Tokyo:20160424T123000
DTSTAMP:20260424T082422
CREATED:20160401T065803Z
LAST-MODIFIED:20160401T075421Z
UID:878-1461493800-1461501000@ilchibrainyoga-tsujido.com
SUMMARY:4日のつく日はヨガの日
DESCRIPTION:4日のつく日はヨガの日 \nネットから予約いただいた方→体験費が1000円でお得 \nヨガが体と心をつなげるという意味があります。 \n質のよい、呼吸と瞑想でその効果があらわれます。 \nトレーニングでは、体をよくほぐし、内臓までもほぐしていきます。 \nそれで丹田呼吸（下腹が動く呼吸）が自然にできるようにします。 \nイルチブレインヨガでは、脳科学と東洋医学融合した画期的なヨガ。 \nその効果が世界的にも認められています。 飽きずに、健康つくりにも役立つ脳活性ヨガ。 \n日常生活で体のメンテナンスをお考えの方、ぜひこの機会に体験してみてください。 \nイベントのご予約はこちら
URL:https://ilchibrainyoga-tsujido.com/event/4%e6%97%a5%e3%81%af%e3%83%a8%e3%82%ac%e3%81%ae%e6%97%a5-13/
LOCATION:イルチブレインヨガ辻堂スタジオ\, 神奈川県茅ヶ崎市浜竹２丁目２−４ 安達ビル2階\, 2530021\, 日本
END:VEVENT
END:VCALENDAR