BEGIN:VCALENDAR
VERSION:2.0
PRODID:-//【湘南茅ヶ崎 平塚 藤沢ヨガ】イルチブレインヨガ辻堂スタジオ｜辻堂駅南口より徒歩8分 体と心と脳のヨガ - ECPv6.15.20//NONSGML v1.0//EN
CALSCALE:GREGORIAN
METHOD:PUBLISH
X-WR-CALNAME:【湘南茅ヶ崎 平塚 藤沢ヨガ】イルチブレインヨガ辻堂スタジオ｜辻堂駅南口より徒歩8分 体と心と脳のヨガ
X-ORIGINAL-URL:https://ilchibrainyoga-tsujido.com
X-WR-CALDESC:【湘南茅ヶ崎 平塚 藤沢ヨガ】イルチブレインヨガ辻堂スタジオ｜辻堂駅南口より徒歩8分 体と心と脳のヨガ のイベント
REFRESH-INTERVAL;VALUE=DURATION:PT1H
X-Robots-Tag:noindex
X-PUBLISHED-TTL:PT1H
BEGIN:VTIMEZONE
TZID:Asia/Tokyo
BEGIN:STANDARD
TZOFFSETFROM:+0900
TZOFFSETTO:+0900
TZNAME:JST
DTSTART:20150101T000000
END:STANDARD
END:VTIMEZONE
BEGIN:VEVENT
DTSTART;TZID=Asia/Tokyo:20161229T143000
DTEND;TZID=Asia/Tokyo:20161229T163000
DTSTAMP:20260424T024856
CREATED:20161214T002557Z
LAST-MODIFIED:20161215T125812Z
UID:1085-1483021800-1483029000@ilchibrainyoga-tsujido.com
SUMMARY:脳と腸のヨガ＆へそヒーリング
DESCRIPTION:当スタジオでは、脳と腸を中心としたヨガとして \n皆様の健康をサポートしております。 \n一般トレーニングの時間外での体験はマンツーマンで行いますので \n心と体の悩みなどカウンセリングのようなアドバイスもさせてい頂いています。 \nへそヒーリング付きで、終わったころにはスッキリした気分になること間違いなしです。 \nイベントのご予約はこちら
URL:https://ilchibrainyoga-tsujido.com/event/%e8%84%b3%e3%81%a8%e8%85%b8%e3%81%ae%e3%83%a8%e3%82%ac%ef%bc%86%e3%81%b8%e3%81%9d%e3%83%92%e3%83%bc%e3%83%aa%e3%83%b3%e3%82%b0-4/
LOCATION:イルチブレインヨガ辻堂スタジオ\, 神奈川県茅ヶ崎市浜竹２丁目２−４ 安達ビル2階\, 2530021\, 日本
END:VEVENT
BEGIN:VEVENT
DTSTART;TZID=Asia/Tokyo:20161224T143000
DTEND;TZID=Asia/Tokyo:20161224T163000
DTSTAMP:20260424T024856
CREATED:20161215T130058Z
LAST-MODIFIED:20161215T130058Z
UID:1090-1482589800-1482597000@ilchibrainyoga-tsujido.com
SUMMARY:脳と腸のヨガ＆へそヒーリング
DESCRIPTION:当スタジオでは、脳と腸を中心としたヨガとして \n皆様の健康をサポートしております。 \n一般トレーニングの時間外での体験はマンツーマンで行いますので \n心と体の悩みなどカウンセリングのようなアドバイスもさせてい頂いています。 \nへそヒーリング付きで、終わったころにはスッキリした気分になること間違いなしです。 \nイベントのご予約はこちら
URL:https://ilchibrainyoga-tsujido.com/event/%e8%84%b3%e3%81%a8%e8%85%b8%e3%81%ae%e3%83%a8%e3%82%ac%ef%bc%86%e3%81%b8%e3%81%9d%e3%83%92%e3%83%bc%e3%83%aa%e3%83%b3%e3%82%b0-5/
LOCATION:イルチブレインヨガ辻堂スタジオ\, 神奈川県茅ヶ崎市浜竹２丁目２−４ 安達ビル2階\, 2530021\, 日本
END:VEVENT
BEGIN:VEVENT
DTSTART;TZID=Asia/Tokyo:20161224T103000
DTEND;TZID=Asia/Tokyo:20161224T123000
DTSTAMP:20260424T024856
CREATED:20161213T123805Z
LAST-MODIFIED:20161213T123805Z
UID:1081-1482575400-1482582600@ilchibrainyoga-tsujido.com
SUMMARY:4のつく日はヨガの日
DESCRIPTION:4のつく日はヨガの日 \nいま、イルチブレインヨガで話題のへそヒーリングも体験できるへそ＆腸健康ヨガ体験。 \nネットから予約いただいた方→体験費が1000円でお得 \nヨガが体と心をつなげるという意味があります。 \n質のよい、呼吸と瞑想でリラックス効果があらわれます。 \nトレーニングでは、体をよくほぐし、体の中心のお腹が温かくなっていき、 \nそれで複式呼吸（下腹が動く呼吸）が自然にできるようにします。 \n期待する効果は \n便秘、ひどい肩こり・腰痛、やる気が出ない、体力の減退・運動不足解消、痩せたい・太りたい etc. \n最近は、おへそ周りをほぐすことで、免疫系・循環器系・呼吸器系への効果が大きいことが分かってきました。 \n最新のトレーニング法を組み合わせ、効果が倍増 \n飽きずに、健康つくりにも役立つヨガです。 \n日常生活で体のメンテナンスをお考えの方、ぜひこの機会に体験してみてください。 \nイベントのご予約はこちら
URL:https://ilchibrainyoga-tsujido.com/event/4%e3%81%ae%e3%81%a4%e3%81%8f%e6%97%a5%e3%81%af%e3%83%a8%e3%82%ac%e3%81%ae%e6%97%a5-21/
LOCATION:イルチブレインヨガ辻堂スタジオ\, 神奈川県茅ヶ崎市浜竹２丁目２−４ 安達ビル2階\, 2530021\, 日本
END:VEVENT
BEGIN:VEVENT
DTSTART;TZID=Asia/Tokyo:20161218T143000
DTEND;TZID=Asia/Tokyo:20161218T163000
DTSTAMP:20260424T024856
CREATED:20161213T124834Z
LAST-MODIFIED:20161213T124834Z
UID:1083-1482071400-1482078600@ilchibrainyoga-tsujido.com
SUMMARY:脳と腸のヨガ＆へそヒーリング
DESCRIPTION:当スタジオでは、脳と腸を中心としたヨガとして \n皆様の健康をサポートしております。 \n一般トレーニングの時間外での体験はマンツーマンで行いますので \n心と体の悩みなどカウンセリングのようなアドバイスもさせてい頂いています。 \nへそヒーリング付きで、終わったころにはスッキリした気分になること間違いなしです。 \nイベントのご予約はこちら
URL:https://ilchibrainyoga-tsujido.com/event/%e8%84%b3%e3%81%a8%e8%85%b8%e3%81%ae%e3%83%a8%e3%82%ac%ef%bc%86%e3%81%b8%e3%81%9d%e3%83%92%e3%83%bc%e3%83%aa%e3%83%b3%e3%82%b0-2/
LOCATION:イルチブレインヨガ辻堂スタジオ\, 神奈川県茅ヶ崎市浜竹２丁目２−４ 安達ビル2階\, 2530021\, 日本
END:VEVENT
BEGIN:VEVENT
DTSTART;TZID=Asia/Tokyo:20161217T143000
DTEND;TZID=Asia/Tokyo:20161217T163000
DTSTAMP:20260424T024856
CREATED:20161213T124639Z
LAST-MODIFIED:20161213T124639Z
UID:1082-1481985000-1481992200@ilchibrainyoga-tsujido.com
SUMMARY:脳と腸のヨガ＆へそヒーリング
DESCRIPTION:当スタジオでは、脳と腸を中心としたヨガとして \n皆様の健康をサポートしております。 \n一般トレーニングの時間外での体験はマンツーマンで行いますので \n心と体の悩みなどカウンセリングのようなアドバイスもさせてい頂いています。 \nへそヒーリング付きで、終わったころにはスッキリした気分になること間違いなしです。 \nイベントのご予約はこちら\n 
URL:https://ilchibrainyoga-tsujido.com/event/%e8%84%b3%e3%81%a8%e8%85%b8%e3%81%ae%e3%83%a8%e3%82%ac%ef%bc%86%e3%81%b8%e3%81%9d%e3%83%92%e3%83%bc%e3%83%aa%e3%83%b3%e3%82%b0/
LOCATION:イルチブレインヨガ辻堂スタジオ\, 神奈川県茅ヶ崎市浜竹２丁目２−４ 安達ビル2階\, 2530021\, 日本
END:VEVENT
BEGIN:VEVENT
DTSTART;TZID=Asia/Tokyo:20161214T190000
DTEND;TZID=Asia/Tokyo:20161214T210000
DTSTAMP:20260424T024856
CREATED:20161213T123646Z
LAST-MODIFIED:20161213T123856Z
UID:1080-1481742000-1481749200@ilchibrainyoga-tsujido.com
SUMMARY:4のつく日はヨガの日
DESCRIPTION:4のつく日はヨガの日 \nいま、イルチブレインヨガで話題のへそヒーリングも体験できるへそ＆腸健康ヨガ体験。 \nネットから予約いただいた方→体験費が1000円でお得 \nヨガが体と心をつなげるという意味があります。 \n質のよい、呼吸と瞑想でリラックス効果があらわれます。 \nトレーニングでは、体をよくほぐし、体の中心のお腹が温かくなっていき、 \nそれで複式呼吸（下腹が動く呼吸）が自然にできるようにします。 \n期待する効果は \n便秘、ひどい肩こり・腰痛、やる気が出ない、体力の減退・運動不足解消、痩せたい・太りたい etc. \n最近は、おへそ周りをほぐすことで、免疫系・循環器系・呼吸器系への効果が大きいことが分かってきました。 \n最新のトレーニング法を組み合わせ、効果が倍増 \n飽きずに、健康つくりにも役立つヨガです。 \n日常生活で体のメンテナンスをお考えの方、ぜひこの機会に体験してみてください。 \nイベントのご予約はこちら
URL:https://ilchibrainyoga-tsujido.com/event/4%e6%97%a5%e3%81%af%e3%83%a8%e3%82%ac%e3%81%ae%e6%97%a5-22/
LOCATION:イルチブレインヨガ辻堂スタジオ\, 神奈川県茅ヶ崎市浜竹２丁目２−４ 安達ビル2階\, 2530021\, 日本
END:VEVENT
BEGIN:VEVENT
DTSTART;TZID=Asia/Tokyo:20161214T100000
DTEND;TZID=Asia/Tokyo:20161214T120000
DTSTAMP:20260424T024856
CREATED:20161213T123535Z
LAST-MODIFIED:20161213T123927Z
UID:1079-1481709600-1481716800@ilchibrainyoga-tsujido.com
SUMMARY:4のつく日はヨガの日
DESCRIPTION:4のつく日はヨガの日 \nいま、イルチブレインヨガで話題のへそヒーリングも体験できるへそ＆腸健康ヨガ体験。 \nネットから予約いただいた方→体験費が1000円でお得 \nヨガが体と心をつなげるという意味があります。 \n質のよい、呼吸と瞑想でリラックス効果があらわれます。 \nトレーニングでは、体をよくほぐし、体の中心のお腹が温かくなっていき、 \nそれで複式呼吸（下腹が動く呼吸）が自然にできるようにします。 \n期待する効果は \n便秘、ひどい肩こり・腰痛、やる気が出ない、体力の減退・運動不足解消、痩せたい・太りたい etc. \n最近は、おへそ周りをほぐすことで、免疫系・循環器系・呼吸器系への効果が大きいことが分かってきました。 \n最新のトレーニング法を組み合わせ、効果が倍増 \n飽きずに、健康つくりにも役立つヨガです。 \n日常生活で体のメンテナンスをお考えの方、ぜひこの機会に体験してみてください。 \nイベントのご予約はこちら
URL:https://ilchibrainyoga-tsujido.com/event/4%e6%97%a5%e3%81%af%e3%83%a8%e3%82%ac%e3%81%ae%e6%97%a5-21/
LOCATION:イルチブレインヨガ辻堂スタジオ\, 神奈川県茅ヶ崎市浜竹２丁目２−４ 安達ビル2階\, 2530021\, 日本
END:VEVENT
BEGIN:VEVENT
DTSTART;TZID=Asia/Tokyo:20161124T143000
DTEND;TZID=Asia/Tokyo:20161124T163000
DTSTAMP:20260424T024856
CREATED:20161114T112119Z
LAST-MODIFIED:20161114T112119Z
UID:1072-1479997800-1480005000@ilchibrainyoga-tsujido.com
SUMMARY:4のつく日はヨガの日
DESCRIPTION:4のつく日はヨガの日 \nいま、イルチブレインヨガで話題のへそヒーリングも体験できるへそ＆腸健康ヨガ体験。 \nネットから予約いただいた方→体験費が1000円でお得 \nヨガが体と心をつなげるという意味があります。 \n質のよい、呼吸と瞑想でリラックス効果があらわれます。 \nトレーニングでは、体をよくほぐし、体の中心のお腹が温かくなっていき、 \nそれで複式呼吸（下腹が動く呼吸）が自然にできるようにします。 \n期待する効果は \n便秘、ひどい肩こり・腰痛、やる気が出ない、体力の減退・運動不足解消、痩せたい・太りたい etc. \n最近は、おへそ周りをほぐすことで、免疫系・循環器系・呼吸器系への効果が大きいことが分かってきました。 \n最新のトレーニング法を組み合わせ、効果が倍増 \n飽きずに、健康つくりにも役立つヨガです。 \n日常生活で体のメンテナンスをお考えの方、ぜひこの機会に体験してみてください。 \nイベントのご予約はこちら
URL:https://ilchibrainyoga-tsujido.com/event/4%e3%81%ae%e3%81%a4%e3%81%8f%e6%97%a5%e3%81%af%e3%83%a8%e3%82%ac%e3%81%ae%e6%97%a5-18/
LOCATION:イルチブレインヨガ辻堂スタジオ\, 神奈川県茅ヶ崎市浜竹２丁目２−４ 安達ビル2階\, 2530021\, 日本
END:VEVENT
BEGIN:VEVENT
DTSTART;TZID=Asia/Tokyo:20161112T143000
DTEND;TZID=Asia/Tokyo:20161112T160000
DTSTAMP:20260424T024856
CREATED:20161029T011623Z
LAST-MODIFIED:20161029T011623Z
UID:1060-1478961000-1478966400@ilchibrainyoga-tsujido.com
SUMMARY:へそから始める健康法「へそヒーリング」
DESCRIPTION:お母さんのおなかの中で酸素や栄養をもらう「へそ」。 \n役目は終わったと思われがちですが、実は内臓やリンパ節・神経が集まった「健康ボタン」だったのです。 \nへそを中心にリンパの流れをよくする１０個のヒーリング法で自己healingをしながら \n１日の疲れをその日のうちに取り除きます。 \n自己healingをするbefore\,afterで体の変化を感じていただくことができます。 \nいつでもどこでもできる簡単healingで体と心が軽くなります。 \n  \n内容：へその話・自己ヒーリング法 \n効果 \n１．血液循環が促進される \n２．体温が上がる \n３．免疫力が向上し解毒の排出がスムーズになる \n４．消化・排泄機能が高まる \n５、関節の痛みや緊張が緩和される \n６、頭がクリアーになり集中力が高まる \n７、肌のツヤがよくなり顔が明るくなる \n８、呼吸が深まり心の中心をとることができる \nぜひ体験してみてください。 \nイベントのご予約はこちら
URL:https://ilchibrainyoga-tsujido.com/event/%e3%81%b8%e3%81%9d%e3%81%8b%e3%82%89%e5%a7%8b%e3%82%81%e3%82%8b%e5%81%a5%e5%ba%b7%e6%b3%95%e3%80%8c%e3%81%b8%e3%81%9d%e3%83%92%e3%83%bc%e3%83%aa%e3%83%b3%e3%82%b0%e3%80%8d-18/
LOCATION:イルチブレインヨガ辻堂スタジオ\, 神奈川県茅ヶ崎市浜竹２丁目２−４ 安達ビル2階\, 2530021\, 日本
END:VEVENT
BEGIN:VEVENT
DTSTART;TZID=Asia/Tokyo:20161108T103000
DTEND;TZID=Asia/Tokyo:20161108T120000
DTSTAMP:20260424T024856
CREATED:20161029T011453Z
LAST-MODIFIED:20161029T011453Z
UID:1059-1478601000-1478606400@ilchibrainyoga-tsujido.com
SUMMARY:へそから始める健康法「へそヒーリング」
DESCRIPTION:お母さんのおなかの中で酸素や栄養をもらう「へそ」。 \n役目は終わったと思われがちですが、実は内臓やリンパ節・神経が集まった「健康ボタン」だったのです。 \nへそを中心にリンパの流れをよくする１０個のヒーリング法で自己healingをしながら \n１日の疲れをその日のうちに取り除きます。 \n自己healingをするbefore\,afterで体の変化を感じていただくことができます。 \nいつでもどこでもできる簡単healingで体と心が軽くなります。 \n  \n内容：へその話・自己ヒーリング法 \n効果 \n１．血液循環が促進される \n２．体温が上がる \n３．免疫力が向上し解毒の排出がスムーズになる \n４．消化・排泄機能が高まる \n５、関節の痛みや緊張が緩和される \n６、頭がクリアーになり集中力が高まる \n７、肌のツヤがよくなり顔が明るくなる \n８、呼吸が深まり心の中心をとることができる \nぜひ体験してみてください。 \nイベントのご予約はこちら
URL:https://ilchibrainyoga-tsujido.com/event/%e3%81%b8%e3%81%9d%e3%81%8b%e3%82%89%e5%a7%8b%e3%82%81%e3%82%8b%e5%81%a5%e5%ba%b7%e6%b3%95%e3%80%8c%e3%81%b8%e3%81%9d%e3%83%92%e3%83%bc%e3%83%aa%e3%83%b3%e3%82%b0%e3%80%8d-17/
LOCATION:イルチブレインヨガ辻堂スタジオ\, 神奈川県茅ヶ崎市浜竹２丁目２−４ 安達ビル2階\, 2530021\, 日本
END:VEVENT
BEGIN:VEVENT
DTSTART;TZID=Asia/Tokyo:20161106T142500
DTEND;TZID=Asia/Tokyo:20161106T160000
DTSTAMP:20260424T024856
CREATED:20161029T011308Z
LAST-MODIFIED:20161029T011308Z
UID:1058-1478442300-1478448000@ilchibrainyoga-tsujido.com
SUMMARY:へそから始める健康法「へそヒーリング」
DESCRIPTION:お母さんのおなかの中で酸素や栄養をもらう「へそ」。 \n役目は終わったと思われがちですが、実は内臓やリンパ節・神経が集まった「健康ボタン」だったのです。 \nへそを中心にリンパの流れをよくする１０個のヒーリング法で自己healingをしながら \n１日の疲れをその日のうちに取り除きます。 \n自己healingをするbefore\,afterで体の変化を感じていただくことができます。 \nいつでもどこでもできる簡単healingで体と心が軽くなります。 \n  \n内容：へその話・自己ヒーリング法 \n効果 \n１．血液循環が促進される \n２．体温が上がる \n３．免疫力が向上し解毒の排出がスムーズになる \n４．消化・排泄機能が高まる \n５、関節の痛みや緊張が緩和される \n６、頭がクリアーになり集中力が高まる \n７、肌のツヤがよくなり顔が明るくなる \n８、呼吸が深まり心の中心をとることができる \nぜひ体験してみてください。 \nイベントのご予約はこちら
URL:https://ilchibrainyoga-tsujido.com/event/%e3%81%b8%e3%81%9d%e3%81%8b%e3%82%89%e5%a7%8b%e3%82%81%e3%82%8b%e5%81%a5%e5%ba%b7%e6%b3%95%e3%80%8c%e3%81%b8%e3%81%9d%e3%83%92%e3%83%bc%e3%83%aa%e3%83%b3%e3%82%b0%e3%80%8d-16/
LOCATION:イルチブレインヨガ辻堂スタジオ\, 神奈川県茅ヶ崎市浜竹２丁目２−４ 安達ビル2階\, 2530021\, 日本
END:VEVENT
BEGIN:VEVENT
DTSTART;TZID=Asia/Tokyo:20161104T190000
DTEND;TZID=Asia/Tokyo:20161104T210000
DTSTAMP:20260424T024856
CREATED:20161029T012806Z
LAST-MODIFIED:20161029T012806Z
UID:1062-1478286000-1478293200@ilchibrainyoga-tsujido.com
SUMMARY:4日はヨガの日
DESCRIPTION:4日はヨガの日 \nいま、イルチブレインヨガで話題のへそヒーリングも体験できるへそ＆腸健康ヨガ体験。 \nネットから予約いただいた方→体験費が1000円でお得 \nヨガが体と心をつなげるという意味があります。 \n質のよい、呼吸と瞑想でリラックス効果があらわれます。 \nトレーニングでは、体をよくほぐし、体の中心のお腹が温かくなっていき、 \nそれで複式呼吸（下腹が動く呼吸）が自然にできるようにします。 \n期待する効果は \n便秘、ひどい肩こり・腰痛、やる気が出ない、体力の減退・運動不足解消、痩せたい・太りたい etc. \n最近は、おへそ周りをほぐすことで、免疫系・循環器系・呼吸器系への効果が大きいことが分かってきました。 \n最新のトレーニング法を組み合わせ、効果が倍増 \n飽きずに、健康つくりにも役立つヨガです。 \n日常生活で体のメンテナンスをお考えの方、ぜひこの機会に体験してみてください。
URL:https://ilchibrainyoga-tsujido.com/event/4%e6%97%a5%e3%81%af%e3%83%a8%e3%82%ac%e3%81%ae%e6%97%a5-20/
LOCATION:イルチブレインヨガ辻堂スタジオ\, 神奈川県茅ヶ崎市浜竹２丁目２−４ 安達ビル2階\, 2530021\, 日本
END:VEVENT
BEGIN:VEVENT
DTSTART;TZID=Asia/Tokyo:20161104T100000
DTEND;TZID=Asia/Tokyo:20161104T120000
DTSTAMP:20260424T024856
CREATED:20161029T012657Z
LAST-MODIFIED:20161029T012657Z
UID:1061-1478253600-1478260800@ilchibrainyoga-tsujido.com
SUMMARY:4日はヨガの日
DESCRIPTION:4日はヨガの日 \nいま、イルチブレインヨガで話題のへそヒーリングも体験できるへそ＆腸健康ヨガ体験。 \nネットから予約いただいた方→体験費が1000円でお得 \nヨガが体と心をつなげるという意味があります。 \n質のよい、呼吸と瞑想でリラックス効果があらわれます。 \nトレーニングでは、体をよくほぐし、体の中心のお腹が温かくなっていき、 \nそれで複式呼吸（下腹が動く呼吸）が自然にできるようにします。 \n期待する効果は \n便秘、ひどい肩こり・腰痛、やる気が出ない、体力の減退・運動不足解消、痩せたい・太りたい etc. \n最近は、おへそ周りをほぐすことで、免疫系・循環器系・呼吸器系への効果が大きいことが分かってきました。 \n最新のトレーニング法を組み合わせ、効果が倍増 \n飽きずに、健康つくりにも役立つヨガです。 \n日常生活で体のメンテナンスをお考えの方、ぜひこの機会に体験してみてください。 \nイベントのご予約はこちら
URL:https://ilchibrainyoga-tsujido.com/event/4%e6%97%a5%e3%81%af%e3%83%a8%e3%82%ac%e3%81%ae%e6%97%a5-19/
LOCATION:イルチブレインヨガ辻堂スタジオ\, 神奈川県茅ヶ崎市浜竹２丁目２−４ 安達ビル2階\, 2530021\, 日本
END:VEVENT
BEGIN:VEVENT
DTSTART;TZID=Asia/Tokyo:20161103T103000
DTEND;TZID=Asia/Tokyo:20161103T120000
DTSTAMP:20260424T024856
CREATED:20161029T011116Z
LAST-MODIFIED:20161029T011116Z
UID:1057-1478169000-1478174400@ilchibrainyoga-tsujido.com
SUMMARY:へそから始める健康法「へそヒーリング」
DESCRIPTION:お母さんのおなかの中で酸素や栄養をもらう「へそ」。 \n役目は終わったと思われがちですが、実は内臓やリンパ節・神経が集まった「健康ボタン」だったのです。 \nへそを中心にリンパの流れをよくする１０個のヒーリング法で自己healingをしながら \n１日の疲れをその日のうちに取り除きます。 \n自己healingをするbefore\,afterで体の変化を感じていただくことができます。 \nいつでもどこでもできる簡単healingで体と心が軽くなります。 \n  \n内容：へその話・自己ヒーリング法 \n効果 \n１．血液循環が促進される \n２．体温が上がる \n３．免疫力が向上し解毒の排出がスムーズになる \n４．消化・排泄機能が高まる \n５、関節の痛みや緊張が緩和される \n６、頭がクリアーになり集中力が高まる \n７、肌のツヤがよくなり顔が明るくなる \n８、呼吸が深まり心の中心をとることができる \nぜひ体験してみてください。 \nイベントのご予約はこちら
URL:https://ilchibrainyoga-tsujido.com/event/%e3%81%b8%e3%81%9d%e3%81%8b%e3%82%89%e5%a7%8b%e3%82%81%e3%82%8b%e5%81%a5%e5%ba%b7%e6%b3%95%e3%80%8c%e3%81%b8%e3%81%9d%e3%83%92%e3%83%bc%e3%83%aa%e3%83%b3%e3%82%b0%e3%80%8d-15/
LOCATION:イルチブレインヨガ辻堂スタジオ\, 神奈川県茅ヶ崎市浜竹２丁目２−４ 安達ビル2階\, 2530021\, 日本
END:VEVENT
BEGIN:VEVENT
DTSTART;TZID=Asia/Tokyo:20161030T143000
DTEND;TZID=Asia/Tokyo:20161030T160000
DTSTAMP:20260424T024856
CREATED:20161011T095331Z
LAST-MODIFIED:20161011T095906Z
UID:1051-1477837800-1477843200@ilchibrainyoga-tsujido.com
SUMMARY:へそから始める健康法「へそヒーリング」
DESCRIPTION:お母さんのおなかの中で酸素や栄養をもらう「へそ」。 \n役目は終わったと思われがちですが、実は内臓やリンパ節・神経が集まった「健康ボタン」だったのです。 \nへそを中心にリンパの流れをよくする１０個のヒーリング法で自己healingをしながら \n１日の疲れをその日のうちに取り除きます。 \n自己healingをするbefore\,afterで体の変化を感じていただくことができます。 \nいつでもどこでもできる簡単healingで体と心が軽くなります。 \n  \n内容：へその話・自己ヒーリング法 \n効果 \n１．血液循環が促進される \n２．体温が上がる \n３．免疫力が向上し解毒の排出がスムーズになる \n４．消化・排泄機能が高まる \n５、関節の痛みや緊張が緩和される \n６、頭がクリアーになり集中力が高まる \n７、肌のツヤがよくなり顔が明るくなる \n８、呼吸が深まり心の中心をとることができる \nぜひ体験してみてください。 \nイベントのご予約はこちら
URL:https://ilchibrainyoga-tsujido.com/event/%e3%81%b8%e3%81%9d%e3%81%8b%e3%82%89%e5%a7%8b%e3%82%81%e3%82%8b%e5%81%a5%e5%ba%b7%e6%b3%95%e3%80%8c%e3%81%b8%e3%81%9d%e3%83%92%e3%83%bc%e3%83%aa%e3%83%b3%e3%82%b0%e3%80%8d-13/
LOCATION:イルチブレインヨガ辻堂スタジオ\, 神奈川県茅ヶ崎市浜竹２丁目２−４ 安達ビル2階\, 2530021\, 日本
END:VEVENT
BEGIN:VEVENT
DTSTART;TZID=Asia/Tokyo:20161025T103000
DTEND;TZID=Asia/Tokyo:20161025T120000
DTSTAMP:20260424T024856
CREATED:20161011T095207Z
LAST-MODIFIED:20161011T095221Z
UID:1050-1477391400-1477396800@ilchibrainyoga-tsujido.com
SUMMARY:へそから始める健康法「へそヒーリング」
DESCRIPTION:お母さんのおなかの中で酸素や栄養をもらう「へそ」。 \n役目は終わったと思われがちですが、実は内臓やリンパ節・神経が集まった「健康ボタン」だったのです。 \nへそを中心にリンパの流れをよくする１０個のヒーリング法で自己healingをしながら \n１日の疲れをその日のうちに取り除きます。 \n自己healingをするbefore\,afterで体の変化を感じていただくことができます。 \nいつでもどこでもできる簡単healingで体と心が軽くなります。 \n  \n内容：へその話・自己ヒーリング法 \n効果 \n１．血液循環が促進される \n２．体温が上がる \n３．免疫力が向上し解毒の排出がスムーズになる \n４．消化・排泄機能が高まる \n５、関節の痛みや緊張が緩和される \n６、頭がクリアーになり集中力が高まる \n７、肌のツヤがよくなり顔が明るくなる \n８、呼吸が深まり心の中心をとることができる \nぜひ体験してみてください。 \n  \nイベントのご予約はこちら
URL:https://ilchibrainyoga-tsujido.com/event/%e3%81%b8%e3%81%9d%e3%81%8b%e3%82%89%e5%a7%8b%e3%82%81%e3%82%8b%e5%81%a5%e5%ba%b7%e6%b3%95%e3%80%8c%e3%81%b8%e3%81%9d%e3%83%92%e3%83%bc%e3%83%aa%e3%83%b3%e3%82%b0%e3%80%8d-12/
LOCATION:イルチブレインヨガ辻堂スタジオ\, 神奈川県茅ヶ崎市浜竹２丁目２−４ 安達ビル2階\, 2530021\, 日本
END:VEVENT
BEGIN:VEVENT
DTSTART;TZID=Asia/Tokyo:20161023T143000
DTEND;TZID=Asia/Tokyo:20161023T160000
DTSTAMP:20260424T024856
CREATED:20161020T132132Z
LAST-MODIFIED:20161020T132132Z
UID:1055-1477233000-1477238400@ilchibrainyoga-tsujido.com
SUMMARY:へそから始める健康法「へそヒーリング」
DESCRIPTION:お母さんのおなかの中で酸素や栄養をもらう「へそ」。 \n役目は終わったと思われがちですが、実は内臓やリンパ節・神経が集まった「健康ボタン」だったのです。 \nへそを中心にリンパの流れをよくする１０個のヒーリング法で自己healingをしながら \n１日の疲れをその日のうちに取り除きます。 \n自己healingをするbefore\,afterで体の変化を感じていただくことができます。 \nいつでもどこでもできる簡単healingで体と心が軽くなります。 \n  \n内容：へその話・自己ヒーリング法 \n効果 \n１．血液循環が促進される \n２．体温が上がる \n３．免疫力が向上し解毒の排出がスムーズになる \n４．消化・排泄機能が高まる \n５、関節の痛みや緊張が緩和される \n６、頭がクリアーになり集中力が高まる \n７、肌のツヤがよくなり顔が明るくなる \n８、呼吸が深まり心の中心をとることができる \nぜひ体験してみてください。
URL:https://ilchibrainyoga-tsujido.com/event/%e3%81%b8%e3%81%9d%e3%81%8b%e3%82%89%e5%a7%8b%e3%82%81%e3%82%8b%e5%81%a5%e5%ba%b7%e6%b3%95%e3%80%8c%e3%81%b8%e3%81%9d%e3%83%92%e3%83%bc%e3%83%aa%e3%83%b3%e3%82%b0%e3%80%8d-14/
LOCATION:イルチブレインヨガ辻堂スタジオ\, 神奈川県茅ヶ崎市浜竹２丁目２−４ 安達ビル2階\, 2530021\, 日本
END:VEVENT
BEGIN:VEVENT
DTSTART;TZID=Asia/Tokyo:20161020T103000
DTEND;TZID=Asia/Tokyo:20161020T120000
DTSTAMP:20260424T024856
CREATED:20161004T125759Z
LAST-MODIFIED:20161004T125759Z
UID:1045-1476959400-1476964800@ilchibrainyoga-tsujido.com
SUMMARY:へそから始める健康法「へそヒーリング」
DESCRIPTION:お母さんのおなかの中で酸素や栄養をもらう「へそ」。 \n役目は終わったと思われがちですが、実は内臓やリンパ節・神経が集まった「健康ボタン」だったのです。 \nへそを中心にリンパの流れをよくする１０個のヒーリング法で自己healingをしながら \n１日の疲れをその日のうちに取り除きます。 \n自己healingをするbefore\,afterで体の変化を感じていただくことができます。 \nいつでもどこでもできる簡単healingで体と心が軽くなります。 \n  \n内容：へその話・自己ヒーリング法 \n効果 \n１．血液循環が促進される \n２．体温が上がる \n３．免疫力が向上し解毒の排出がスムーズになる \n４．消化・排泄機能が高まる \n５、関節の痛みや緊張が緩和される \n６、頭がクリアーになり集中力が高まる \n７、肌のツヤがよくなり顔が明るくなる \n８、呼吸が深まり心の中心をとることができる \nぜひ体験してみてください。 \nイベントのご予約はこちら
URL:https://ilchibrainyoga-tsujido.com/event/%e3%81%b8%e3%81%9d%e3%81%8b%e3%82%89%e5%a7%8b%e3%82%81%e3%82%8b%e5%81%a5%e5%ba%b7%e6%b3%95%e3%80%8c%e3%81%b8%e3%81%9d%e3%83%92%e3%83%bc%e3%83%aa%e3%83%b3%e3%82%b0%e3%80%8d-9/
LOCATION:イルチブレインヨガ辻堂スタジオ\, 神奈川県茅ヶ崎市浜竹２丁目２−４ 安達ビル2階\, 2530021\, 日本
END:VEVENT
BEGIN:VEVENT
DTSTART;TZID=Asia/Tokyo:20161016T143000
DTEND;TZID=Asia/Tokyo:20161016T160000
DTSTAMP:20260424T024856
CREATED:20161004T125604Z
LAST-MODIFIED:20161004T125832Z
UID:1044-1476628200-1476633600@ilchibrainyoga-tsujido.com
SUMMARY:へそから始める健康法「へそヒーリング」
DESCRIPTION:お母さんのおなかの中で酸素や栄養をもらう「へそ」。 \n役目は終わったと思われがちですが、実は内臓やリンパ節・神経が集まった「健康ボタン」だったのです。 \nへそを中心にリンパの流れをよくする１０個のヒーリング法で自己healingをしながら \n１日の疲れをその日のうちに取り除きます。 \n自己healingをするbefore\,afterで体の変化を感じていただくことができます。 \nいつでもどこでもできる簡単healingで体と心が軽くなります。 \n  \n内容：へその話・自己ヒーリング法 \n効果 \n１．血液循環が促進される \n２．体温が上がる \n３．免疫力が向上し解毒の排出がスムーズになる \n４．消化・排泄機能が高まる \n５、関節の痛みや緊張が緩和される \n６、頭がクリアーになり集中力が高まる \n７、肌のツヤがよくなり顔が明るくなる \n８、呼吸が深まり心の中心をとることができる \nぜひ体験してみてください。 \nイベントのご予約はこちら
URL:https://ilchibrainyoga-tsujido.com/event/%e3%81%b8%e3%81%9d%e3%81%8b%e3%82%89%e5%a7%8b%e3%82%81%e3%82%8b%e5%81%a5%e5%ba%b7%e6%b3%95%e3%80%8c%e3%81%b8%e3%81%9d%e3%83%92%e3%83%bc%e3%83%aa%e3%83%b3%e3%82%b0%e3%80%8d-8/
LOCATION:イルチブレインヨガ辻堂スタジオ\, 神奈川県茅ヶ崎市浜竹２丁目２−４ 安達ビル2階\, 2530021\, 日本
END:VEVENT
BEGIN:VEVENT
DTSTART;TZID=Asia/Tokyo:20161014T190000
DTEND;TZID=Asia/Tokyo:20161014T210000
DTSTAMP:20260424T024856
CREATED:20160927T134807Z
LAST-MODIFIED:20160927T134807Z
UID:1042-1476471600-1476478800@ilchibrainyoga-tsujido.com
SUMMARY:4のつく日はヨガの日
DESCRIPTION:4のつく日はヨガの日 \nいま、イルチブレインヨガで話題のへそヒーリングも体験できるへそ＆腸健康ヨガ体験。 \nネットから予約いただいた方→体験費が1000円でお得 \nヨガが体と心をつなげるという意味があります。 \n質のよい、呼吸と瞑想でリラックス効果があらわれます。 \nトレーニングでは、体をよくほぐし、体の中心のお腹が温かくなっていき、 \nそれで複式呼吸（下腹が動く呼吸）が自然にできるようにします。 \n期待する効果は \n便秘、ひどい肩こり・腰痛、やる気が出ない、体力の減退・運動不足解消、痩せたい・太りたい etc. \n最近は、おへそ周りをほぐすことで、免疫系・循環器系・呼吸器系への効果が大きいことが分かってきました。 \n最新のトレーニング法を組み合わせ、効果が倍増 \n飽きずに、健康つくりにも役立つヨガです。 \n日常生活で体のメンテナンスをお考えの方、ぜひこの機会に体験してみてください。 \nイベントのご予約はこちら
URL:https://ilchibrainyoga-tsujido.com/event/4%e3%81%ae%e3%81%a4%e3%81%8f%e6%97%a5%e3%81%af%e3%83%a8%e3%82%ac%e3%81%ae%e6%97%a5-20/
LOCATION:イルチブレインヨガ辻堂スタジオ\, 神奈川県茅ヶ崎市浜竹２丁目２−４ 安達ビル2階\, 2530021\, 日本
END:VEVENT
BEGIN:VEVENT
DTSTART;TZID=Asia/Tokyo:20161014T100000
DTEND;TZID=Asia/Tokyo:20161014T100000
DTSTAMP:20260424T024856
CREATED:20160927T134707Z
LAST-MODIFIED:20160927T134707Z
UID:1041-1476439200-1476439200@ilchibrainyoga-tsujido.com
SUMMARY:4のつく日はヨガの日
DESCRIPTION:4のつく日はヨガの日 \nいま、イルチブレインヨガで話題のへそヒーリングも体験できるへそ＆腸健康ヨガ体験。 \nネットから予約いただいた方→体験費が1000円でお得 \nヨガが体と心をつなげるという意味があります。 \n質のよい、呼吸と瞑想でリラックス効果があらわれます。 \nトレーニングでは、体をよくほぐし、体の中心のお腹が温かくなっていき、 \nそれで複式呼吸（下腹が動く呼吸）が自然にできるようにします。 \n期待する効果は \n便秘、ひどい肩こり・腰痛、やる気が出ない、体力の減退・運動不足解消、痩せたい・太りたい etc. \n最近は、おへそ周りをほぐすことで、免疫系・循環器系・呼吸器系への効果が大きいことが分かってきました。 \n最新のトレーニング法を組み合わせ、効果が倍増 \n飽きずに、健康つくりにも役立つヨガです。 \n日常生活で体のメンテナンスをお考えの方、ぜひこの機会に体験してみてください。 \nイベントのご予約はこちら
URL:https://ilchibrainyoga-tsujido.com/event/4%e3%81%ae%e3%81%a4%e3%81%8f%e6%97%a5%e3%81%af%e3%83%a8%e3%82%ac%e3%81%ae%e6%97%a5-19/
LOCATION:イルチブレインヨガ辻堂スタジオ\, 神奈川県茅ヶ崎市浜竹２丁目２−４ 安達ビル2階\, 2530021\, 日本
END:VEVENT
BEGIN:VEVENT
DTSTART;TZID=Asia/Tokyo:20161013T100000
DTEND;TZID=Asia/Tokyo:20161013T120000
DTSTAMP:20260424T024856
CREATED:20160927T031324Z
LAST-MODIFIED:20160927T031324Z
UID:1038-1476352800-1476360000@ilchibrainyoga-tsujido.com
SUMMARY:へそから始める健康法「へそヒーリング」
DESCRIPTION:お母さんのおなかの中で酸素や栄養をもらう「へそ」。 \n役目は終わったと思われがちですが、実は内臓やリンパ節・神経が集まった「健康ボタン」だったのです。 \nへそを中心にリンパの流れをよくする１０個のヒーリング法で自己healingをしながら \n１日の疲れをその日のうちに取り除きます。 \n自己healingをするbefore\,afterで体の変化を感じていただくことができます。 \nいつでもどこでもできる簡単healingで体と心が軽くなります。 \n  \n内容：へその話・自己ヒーリング法 \n効果 \n１．血液循環が促進される \n２．体温が上がる \n３．免疫力が向上し解毒の排出がスムーズになる \n４．消化・排泄機能が高まる \n５、関節の痛みや緊張が緩和される \n６、頭がクリアーになり集中力が高まる \n７、肌のツヤがよくなり顔が明るくなる \n８、呼吸が深まり心の中心をとることができる \nぜひ体験してみてください。 \nイベントのご予約はこちら
URL:https://ilchibrainyoga-tsujido.com/event/%e3%81%b8%e3%81%9d%e3%81%8b%e3%82%89%e5%a7%8b%e3%82%81%e3%82%8b%e5%81%a5%e5%ba%b7%e6%b3%95%e3%80%8c%e3%81%b8%e3%81%9d%e3%83%92%e3%83%bc%e3%83%aa%e3%83%b3%e3%82%b0%e3%80%8d-7/
LOCATION:イルチブレインヨガ辻堂スタジオ\, 神奈川県茅ヶ崎市浜竹２丁目２−４ 安達ビル2階\, 2530021\, 日本
END:VEVENT
BEGIN:VEVENT
DTSTART;TZID=Asia/Tokyo:20161008T023000
DTEND;TZID=Asia/Tokyo:20161008T040000
DTSTAMP:20260424T024856
CREATED:20160927T030618Z
LAST-MODIFIED:20160927T030618Z
UID:1036-1475893800-1475899200@ilchibrainyoga-tsujido.com
SUMMARY:へそから始める健康法「へそヒーリング」
DESCRIPTION:お母さんのおなかの中で酸素や栄養をもらう「へそ」。 \n役目は終わったと思われがちですが、実は内臓やリンパ節・神経が集まった「健康ボタン」だったのです。 \nへそを中心にリンパの流れをよくする１０個のヒーリング法で自己healingをしながら \n１日の疲れをその日のうちに取り除きます。 \n自己healingをするbefore\,afterで体の変化を感じていただくことができます。 \nいつでもどこでもできる簡単healingで体と心が軽くなります。 \n  \n内容：へその話・自己ヒーリング法 \n効果 \n１．血液循環が促進される \n２．体温が上がる \n３．免疫力が向上し解毒の排出がスムーズになる \n４．消化・排泄機能が高まる \n５、関節の痛みや緊張が緩和される \n６、頭がクリアーになり集中力が高まる \n７、肌のツヤがよくなり顔が明るくなる \n８、呼吸が深まり心の中心をとることができる \nぜひ体験してみてください。 \nイベントのご予約はこちら
URL:https://ilchibrainyoga-tsujido.com/event/%e3%81%b8%e3%81%9d%e3%81%8b%e3%82%89%e5%a7%8b%e3%82%81%e3%82%8b%e5%81%a5%e5%ba%b7%e6%b3%95%e3%80%8c%e3%81%b8%e3%81%9d%e3%83%92%e3%83%bc%e3%83%aa%e3%83%b3%e3%82%b0%e3%80%8d-6/
LOCATION:イルチブレインヨガ辻堂スタジオ\, 神奈川県茅ヶ崎市浜竹２丁目２−４ 安達ビル2階\, 2530021\, 日本
END:VEVENT
BEGIN:VEVENT
DTSTART;TZID=Asia/Tokyo:20161006T223000
DTEND;TZID=Asia/Tokyo:20161006T223000
DTSTAMP:20260424T024856
CREATED:20160927T030458Z
LAST-MODIFIED:20160927T030458Z
UID:1035-1475793000-1475793000@ilchibrainyoga-tsujido.com
SUMMARY:へそから始める健康法「へそヒーリング」
DESCRIPTION:お母さんのおなかの中で酸素や栄養をもらう「へそ」。 \n役目は終わったと思われがちですが、実は内臓やリンパ節・神経が集まった「健康ボタン」だったのです。 \nへそを中心にリンパの流れをよくする１０個のヒーリング法で自己healingをしながら \n１日の疲れをその日のうちに取り除きます。 \n自己healingをするbefore\,afterで体の変化を感じていただくことができます。 \nいつでもどこでもできる簡単healingで体と心が軽くなります。 \n  \n内容：へその話・自己ヒーリング法 \n効果 \n１．血液循環が促進される \n２．体温が上がる \n３．免疫力が向上し解毒の排出がスムーズになる \n４．消化・排泄機能が高まる \n５、関節の痛みや緊張が緩和される \n６、頭がクリアーになり集中力が高まる \n７、肌のツヤがよくなり顔が明るくなる \n８、呼吸が深まり心の中心をとることができる \nぜひ体験してみてください。 \nイベントのご予約はこちら
URL:https://ilchibrainyoga-tsujido.com/event/%e3%81%b8%e3%81%9d%e3%81%8b%e3%82%89%e5%a7%8b%e3%82%81%e3%82%8b%e5%81%a5%e5%ba%b7%e6%b3%95%e3%80%8c%e3%81%b8%e3%81%9d%e3%83%92%e3%83%bc%e3%83%aa%e3%83%b3%e3%82%b0%e3%80%8d-5/
LOCATION:イルチブレインヨガ辻堂スタジオ\, 神奈川県茅ヶ崎市浜竹２丁目２−４ 安達ビル2階\, 2530021\, 日本
END:VEVENT
BEGIN:VEVENT
DTSTART;TZID=Asia/Tokyo:20161004T190000
DTEND;TZID=Asia/Tokyo:20161004T210000
DTSTAMP:20260424T024856
CREATED:20160927T134554Z
LAST-MODIFIED:20160927T134554Z
UID:1040-1475607600-1475614800@ilchibrainyoga-tsujido.com
SUMMARY:4日はヨガの日
DESCRIPTION:4日はヨガの日 \nいま、イルチブレインヨガで話題のへそヒーリングも体験できるへそ＆腸健康ヨガ体験。 \nネットから予約いただいた方→体験費が1000円でお得 \nヨガが体と心をつなげるという意味があります。 \n質のよい、呼吸と瞑想でリラックス効果があらわれます。 \nトレーニングでは、体をよくほぐし、体の中心のお腹が温かくなっていき、 \nそれで複式呼吸（下腹が動く呼吸）が自然にできるようにします。 \n期待する効果は \n便秘、ひどい肩こり・腰痛、やる気が出ない、体力の減退・運動不足解消、痩せたい・太りたい etc. \n最近は、おへそ周りをほぐすことで、免疫系・循環器系・呼吸器系への効果が大きいことが分かってきました。 \n最新のトレーニング法を組み合わせ、効果が倍増 \n飽きずに、健康つくりにも役立つヨガです。 \n日常生活で体のメンテナンスをお考えの方、ぜひこの機会に体験してみてください。 \nイベントのご予約はこちら
URL:https://ilchibrainyoga-tsujido.com/event/4%e6%97%a5%e3%81%af%e3%83%a8%e3%82%ac%e3%81%ae%e6%97%a5-18/
LOCATION:イルチブレインヨガ辻堂スタジオ\, 神奈川県茅ヶ崎市浜竹２丁目２−４ 安達ビル2階\, 2530021\, 日本
END:VEVENT
BEGIN:VEVENT
DTSTART;TZID=Asia/Tokyo:20161004T023000
DTEND;TZID=Asia/Tokyo:20161004T043000
DTSTAMP:20260424T024856
CREATED:20160927T134434Z
LAST-MODIFIED:20160927T134434Z
UID:1039-1475548200-1475555400@ilchibrainyoga-tsujido.com
SUMMARY:4日はヨガの日
DESCRIPTION:4日はヨガの日 \nいま、イルチブレインヨガで話題のへそヒーリングも体験できるへそ＆腸健康ヨガ体験。 \nネットから予約いただいた方→体験費が1000円でお得 \nヨガが体と心をつなげるという意味があります。 \n質のよい、呼吸と瞑想でリラックス効果があらわれます。 \nトレーニングでは、体をよくほぐし、体の中心のお腹が温かくなっていき、 \nそれで複式呼吸（下腹が動く呼吸）が自然にできるようにします。 \n期待する効果は \n便秘、ひどい肩こり・腰痛、やる気が出ない、体力の減退・運動不足解消、痩せたい・太りたい etc. \n最近は、おへそ周りをほぐすことで、免疫系・循環器系・呼吸器系への効果が大きいことが分かってきました。 \n最新のトレーニング法を組み合わせ、効果が倍増 \n飽きずに、健康つくりにも役立つヨガです。 \n日常生活で体のメンテナンスをお考えの方、ぜひこの機会に体験してみてください。 \nイベントのご予約はこちら
URL:https://ilchibrainyoga-tsujido.com/event/4%e6%97%a5%e3%81%af%e3%83%a8%e3%82%ac%e3%81%ae%e6%97%a5-17/
LOCATION:イルチブレインヨガ辻堂スタジオ\, 神奈川県茅ヶ崎市浜竹２丁目２−４ 安達ビル2階\, 2530021\, 日本
END:VEVENT
BEGIN:VEVENT
DTSTART;TZID=Asia/Tokyo:20160927T103000
DTEND;TZID=Asia/Tokyo:20160927T120000
DTSTAMP:20260424T024856
CREATED:20160913T130317Z
LAST-MODIFIED:20160913T130317Z
UID:1030-1474972200-1474977600@ilchibrainyoga-tsujido.com
SUMMARY:へそから始める健康法「へそヒーリング」
DESCRIPTION:母さんのおなかの中で酸素や栄養をもらう「へそ」。 \n役目は終わったと思われがちですが、実は内臓やリンパ節・神経が集まった「健康ボタン」だったのです。 \nへそを中心にリンパの流れをよくする１０個のヒーリング法で自己healingをしながら \n１日の疲れをその日のうちに取り除きます。 \n自己healingをするbefore\,afterで体の変化を感じていただくことができます。 \nいつでもどこでもできる簡単healingで体と心が軽くなります。 \n  \n内容：へその話・自己ヒーリング法 \n効果 \n１．血液循環が促進される \n２．体温が上がる \n３．免疫力が向上し解毒の排出がスムーズになる \n４．消化・排泄機能が高まる \n５、関節の痛みや緊張が緩和される \n６、頭がクリアーになり集中力が高まる \n７、肌のツヤがよくなり顔が明るくなる \n８、呼吸が深まり心の中心をとることができる \nぜひ体験してみてください。 \n  \nイベントのご予約はこちら
URL:https://ilchibrainyoga-tsujido.com/event/%e3%81%b8%e3%81%9d%e3%81%8b%e3%82%89%e5%a7%8b%e3%82%81%e3%82%8b%e5%81%a5%e5%ba%b7%e6%b3%95%e3%80%8c%e3%81%b8%e3%81%9d%e3%83%92%e3%83%bc%e3%83%aa%e3%83%b3%e3%82%b0%e3%80%8d-4/
LOCATION:イルチブレインヨガ辻堂スタジオ\, 神奈川県茅ヶ崎市浜竹２丁目２−４ 安達ビル2階\, 2530021\, 日本
END:VEVENT
BEGIN:VEVENT
DTSTART;TZID=Asia/Tokyo:20160924T143000
DTEND;TZID=Asia/Tokyo:20160924T160000
DTSTAMP:20260424T024856
CREATED:20160903T142409Z
LAST-MODIFIED:20160913T094313Z
UID:1021-1474727400-1474732800@ilchibrainyoga-tsujido.com
SUMMARY:へそから始める健康法「へそヒーリング」
DESCRIPTION:お母さんのおなかの中で酸素や栄養をもらう「へそ」。 \n役目は終わったと思われがちですが、実は内臓やリンパ節・神経が集まった「健康ボタン」だったのです。 \nへそを中心にリンパの流れをよくする１０個のヒーリング法で自己healingをしながら \n１日の疲れをその日のうちに取り除きます。 \n自己healingをするbefore\,afterで体の変化を感じていただくことができます。 \nいつでもどこでもできる簡単healingで体と心が軽くなります。 \n  \n内容：へその話・10分で出来る自己ヒーリング法\n \n効果 \n１．血液循環が促進される \n２．体温が上がる \n３．免疫力が向上し解毒の排出がスムーズになる \n４．消化・排泄機能が高まる \n５、関節の痛みや緊張が緩和される \n６、頭がクリアーになり集中力が高まる \n７、肌のツヤがよくなり顔が明るくなる \n８、呼吸が深まり心の中心をとることができる \nぜひ体験してみてください。 \nイベントのご予約はこちら
URL:https://ilchibrainyoga-tsujido.com/event/%e3%81%b8%e3%81%9d%e3%81%8b%e3%82%89%e5%a7%8b%e3%82%81%e3%82%8b%e5%81%a5%e5%ba%b7%e6%b3%95%e3%80%8c%e3%81%b8%e3%81%9d%e3%83%92%e3%83%bc%e3%83%aa%e3%83%b3%e3%82%b0%e3%80%8d-2/
LOCATION:イルチブレインヨガ辻堂スタジオ\, 神奈川県茅ヶ崎市浜竹２丁目２−４ 安達ビル2階\, 2530021\, 日本
END:VEVENT
BEGIN:VEVENT
DTSTART;TZID=Asia/Tokyo:20160924T103000
DTEND;TZID=Asia/Tokyo:20160924T123000
DTSTAMP:20260424T024856
CREATED:20160829T232519Z
LAST-MODIFIED:20160829T232519Z
UID:1016-1474713000-1474720200@ilchibrainyoga-tsujido.com
SUMMARY:4のつく日はヨガの日
DESCRIPTION:4のつく日はヨガの日 \nいま、イルチブレインヨガで話題のへそヒーリングも体験できるへそ＆腸健康ヨガ体験。 \nネットから予約いただいた方→体験費が1000円でお得 \nヨガが体と心をつなげるという意味があります。 \n質のよい、呼吸と瞑想でリラックス効果があらわれます。 \nトレーニングでは、体をよくほぐし、体の中心のお腹が温かくなっていき、 \nそれで複式呼吸（下腹が動く呼吸）が自然にできるようにします。 \n期待する効果は \n便秘、ひどい肩こり・腰痛、やる気が出ない、体力の減退・運動不足解消、痩せたい・太りたい etc. \n最近は、おへそ周りをほぐすことで、免疫系・循環器系・呼吸器系への効果が大きいことが分かってきました。 \n最新のトレーニング法を組み合わせ、効果が倍増 \n飽きずに、健康つくりにも役立つヨガです。 \n日常生活で体のメンテナンスをお考えの方、ぜひこの機会に体験してみてください。 \nイベントのご予約はこちら
URL:https://ilchibrainyoga-tsujido.com/event/4%e3%81%ae%e3%81%a4%e3%81%8f%e6%97%a5%e3%81%af%e3%83%a8%e3%82%ac%e3%81%ae%e6%97%a5-17/
LOCATION:イルチブレインヨガ辻堂スタジオ\, 神奈川県茅ヶ崎市浜竹２丁目２−４ 安達ビル2階\, 2530021\, 日本
END:VEVENT
BEGIN:VEVENT
DTSTART;TZID=Asia/Tokyo:20160922T103000
DTEND;TZID=Asia/Tokyo:20160922T120000
DTSTAMP:20260424T024856
CREATED:20160913T130153Z
LAST-MODIFIED:20160913T132227Z
UID:1029-1474540200-1474545600@ilchibrainyoga-tsujido.com
SUMMARY:へそから始める健康法「へそヒーリング」
DESCRIPTION:お母さんのおなかの中で酸素や栄養をもらう「へそ」。 \n役目は終わったと思われがちですが、実は内臓やリンパ節・神経が集まった「健康ボタン」だったのです。 \nへそを中心にリンパの流れをよくする１０個のヒーリング法で自己healingをしながら \n１日の疲れをその日のうちに取り除きます。 \n自己healingをするbefore\,afterで体の変化を感じていただくことができます。 \nいつでもどこでもできる簡単healingで体と心が軽くなります。 \n内容：へその話・10分で出来る自己ヒーリング法\n \n効果 \n１．血液循環が促進される \n２．体温が上がる \n３．免疫力が向上し解毒の排出がスムーズになる \n４．消化・排泄機能が高まる \n５、関節の痛みや緊張が緩和される \n６、頭がクリアーになり集中力が高まる \n７、肌のツヤがよくなり顔が明るくなる \n８、呼吸が深まり心の中心をとることができる \nぜひ体験してみてください。 \nイベントのご予約はこちら
URL:https://ilchibrainyoga-tsujido.com/event/%e3%81%b8%e3%81%9d%e3%81%8b%e3%82%89%e5%a7%8b%e3%82%81%e3%82%8b%e5%81%a5%e5%ba%b7%e6%b3%95%e3%80%8c%e3%81%b8%e3%81%9d%e3%83%92%e3%83%bc%e3%83%aa%e3%83%b3%e3%82%b0%e3%80%8d-3/
LOCATION:イルチブレインヨガ辻堂スタジオ\, 神奈川県茅ヶ崎市浜竹２丁目２−４ 安達ビル2階\, 2530021\, 日本
END:VEVENT
END:VCALENDAR