BEGIN:VCALENDAR
VERSION:2.0
PRODID:-//【湘南茅ヶ崎 平塚 藤沢ヨガ】イルチブレインヨガ辻堂スタジオ｜辻堂駅南口より徒歩8分 体と心と脳のヨガ - ECPv6.15.20//NONSGML v1.0//EN
CALSCALE:GREGORIAN
METHOD:PUBLISH
X-WR-CALNAME:【湘南茅ヶ崎 平塚 藤沢ヨガ】イルチブレインヨガ辻堂スタジオ｜辻堂駅南口より徒歩8分 体と心と脳のヨガ
X-ORIGINAL-URL:https://ilchibrainyoga-tsujido.com
X-WR-CALDESC:【湘南茅ヶ崎 平塚 藤沢ヨガ】イルチブレインヨガ辻堂スタジオ｜辻堂駅南口より徒歩8分 体と心と脳のヨガ のイベント
REFRESH-INTERVAL;VALUE=DURATION:PT1H
X-Robots-Tag:noindex
X-PUBLISHED-TTL:PT1H
BEGIN:VTIMEZONE
TZID:Asia/Tokyo
BEGIN:STANDARD
TZOFFSETFROM:+0900
TZOFFSETTO:+0900
TZNAME:JST
DTSTART:20150101T000000
END:STANDARD
END:VTIMEZONE
BEGIN:VEVENT
DTSTART;TZID=Asia/Tokyo:20170524T100000
DTEND;TZID=Asia/Tokyo:20170524T120000
DTSTAMP:20260423T202503
CREATED:20170406T123946Z
LAST-MODIFIED:20170506T090346Z
UID:1190-1495620000-1495627200@ilchibrainyoga-tsujido.com
SUMMARY:４のつく日はヨガの日
DESCRIPTION:4のつく日はヨガの日 \nいま、イルチブレインヨガで話題のへそヒーリングも体験できるへそ＆腸健康ヨガ体験。 \nネットから予約いただいた方体験費が通常3000円が→1000円でお得 \nヨガが体と心をつなげるという意味があります。 \n質のよい、呼吸と瞑想でリラックス効果があらわれます。 \nトレーニングでは、体をよくほぐし、体の中心のお腹が温かくなっていき、 \nそれで複式呼吸（下腹が動く呼吸）が自然にできるようにします。 \n期待する効果は \n便秘、ひどい肩こり・腰痛、やる気が出ない、体力の減退・運動不足解消、痩せたい・太りたい etc. \n最近は、おへそ周りをほぐすことで、免疫系・循環器系・呼吸器系への効果が大きいことが分かってきました。 \n最新のトレーニング法を組み合わせ、効果が倍増 \n飽きずに、健康つくりにも役立つヨガです。 \n日常生活で体のメンテナンスをお考えの方、ぜひこの機会に体験してみてください。 \nイベントのご予約はこちら
URL:https://ilchibrainyoga-tsujido.com/event/%ef%bc%94%e3%81%ae%e3%81%a4%e3%81%8f%e6%97%a5%e3%81%af%e3%83%a8%e3%82%ac%e3%81%ae%e6%97%a5-20/
LOCATION:イルチブレインヨガ辻堂スタジオ\, 神奈川県茅ヶ崎市浜竹２丁目２−４ 安達ビル2階\, 2530021\, 日本
END:VEVENT
BEGIN:VEVENT
DTSTART;TZID=Asia/Tokyo:20170514T103000
DTEND;TZID=Asia/Tokyo:20170514T123000
DTSTAMP:20260423T202503
CREATED:20170506T090214Z
LAST-MODIFIED:20170506T090214Z
UID:1199-1494757800-1494765000@ilchibrainyoga-tsujido.com
SUMMARY:4のつく日はヨガの日
DESCRIPTION:4のつく日はヨガの日 \nいま、イルチブレインヨガで話題のへそヒーリングも体験できるへそ＆腸健康ヨガ体験。 \nネットから予約いただいた方体験費が通常3000円が→1000円でお得 \nヨガが体と心をつなげるという意味があります。 \n質のよい、呼吸と瞑想でリラックス効果があらわれます。 \nトレーニングでは、体をよくほぐし、体の中心のお腹が温かくなっていき、 \nそれで複式呼吸（下腹が動く呼吸）が自然にできるようにします。 \n期待する効果は \n便秘、ひどい肩こり・腰痛、やる気が出ない、体力の減退・運動不足解消、痩せたい・太りたい etc. \n最近は、おへそ周りをほぐすことで、免疫系・循環器系・呼吸器系への効果が大きいことが分かってきました。 \n最新のトレーニング法を組み合わせ、効果が倍増 \n飽きずに、健康つくりにも役立つヨガです。 \n日常生活で体のメンテナンスをお考えの方、ぜひこの機会に体験してみてください。 \nイベントのご予約はこちら
URL:https://ilchibrainyoga-tsujido.com/event/4%e3%81%ae%e3%81%a4%e3%81%8f%e6%97%a5%e3%81%af%e3%83%a8%e3%82%ac%e3%81%ae%e6%97%a5-30/
LOCATION:イルチブレインヨガ辻堂スタジオ\, 神奈川県茅ヶ崎市浜竹２丁目２−４ 安達ビル2階\, 2530021\, 日本
END:VEVENT
BEGIN:VEVENT
DTSTART;TZID=Asia/Tokyo:20170417T100000
DTEND;TZID=Asia/Tokyo:20170417T160000
DTSTAMP:20260423T202503
CREATED:20170409T060902Z
LAST-MODIFIED:20170409T060902Z
UID:1191-1492423200-1492444800@ilchibrainyoga-tsujido.com
SUMMARY:湘南Hauoliフェスティバル
DESCRIPTION:～商業施設内での中規模イベント～\n第8回湘南Hauoliフェスティバルin茅ヶ崎\nいろんな専門家・専門店が集まって \n身体・心に優しい・うれしい・楽しいイベントです。 \n4月17日（月） \n会場：ブランチ茅ヶ崎２（茅ヶ崎市浜見平３－１） \n10：００～１６：００ \nイルチブレインヨガは、オーラ撮影で出店します。 \nぜひ、遊びにいらしてください。
URL:https://ilchibrainyoga-tsujido.com/event/%e6%b9%98%e5%8d%97hauoli%e3%83%95%e3%82%a7%e3%82%b9%e3%83%86%e3%82%a3%e3%83%90%e3%83%ab/
LOCATION:ブランチ茅ヶ崎２\, 浜見平３－１\, 茅ヶ崎市\, 神奈川県\, Japan
CATEGORIES:オーラ
END:VEVENT
BEGIN:VEVENT
DTSTART;TZID=Asia/Tokyo:20170414T100000
DTEND;TZID=Asia/Tokyo:20170414T120000
DTSTAMP:20260423T202503
CREATED:20170406T122627Z
LAST-MODIFIED:20170406T122627Z
UID:1189-1492164000-1492171200@ilchibrainyoga-tsujido.com
SUMMARY:４のつく日はヨガの日
DESCRIPTION:4のつく日はヨガの日 \nいま、イルチブレインヨガで話題のへそヒーリングも体験できるへそ＆腸健康ヨガ体験。 \nネットから予約いただいた方体験費が通常3000円が→1000円でお得 \nヨガが体と心をつなげるという意味があります。 \n質のよい、呼吸と瞑想でリラックス効果があらわれます。 \nトレーニングでは、体をよくほぐし、体の中心のお腹が温かくなっていき、 \nそれで複式呼吸（下腹が動く呼吸）が自然にできるようにします。 \n期待する効果は \n便秘、ひどい肩こり・腰痛、やる気が出ない、体力の減退・運動不足解消、痩せたい・太りたい etc. \n最近は、おへそ周りをほぐすことで、免疫系・循環器系・呼吸器系への効果が大きいことが分かってきました。 \n最新のトレーニング法を組み合わせ、効果が倍増 \n飽きずに、健康つくりにも役立つヨガです。 \n日常生活で体のメンテナンスをお考えの方、ぜひこの機会に体験してみてください。
URL:https://ilchibrainyoga-tsujido.com/event/%ef%bc%94%e3%81%ae%e3%81%a4%e3%81%8f%e6%97%a5%e3%81%af%e3%83%a8%e3%82%ac%e3%81%ae%e6%97%a5-19/
LOCATION:イルチブレインヨガ辻堂スタジオ\, 神奈川県茅ヶ崎市浜竹２丁目２−４ 安達ビル2階\, 2530021\, 日本
END:VEVENT
BEGIN:VEVENT
DTSTART;TZID=Asia/Tokyo:20170404T190000
DTEND;TZID=Asia/Tokyo:20170404T210000
DTSTAMP:20260423T202503
CREATED:20170313T091106Z
LAST-MODIFIED:20170313T091106Z
UID:1176-1491332400-1491339600@ilchibrainyoga-tsujido.com
SUMMARY:4日はヨガの日
DESCRIPTION:4のつく日はヨガの日 \nいま、イルチブレインヨガで話題のへそヒーリングも体験できるへそ＆腸健康ヨガ体験。 \nネットから予約いただいた方体験費が通常3000円が→1000円でお得 \nヨガが体と心をつなげるという意味があります。 \n質のよい、呼吸と瞑想でリラックス効果があらわれます。 \nトレーニングでは、体をよくほぐし、体の中心のお腹が温かくなっていき、 \nそれで複式呼吸（下腹が動く呼吸）が自然にできるようにします。 \n期待する効果は \n便秘、ひどい肩こり・腰痛、やる気が出ない、体力の減退・運動不足解消、痩せたい・太りたい etc. \n最近は、おへそ周りをほぐすことで、免疫系・循環器系・呼吸器系への効果が大きいことが分かってきました。 \n最新のトレーニング法を組み合わせ、効果が倍増 \n飽きずに、健康つくりにも役立つヨガです。 \n日常生活で体のメンテナンスをお考えの方、ぜひこの機会に体験してみてください。 \nイベントのご予約はこちら
URL:https://ilchibrainyoga-tsujido.com/event/4%e6%97%a5%e3%81%af%e3%83%a8%e3%82%ac%e3%81%ae%e6%97%a5-25/
LOCATION:イルチブレインヨガ辻堂スタジオ\, 神奈川県茅ヶ崎市浜竹２丁目２−４ 安達ビル2階\, 2530021\, 日本
END:VEVENT
BEGIN:VEVENT
DTSTART;TZID=Asia/Tokyo:20170404T143000
DTEND;TZID=Asia/Tokyo:20170404T163000
DTSTAMP:20260423T202503
CREATED:20170313T090920Z
LAST-MODIFIED:20170313T091156Z
UID:1175-1491316200-1491323400@ilchibrainyoga-tsujido.com
SUMMARY:4日はヨガの日
DESCRIPTION:4日はヨガの日 \nいま、イルチブレインヨガで話題のへそヒーリングも体験できるへそ＆腸健康ヨガ体験。 \nネットから予約いただいた方体験費が通常3000円が→1000円でお得 \nヨガが体と心をつなげるという意味があります。 \n質のよい、呼吸と瞑想でリラックス効果があらわれます。 \nトレーニングでは、体をよくほぐし、体の中心のお腹が温かくなっていき、 \nそれで複式呼吸（下腹が動く呼吸）が自然にできるようにします。 \n期待する効果は \n便秘、ひどい肩こり・腰痛、やる気が出ない、体力の減退・運動不足解消、痩せたい・太りたい etc. \n最近は、おへそ周りをほぐすことで、免疫系・循環器系・呼吸器系への効果が大きいことが分かってきました。 \n最新のトレーニング法を組み合わせ、効果が倍増 \n飽きずに、健康つくりにも役立つヨガです。 \n日常生活で体のメンテナンスをお考えの方、ぜひこの機会に体験してみてください。 \nイベントのご予約はこちら
URL:https://ilchibrainyoga-tsujido.com/event/1175/
LOCATION:イルチブレインヨガ辻堂スタジオ\, 神奈川県茅ヶ崎市浜竹２丁目２−４ 安達ビル2階\, 2530021\, 日本
END:VEVENT
BEGIN:VEVENT
DTSTART;TZID=Asia/Tokyo:20170324T190000
DTEND;TZID=Asia/Tokyo:20170324T210000
DTSTAMP:20260423T202503
CREATED:20170313T090303Z
LAST-MODIFIED:20170313T090345Z
UID:1174-1490382000-1490389200@ilchibrainyoga-tsujido.com
SUMMARY:４のつく日はヨガの日
DESCRIPTION:4のつく日はヨガの日 \nいま、イルチブレインヨガで話題のへそヒーリングも体験できるへそ＆腸健康ヨガ体験。 \nネットから予約いただいた方体験費が通常3000円が→1000円でお得 \nヨガが体と心をつなげるという意味があります。 \n質のよい、呼吸と瞑想でリラックス効果があらわれます。 \nトレーニングでは、体をよくほぐし、体の中心のお腹が温かくなっていき、 \nそれで複式呼吸（下腹が動く呼吸）が自然にできるようにします。 \n期待する効果は \n便秘、ひどい肩こり・腰痛、やる気が出ない、体力の減退・運動不足解消、痩せたい・太りたい etc. \n最近は、おへそ周りをほぐすことで、免疫系・循環器系・呼吸器系への効果が大きいことが分かってきました。 \n最新のトレーニング法を組み合わせ、効果が倍増 \n飽きずに、健康つくりにも役立つヨガです。 \n日常生活で体のメンテナンスをお考えの方、ぜひこの機会に体験してみてください。 \nイベントのご予約はこちら
URL:https://ilchibrainyoga-tsujido.com/event/%ef%bc%94%e3%81%ae%e3%81%a4%e3%81%8f%e6%97%a5%e3%81%af%e3%83%a8%e3%82%ac%e3%81%ae%e6%97%a5-18/
LOCATION:イルチブレインヨガ辻堂スタジオ\, 神奈川県茅ヶ崎市浜竹２丁目２−４ 安達ビル2階\, 2530021\, 日本
END:VEVENT
BEGIN:VEVENT
DTSTART;TZID=Asia/Tokyo:20170324T100000
DTEND;TZID=Asia/Tokyo:20170324T120000
DTSTAMP:20260423T202503
CREATED:20170313T090200Z
LAST-MODIFIED:20170313T090415Z
UID:1173-1490349600-1490356800@ilchibrainyoga-tsujido.com
SUMMARY:４のつく日はヨガの日
DESCRIPTION:4のつく日はヨガの日 \nいま、イルチブレインヨガで話題のへそヒーリングも体験できるへそ＆腸健康ヨガ体験。 \nネットから予約いただいた方体験費が通常3000円が→1000円でお得 \nヨガが体と心をつなげるという意味があります。 \n質のよい、呼吸と瞑想でリラックス効果があらわれます。 \nトレーニングでは、体をよくほぐし、体の中心のお腹が温かくなっていき、 \nそれで複式呼吸（下腹が動く呼吸）が自然にできるようにします。 \n期待する効果は \n便秘、ひどい肩こり・腰痛、やる気が出ない、体力の減退・運動不足解消、痩せたい・太りたい etc. \n最近は、おへそ周りをほぐすことで、免疫系・循環器系・呼吸器系への効果が大きいことが分かってきました。 \n最新のトレーニング法を組み合わせ、効果が倍増 \n飽きずに、健康つくりにも役立つヨガです。 \n日常生活で体のメンテナンスをお考えの方、ぜひこの機会に体験してみてください。 \nイベントのご予約はこちら
URL:https://ilchibrainyoga-tsujido.com/event/%ef%bc%94%e3%81%ae%e3%81%a4%e3%81%8f%e6%97%a5%e3%81%af%e3%83%a8%e3%82%ac%e3%81%ae%e6%97%a5-17/
LOCATION:イルチブレインヨガ辻堂スタジオ\, 神奈川県茅ヶ崎市浜竹２丁目２−４ 安達ビル2階\, 2530021\, 日本
END:VEVENT
BEGIN:VEVENT
DTSTART;TZID=Asia/Tokyo:20170314T190000
DTEND;TZID=Asia/Tokyo:20170314T210000
DTSTAMP:20260423T202503
CREATED:20170313T090045Z
LAST-MODIFIED:20170313T090443Z
UID:1172-1489518000-1489525200@ilchibrainyoga-tsujido.com
SUMMARY:4のつく日はヨガの日
DESCRIPTION:4のつく日はヨガの日 \nいま、イルチブレインヨガで話題のへそヒーリングも体験できるへそ＆腸健康ヨガ体験。 \nネットから予約いただいた方体験費が通常3000円が→1000円でお得 \nヨガが体と心をつなげるという意味があります。 \n質のよい、呼吸と瞑想でリラックス効果があらわれます。 \nトレーニングでは、体をよくほぐし、体の中心のお腹が温かくなっていき、 \nそれで複式呼吸（下腹が動く呼吸）が自然にできるようにします。 \n期待する効果は \n便秘、ひどい肩こり・腰痛、やる気が出ない、体力の減退・運動不足解消、痩せたい・太りたい etc. \n最近は、おへそ周りをほぐすことで、免疫系・循環器系・呼吸器系への効果が大きいことが分かってきました。 \n最新のトレーニング法を組み合わせ、効果が倍増 \n飽きずに、健康つくりにも役立つヨガです。 \n日常生活で体のメンテナンスをお考えの方、ぜひこの機会に体験してみてください。 \nイベントのご予約はこちら
URL:https://ilchibrainyoga-tsujido.com/event/4%e3%81%ae%e3%81%a4%e3%81%8f%e6%97%a5%e3%81%af%e3%83%a8%e3%82%ac%e3%81%ae%e6%97%a5-29/
LOCATION:イルチブレインヨガ辻堂スタジオ\, 神奈川県茅ヶ崎市浜竹２丁目２−４ 安達ビル2階\, 2530021\, 日本
END:VEVENT
BEGIN:VEVENT
DTSTART;TZID=Asia/Tokyo:20170314T143000
DTEND;TZID=Asia/Tokyo:20170314T163000
DTSTAMP:20260423T202503
CREATED:20170313T085934Z
LAST-MODIFIED:20170313T090511Z
UID:1171-1489501800-1489509000@ilchibrainyoga-tsujido.com
SUMMARY:４のつく日はヨガの日
DESCRIPTION:4のつく日はヨガの日 \nいま、イルチブレインヨガで話題のへそヒーリングも体験できるへそ＆腸健康ヨガ体験。 \nネットから予約いただいた方体験費が通常3000円が→1000円でお得 \nヨガが体と心をつなげるという意味があります。 \n質のよい、呼吸と瞑想でリラックス効果があらわれます。 \nトレーニングでは、体をよくほぐし、体の中心のお腹が温かくなっていき、 \nそれで複式呼吸（下腹が動く呼吸）が自然にできるようにします。 \n期待する効果は \n便秘、ひどい肩こり・腰痛、やる気が出ない、体力の減退・運動不足解消、痩せたい・太りたい etc. \n最近は、おへそ周りをほぐすことで、免疫系・循環器系・呼吸器系への効果が大きいことが分かってきました。 \n最新のトレーニング法を組み合わせ、効果が倍増 \n飽きずに、健康つくりにも役立つヨガです。 \n日常生活で体のメンテナンスをお考えの方、ぜひこの機会に体験してみてください。 \nイベントのご予約はこちら
URL:https://ilchibrainyoga-tsujido.com/event/%ef%bc%94%e3%81%ae%e3%81%a4%e3%81%8f%e6%97%a5%e3%81%af%e3%83%a8%e3%82%ac%e3%81%ae%e6%97%a5-16/
LOCATION:イルチブレインヨガ辻堂スタジオ\, 神奈川県茅ヶ崎市浜竹２丁目２−４ 安達ビル2階\, 2530021\, 日本
END:VEVENT
BEGIN:VEVENT
DTSTART;TZID=Asia/Tokyo:20170226T143000
DTEND;TZID=Asia/Tokyo:20170226T163000
DTSTAMP:20260423T202503
CREATED:20170204T053001Z
LAST-MODIFIED:20170204T053001Z
UID:1154-1488119400-1488126600@ilchibrainyoga-tsujido.com
SUMMARY:脳と腸のヨガ＆へそヒーリング
DESCRIPTION:当スタジオでは、脳と腸を中心としたヨガとして \n皆様の健康をサポートしております。 \n一般トレーニングの時間外での体験はマンツーマンで行いますので \n心と体の悩みなどカウンセリングのアドバイスもさせてい頂いています。 \nへそヒーリング20分付きで、体の健康チェックもできます。 \n終わったころにはスッキリした気分になること間違いなしです。 \nイベントのご予約はこちら
URL:https://ilchibrainyoga-tsujido.com/event/%e8%84%b3%e3%81%a8%e8%85%b8%e3%81%ae%e3%83%a8%e3%82%ac%ef%bc%86%e3%81%b8%e3%81%9d%e3%83%92%e3%83%bc%e3%83%aa%e3%83%b3%e3%82%b0-3/
LOCATION:イルチブレインヨガ辻堂スタジオ\, 神奈川県茅ヶ崎市浜竹２丁目２−４ 安達ビル2階\, 2530021\, 日本
CATEGORIES:へそヒーリング,腸ヨガ
END:VEVENT
BEGIN:VEVENT
DTSTART;TZID=Asia/Tokyo:20170224T190000
DTEND;TZID=Asia/Tokyo:20170224T210000
DTSTAMP:20260423T202503
CREATED:20170130T091119Z
LAST-MODIFIED:20170130T091242Z
UID:1145-1487962800-1487970000@ilchibrainyoga-tsujido.com
SUMMARY:4のつく日はヨガの日
DESCRIPTION:4のつく日はヨガの日 \nいま、イルチブレインヨガで話題のへそヒーリングも体験できるへそ＆腸健康ヨガ体験。 \nネットから予約いただいた方体験費が通常3000円が→1000円でお得 \nヨガが体と心をつなげるという意味があります。 \n質のよい、呼吸と瞑想でリラックス効果があらわれます。 \nトレーニングでは、体をよくほぐし、体の中心のお腹が温かくなっていき、 \nそれで複式呼吸（下腹が動く呼吸）が自然にできるようにします。 \n期待する効果は \n便秘、ひどい肩こり・腰痛、やる気が出ない、体力の減退・運動不足解消、痩せたい・太りたい etc. \n最近は、おへそ周りをほぐすことで、免疫系・循環器系・呼吸器系への効果が大きいことが分かってきました。 \n最新のトレーニング法を組み合わせ、効果が倍増 \n飽きずに、健康つくりにも役立つヨガです。 \n日常生活で体のメンテナンスをお考えの方、ぜひこの機会に体験してみてください。 \n%E8%87%AA%E5%88%86%E8%BB%B8%EF%BD%9E%E6%95%B4%E3%81%88%E3%82%8B%E3%83%A8%E3%82%AC%EF%BD%9E
URL:https://ilchibrainyoga-tsujido.com/event/4%e3%81%ae%e3%81%a4%e3%81%8f%e6%97%a5%e3%81%af%e3%83%a8%e3%82%ac%e3%81%ae%e6%97%a5-28/
LOCATION:イルチブレインヨガ辻堂スタジオ\, 神奈川県茅ヶ崎市浜竹２丁目２−４ 安達ビル2階\, 2530021\, 日本
CATEGORIES:へそヒーリング,腸ヨガ
END:VEVENT
BEGIN:VEVENT
DTSTART;TZID=Asia/Tokyo:20170224T100000
DTEND;TZID=Asia/Tokyo:20170224T120000
DTSTAMP:20260423T202503
CREATED:20170130T090959Z
LAST-MODIFIED:20170130T090959Z
UID:1144-1487930400-1487937600@ilchibrainyoga-tsujido.com
SUMMARY:4のつく日はヨガの日
DESCRIPTION:4のつく日はヨガの日 \nいま、イルチブレインヨガで話題のへそヒーリングも体験できるへそ＆腸健康ヨガ体験。 \nネットから予約いただいた方体験費が通常3000円が→1000円でお得 \nヨガが体と心をつなげるという意味があります。 \n質のよい、呼吸と瞑想でリラックス効果があらわれます。 \nトレーニングでは、体をよくほぐし、体の中心のお腹が温かくなっていき、 \nそれで複式呼吸（下腹が動く呼吸）が自然にできるようにします。 \n期待する効果は \n便秘、ひどい肩こり・腰痛、やる気が出ない、体力の減退・運動不足解消、痩せたい・太りたい etc. \n最近は、おへそ周りをほぐすことで、免疫系・循環器系・呼吸器系への効果が大きいことが分かってきました。 \n最新のトレーニング法を組み合わせ、効果が倍増 \n飽きずに、健康つくりにも役立つヨガです。 \n日常生活で体のメンテナンスをお考えの方、ぜひこの機会に体験してみてください。 \n%E8%87%AA%E5%88%86%E8%BB%B8%EF%BD%9E%E6%95%B4%E3%81%88%E3%82%8B%E3%83%A8%E3%82%AC%EF%BD%9E
URL:https://ilchibrainyoga-tsujido.com/event/4%e3%81%ae%e3%81%a4%e3%81%8f%e6%97%a5%e3%81%af%e3%83%a8%e3%82%ac%e3%81%ae%e6%97%a5-27/
LOCATION:イルチブレインヨガ辻堂スタジオ\, 神奈川県茅ヶ崎市浜竹２丁目２−４ 安達ビル2階\, 2530021\, 日本
END:VEVENT
BEGIN:VEVENT
DTSTART;TZID=Asia/Tokyo:20170214T190000
DTEND;TZID=Asia/Tokyo:20170214T210000
DTSTAMP:20260423T202503
CREATED:20170130T090837Z
LAST-MODIFIED:20170130T090837Z
UID:1143-1487098800-1487106000@ilchibrainyoga-tsujido.com
SUMMARY:4のつく日はヨガの日
DESCRIPTION:4のつく日はヨガの日 \nいま、イルチブレインヨガで話題のへそヒーリングも体験できるへそ＆腸健康ヨガ体験。 \nネットから予約いただいた方体験費が通常3000円が→1000円でお得 \nヨガが体と心をつなげるという意味があります。 \n質のよい、呼吸と瞑想でリラックス効果があらわれます。 \nトレーニングでは、体をよくほぐし、体の中心のお腹が温かくなっていき、 \nそれで複式呼吸（下腹が動く呼吸）が自然にできるようにします。 \n期待する効果は \n便秘、ひどい肩こり・腰痛、やる気が出ない、体力の減退・運動不足解消、痩せたい・太りたい etc. \n最近は、おへそ周りをほぐすことで、免疫系・循環器系・呼吸器系への効果が大きいことが分かってきました。 \n最新のトレーニング法を組み合わせ、効果が倍増 \n飽きずに、健康つくりにも役立つヨガです。 \n日常生活で体のメンテナンスをお考えの方、ぜひこの機会に体験してみてください。 \n%E8%87%AA%E5%88%86%E8%BB%B8%EF%BD%9E%E6%95%B4%E3%81%88%E3%82%8B%E3%83%A8%E3%82%AC%EF%BD%9E
URL:https://ilchibrainyoga-tsujido.com/event/4%e3%81%ae%e3%81%a4%e3%81%8f%e6%97%a5%e3%81%af%e3%83%a8%e3%82%ac%e3%81%ae%e6%97%a5-26/
LOCATION:イルチブレインヨガ辻堂スタジオ\, 神奈川県茅ヶ崎市浜竹２丁目２−４ 安達ビル2階\, 2530021\, 日本
END:VEVENT
BEGIN:VEVENT
DTSTART;TZID=Asia/Tokyo:20170214T143000
DTEND;TZID=Asia/Tokyo:20170214T163000
DTSTAMP:20260423T202503
CREATED:20170130T090625Z
LAST-MODIFIED:20170130T090657Z
UID:1141-1487082600-1487089800@ilchibrainyoga-tsujido.com
SUMMARY:4のつく日はヨガの日
DESCRIPTION:4のつく日はヨガの日 \nいま、イルチブレインヨガで話題のへそヒーリングも体験できるへそ＆腸健康ヨガ体験。 \nネットから予約いただいた方体験費が通常3000円が→1000円でお得 \nヨガが体と心をつなげるという意味があります。 \n質のよい、呼吸と瞑想でリラックス効果があらわれます。 \nトレーニングでは、体をよくほぐし、体の中心のお腹が温かくなっていき、 \nそれで複式呼吸（下腹が動く呼吸）が自然にできるようにします。 \n期待する効果は \n便秘、ひどい肩こり・腰痛、やる気が出ない、体力の減退・運動不足解消、痩せたい・太りたい etc. \n最近は、おへそ周りをほぐすことで、免疫系・循環器系・呼吸器系への効果が大きいことが分かってきました。 \n最新のトレーニング法を組み合わせ、効果が倍増 \n飽きずに、健康つくりにも役立つヨガです。 \n日常生活で体のメンテナンスをお考えの方、ぜひこの機会に体験してみてください。 \n%E8%87%AA%E5%88%86%E8%BB%B8%EF%BD%9E%E6%95%B4%E3%81%88%E3%82%8B%E3%83%A8%E3%82%AC%EF%BD%9E
URL:https://ilchibrainyoga-tsujido.com/event/4%e3%81%ae%e3%81%a4%e3%81%8f%e6%97%a5%e3%81%af%e3%83%a8%e3%82%ac%e3%81%ae%e6%97%a5-25/
LOCATION:イルチブレインヨガ辻堂スタジオ\, 神奈川県茅ヶ崎市浜竹２丁目２−４ 安達ビル2階\, 2530021\, 日本
END:VEVENT
BEGIN:VEVENT
DTSTART;TZID=Asia/Tokyo:20170204T103000
DTEND;TZID=Asia/Tokyo:20170204T123000
DTSTAMP:20260423T202503
CREATED:20170130T090035Z
LAST-MODIFIED:20170130T090331Z
UID:1139-1486204200-1486211400@ilchibrainyoga-tsujido.com
SUMMARY:4日はヨガの日
DESCRIPTION:4日はヨガの日 \nいま、イルチブレインヨガで話題のへそヒーリングも体験できるへそ＆腸健康ヨガ体験。 \nネットから予約いただいた方体験費が通常3000円が→1000円でお得 \nヨガが体と心をつなげるという意味があります。 \n質のよい、呼吸と瞑想でリラックス効果があらわれます。 \nトレーニングでは、体をよくほぐし、体の中心のお腹が温かくなっていき、 \nそれで複式呼吸（下腹が動く呼吸）が自然にできるようにします。 \n期待する効果は \n便秘、ひどい肩こり・腰痛、やる気が出ない、体力の減退・運動不足解消、痩せたい・太りたい etc. \n最近は、おへそ周りをほぐすことで、免疫系・循環器系・呼吸器系への効果が大きいことが分かってきました。 \n最新のトレーニング法を組み合わせ、効果が倍増 \n飽きずに、健康つくりにも役立つヨガです。 \n日常生活で体のメンテナンスをお考えの方、ぜひこの機会に体験してみてください。 \nイベントのご予約はこちら
URL:https://ilchibrainyoga-tsujido.com/event/4%e6%97%a5%e3%81%af%e3%83%a8%e3%82%ac%e3%81%ae%e6%97%a5-24/
LOCATION:イルチブレインヨガ辻堂スタジオ\, 神奈川県茅ヶ崎市浜竹２丁目２−４ 安達ビル2階\, 2530021\, 日本
END:VEVENT
BEGIN:VEVENT
DTSTART;TZID=Asia/Tokyo:20170128T143000
DTEND;TZID=Asia/Tokyo:20170128T163000
DTSTAMP:20260423T202503
CREATED:20170103T024632Z
LAST-MODIFIED:20170103T024632Z
UID:1109-1485613800-1485621000@ilchibrainyoga-tsujido.com
SUMMARY:脳と腸のヨガ＆へそヒーリング
DESCRIPTION:当スタジオでは、脳と腸を中心としたヨガとして \n皆様の健康をサポートしております。 \n一般トレーニングの時間外での体験はマンツーマンで行いますので \n心と体の悩みなどカウンセリングのアドバイスもさせてい頂いています。 \nへそヒーリング20分付きで、体の健康チェックもできます。 \n終わったころにはスッキリした気分になること間違いなしです。 \nイベントのご予約はこちら
URL:https://ilchibrainyoga-tsujido.com/event/%e8%84%b3%e3%81%a8%e8%85%b8%e3%81%ae%e3%83%a8%e3%82%ac%ef%bc%86%e3%81%b8%e3%81%9d%e3%83%92%e3%83%bc%e3%83%aa%e3%83%b3%e3%82%b0-7/
LOCATION:イルチブレインヨガ辻堂スタジオ\, 神奈川県茅ヶ崎市浜竹２丁目２−４ 安達ビル2階\, 2530021\, 日本
END:VEVENT
BEGIN:VEVENT
DTSTART;TZID=Asia/Tokyo:20170124T190000
DTEND;TZID=Asia/Tokyo:20170124T210000
DTSTAMP:20260423T202503
CREATED:20170103T023052Z
LAST-MODIFIED:20170103T023052Z
UID:1105-1485284400-1485291600@ilchibrainyoga-tsujido.com
SUMMARY:4のつく日はヨガの日
DESCRIPTION:4のつく日はヨガの日 \nいま、イルチブレインヨガで話題のへそヒーリングも体験できるへそ＆腸健康ヨガ体験。 \nネットから予約いただいた方→体験費が1000円でお得 \nヨガが体と心をつなげるという意味があります。 \n質のよい、呼吸と瞑想でリラックス効果があらわれます。 \nトレーニングでは、体をよくほぐし、体の中心のお腹が温かくなっていき、 \nそれで複式呼吸（下腹が動く呼吸）が自然にできるようにします。 \n期待する効果は \n便秘、ひどい肩こり・腰痛、やる気が出ない、体力の減退・運動不足解消、痩せたい・太りたい etc. \n最近は、おへそ周りをほぐすことで、免疫系・循環器系・呼吸器系への効果が大きいことが分かってきました。 \n最新のトレーニング法を組み合わせ、効果が倍増 \n飽きずに、健康つくりにも役立つヨガです。 \n日常生活で体のメンテナンスをお考えの方、ぜひこの機会に体験してみてください。 \nイベントのご予約はこちら
URL:https://ilchibrainyoga-tsujido.com/event/4%e3%81%ae%e3%81%a4%e3%81%8f%e6%97%a5%e3%81%af%e3%83%a8%e3%82%ac%e3%81%ae%e6%97%a5-23/
LOCATION:イルチブレインヨガ辻堂スタジオ\, 神奈川県茅ヶ崎市浜竹２丁目２−４ 安達ビル2階\, 2530021\, 日本
END:VEVENT
BEGIN:VEVENT
DTSTART;TZID=Asia/Tokyo:20170124T143000
DTEND;TZID=Asia/Tokyo:20170124T163000
DTSTAMP:20260423T202503
CREATED:20170103T022313Z
LAST-MODIFIED:20170103T022946Z
UID:1104-1485268200-1485275400@ilchibrainyoga-tsujido.com
SUMMARY:4のつく日はヨガの日
DESCRIPTION:4のつく日はヨガの日 \nいま、イルチブレインヨガで話題のへそヒーリングも体験できるへそ＆腸健康ヨガ体験。 \nネットから予約いただいた方→体験費が1000円でお得 \nヨガが体と心をつなげるという意味があります。 \n質のよい、呼吸と瞑想でリラックス効果があらわれます。 \nトレーニングでは、体をよくほぐし、体の中心のお腹が温かくなっていき、 \nそれで複式呼吸（下腹が動く呼吸）が自然にできるようにします。 \n期待する効果は \n便秘、ひどい肩こり・腰痛、やる気が出ない、体力の減退・運動不足解消、痩せたい・太りたい etc. \n最近は、おへそ周りをほぐすことで、免疫系・循環器系・呼吸器系への効果が大きいことが分かってきました。 \n最新のトレーニング法を組み合わせ、効果が倍増 \n飽きずに、健康つくりにも役立つヨガです。 \n日常生活で体のメンテナンスをお考えの方、ぜひこの機会に体験してみてください。 \nイベントのご予約はこちら
URL:https://ilchibrainyoga-tsujido.com/event/4%e3%81%ae%e3%81%a4%e3%81%8f%e6%97%a5%e3%81%af%e3%83%a8%e3%82%ac%e3%81%ae%e6%97%a5-22/
LOCATION:イルチブレインヨガ辻堂スタジオ\, 神奈川県茅ヶ崎市浜竹２丁目２−４ 安達ビル2階\, 2530021\, 日本
END:VEVENT
BEGIN:VEVENT
DTSTART;TZID=Asia/Tokyo:20170121T143000
DTEND;TZID=Asia/Tokyo:20170121T163000
DTSTAMP:20260423T202503
CREATED:20170103T024335Z
LAST-MODIFIED:20170103T024335Z
UID:1108-1485009000-1485016200@ilchibrainyoga-tsujido.com
SUMMARY:脳と腸のヨガ＆へそヒーリング
DESCRIPTION:当スタジオでは、脳と腸を中心としたヨガとして \n皆様の健康をサポートしております。 \n一般トレーニングの時間外での体験はマンツーマンで行いますので \n心と体の悩みなどカウンセリングのアドバイスもさせてい頂いています。 \nへそヒーリング20分付きで、体の健康チェックもできます。 \n終わったころにはスッキリした気分になること間違いなしです。 \nイベントのご予約はこちら
URL:https://ilchibrainyoga-tsujido.com/event/%e8%84%b3%e3%81%a8%e8%85%b8%e3%81%ae%e3%83%a8%e3%82%ac%ef%bc%86%e3%81%b8%e3%81%9d%e3%83%92%e3%83%bc%e3%83%aa%e3%83%b3%e3%82%b0-6/
LOCATION:イルチブレインヨガ辻堂スタジオ\, 神奈川県茅ヶ崎市浜竹２丁目２−４ 安達ビル2階\, 2530021\, 日本
END:VEVENT
BEGIN:VEVENT
DTSTART;TZID=Asia/Tokyo:20170114T103000
DTEND;TZID=Asia/Tokyo:20170114T123000
DTSTAMP:20260423T202503
CREATED:20170103T023316Z
LAST-MODIFIED:20170103T023316Z
UID:1106-1484389800-1484397000@ilchibrainyoga-tsujido.com
SUMMARY:4のつく日はヨガの日
DESCRIPTION:4のつく日はヨガの日 \nいま、イルチブレインヨガで話題のへそヒーリングも体験できるへそ＆腸健康ヨガ体験。 \nネットから予約いただいた方→体験費が1000円でお得 \nヨガが体と心をつなげるという意味があります。 \n質のよい、呼吸と瞑想でリラックス効果があらわれます。 \nトレーニングでは、体をよくほぐし、体の中心のお腹が温かくなっていき、 \nそれで複式呼吸（下腹が動く呼吸）が自然にできるようにします。 \n期待する効果は \n便秘、ひどい肩こり・腰痛、やる気が出ない、体力の減退・運動不足解消、痩せたい・太りたい etc. \n最近は、おへそ周りをほぐすことで、免疫系・循環器系・呼吸器系への効果が大きいことが分かってきました。 \n最新のトレーニング法を組み合わせ、効果が倍増 \n飽きずに、健康つくりにも役立つヨガです。 \n日常生活で体のメンテナンスをお考えの方、ぜひこの機会に体験してみてください。 \nイベントのご予約はこちら
URL:https://ilchibrainyoga-tsujido.com/event/4%e3%81%ae%e3%81%a4%e3%81%8f%e6%97%a5%e3%81%af%e3%83%a8%e3%82%ac%e3%81%ae%e6%97%a5-24/
LOCATION:イルチブレインヨガ辻堂スタジオ\, 神奈川県茅ヶ崎市浜竹２丁目２−４ 安達ビル2階\, 2530021\, 日本
END:VEVENT
BEGIN:VEVENT
DTSTART;TZID=Asia/Tokyo:20170108T023000
DTEND;TZID=Asia/Tokyo:20170108T043000
DTSTAMP:20260423T202503
CREATED:20170103T024154Z
LAST-MODIFIED:20170103T024215Z
UID:1107-1483842600-1483849800@ilchibrainyoga-tsujido.com
SUMMARY:脳と腸のヨガ＆へそヒーリング
DESCRIPTION:当スタジオでは、脳と腸を中心としたヨガとして \n皆様の健康をサポートしております。 \n一般トレーニングの時間外での体験はマンツーマンで行いますので \n心と体の悩みなどカウンセリングのアドバイスもさせてい頂いています。 \nへそヒーリング20分付きで、体の健康チェックもできます。 \n終わったころにはスッキリした気分になること間違いなしです。 \nイベントのご予約はこちら
URL:https://ilchibrainyoga-tsujido.com/event/1107/
LOCATION:イルチブレインヨガ辻堂スタジオ\, 神奈川県茅ヶ崎市浜竹２丁目２−４ 安達ビル2階\, 2530021\, 日本
END:VEVENT
BEGIN:VEVENT
DTSTART;TZID=Asia/Tokyo:20170104T190000
DTEND;TZID=Asia/Tokyo:20170104T210000
DTSTAMP:20260423T202503
CREATED:20170103T022114Z
LAST-MODIFIED:20170103T022114Z
UID:1103-1483556400-1483563600@ilchibrainyoga-tsujido.com
SUMMARY:4日はヨガの日
DESCRIPTION:4日はヨガの日\n  \nいま、イルチブレインヨガで話題のへそヒーリングも体験できるへそ＆腸健康ヨガ体験。 \nネットから予約いただいた方→体験費が1000円でお得 \nヨガが体と心をつなげるという意味があります。 \n質のよい、呼吸と瞑想でリラックス効果があらわれます。 \nトレーニングでは、体をよくほぐし、体の中心のお腹が温かくなっていき、 \nそれで複式呼吸（下腹が動く呼吸）が自然にできるようにします。 \n期待する効果は \n便秘、ひどい肩こり・腰痛、やる気が出ない、体力の減退・運動不足解消、痩せたい・太りたい etc. \n最近は、おへそ周りをほぐすことで、免疫系・循環器系・呼吸器系への効果が大きいことが分かってきました。 \n最新のトレーニング法を組み合わせ、効果が倍増 \n飽きずに、健康つくりにも役立つヨガです。 \n日常生活で体のメンテナンスをお考えの方、ぜひこの機会に体験してみてください。 \nイベントのご予約はこちら
URL:https://ilchibrainyoga-tsujido.com/event/4%e6%97%a5%e3%81%af%e3%83%a8%e3%82%ac%e3%81%ae%e6%97%a5-23/
LOCATION:イルチブレインヨガ辻堂スタジオ\, 神奈川県茅ヶ崎市浜竹２丁目２−４ 安達ビル2階\, 2530021\, 日本
END:VEVENT
BEGIN:VEVENT
DTSTART;TZID=Asia/Tokyo:20170104T100000
DTEND;TZID=Asia/Tokyo:20170104T120000
DTSTAMP:20260423T202503
CREATED:20170103T022009Z
LAST-MODIFIED:20170103T022009Z
UID:1102-1483524000-1483531200@ilchibrainyoga-tsujido.com
SUMMARY:﻿4日はヨガの日
DESCRIPTION:4日はヨガの日 \nいま、イルチブレインヨガで話題のへそヒーリングも体験できるへそ＆腸健康ヨガ体験。 \nネットから予約いただいた方→体験費が1000円でお得 \nヨガが体と心をつなげるという意味があります。 \n質のよい、呼吸と瞑想でリラックス効果があらわれます。 \nトレーニングでは、体をよくほぐし、体の中心のお腹が温かくなっていき、 \nそれで複式呼吸（下腹が動く呼吸）が自然にできるようにします。 \n期待する効果は \n便秘、ひどい肩こり・腰痛、やる気が出ない、体力の減退・運動不足解消、痩せたい・太りたい etc. \n最近は、おへそ周りをほぐすことで、免疫系・循環器系・呼吸器系への効果が大きいことが分かってきました。 \n最新のトレーニング法を組み合わせ、効果が倍増 \n飽きずに、健康つくりにも役立つヨガです。 \n日常生活で体のメンテナンスをお考えの方、ぜひこの機会に体験してみてください。 \nイベントのご予約はこちら
URL:https://ilchibrainyoga-tsujido.com/event/%ef%bb%bf4%e6%97%a5%e3%81%af%e3%83%a8%e3%82%ac%e3%81%ae%e6%97%a5/
LOCATION:イルチブレインヨガ辻堂スタジオ\, 神奈川県茅ヶ崎市浜竹２丁目２−４ 安達ビル2階\, 2530021\, 日本
END:VEVENT
BEGIN:VEVENT
DTSTART;TZID=Asia/Tokyo:20161229T143000
DTEND;TZID=Asia/Tokyo:20161229T163000
DTSTAMP:20260423T202503
CREATED:20161214T002557Z
LAST-MODIFIED:20161215T125812Z
UID:1085-1483021800-1483029000@ilchibrainyoga-tsujido.com
SUMMARY:脳と腸のヨガ＆へそヒーリング
DESCRIPTION:当スタジオでは、脳と腸を中心としたヨガとして \n皆様の健康をサポートしております。 \n一般トレーニングの時間外での体験はマンツーマンで行いますので \n心と体の悩みなどカウンセリングのようなアドバイスもさせてい頂いています。 \nへそヒーリング付きで、終わったころにはスッキリした気分になること間違いなしです。 \nイベントのご予約はこちら
URL:https://ilchibrainyoga-tsujido.com/event/%e8%84%b3%e3%81%a8%e8%85%b8%e3%81%ae%e3%83%a8%e3%82%ac%ef%bc%86%e3%81%b8%e3%81%9d%e3%83%92%e3%83%bc%e3%83%aa%e3%83%b3%e3%82%b0-4/
LOCATION:イルチブレインヨガ辻堂スタジオ\, 神奈川県茅ヶ崎市浜竹２丁目２−４ 安達ビル2階\, 2530021\, 日本
END:VEVENT
BEGIN:VEVENT
DTSTART;TZID=Asia/Tokyo:20161224T143000
DTEND;TZID=Asia/Tokyo:20161224T163000
DTSTAMP:20260423T202503
CREATED:20161215T130058Z
LAST-MODIFIED:20161215T130058Z
UID:1090-1482589800-1482597000@ilchibrainyoga-tsujido.com
SUMMARY:脳と腸のヨガ＆へそヒーリング
DESCRIPTION:当スタジオでは、脳と腸を中心としたヨガとして \n皆様の健康をサポートしております。 \n一般トレーニングの時間外での体験はマンツーマンで行いますので \n心と体の悩みなどカウンセリングのようなアドバイスもさせてい頂いています。 \nへそヒーリング付きで、終わったころにはスッキリした気分になること間違いなしです。 \nイベントのご予約はこちら
URL:https://ilchibrainyoga-tsujido.com/event/%e8%84%b3%e3%81%a8%e8%85%b8%e3%81%ae%e3%83%a8%e3%82%ac%ef%bc%86%e3%81%b8%e3%81%9d%e3%83%92%e3%83%bc%e3%83%aa%e3%83%b3%e3%82%b0-5/
LOCATION:イルチブレインヨガ辻堂スタジオ\, 神奈川県茅ヶ崎市浜竹２丁目２−４ 安達ビル2階\, 2530021\, 日本
END:VEVENT
BEGIN:VEVENT
DTSTART;TZID=Asia/Tokyo:20161224T103000
DTEND;TZID=Asia/Tokyo:20161224T123000
DTSTAMP:20260423T202503
CREATED:20161213T123805Z
LAST-MODIFIED:20161213T123805Z
UID:1081-1482575400-1482582600@ilchibrainyoga-tsujido.com
SUMMARY:4のつく日はヨガの日
DESCRIPTION:4のつく日はヨガの日 \nいま、イルチブレインヨガで話題のへそヒーリングも体験できるへそ＆腸健康ヨガ体験。 \nネットから予約いただいた方→体験費が1000円でお得 \nヨガが体と心をつなげるという意味があります。 \n質のよい、呼吸と瞑想でリラックス効果があらわれます。 \nトレーニングでは、体をよくほぐし、体の中心のお腹が温かくなっていき、 \nそれで複式呼吸（下腹が動く呼吸）が自然にできるようにします。 \n期待する効果は \n便秘、ひどい肩こり・腰痛、やる気が出ない、体力の減退・運動不足解消、痩せたい・太りたい etc. \n最近は、おへそ周りをほぐすことで、免疫系・循環器系・呼吸器系への効果が大きいことが分かってきました。 \n最新のトレーニング法を組み合わせ、効果が倍増 \n飽きずに、健康つくりにも役立つヨガです。 \n日常生活で体のメンテナンスをお考えの方、ぜひこの機会に体験してみてください。 \nイベントのご予約はこちら
URL:https://ilchibrainyoga-tsujido.com/event/4%e3%81%ae%e3%81%a4%e3%81%8f%e6%97%a5%e3%81%af%e3%83%a8%e3%82%ac%e3%81%ae%e6%97%a5-21/
LOCATION:イルチブレインヨガ辻堂スタジオ\, 神奈川県茅ヶ崎市浜竹２丁目２−４ 安達ビル2階\, 2530021\, 日本
END:VEVENT
BEGIN:VEVENT
DTSTART;TZID=Asia/Tokyo:20161218T143000
DTEND;TZID=Asia/Tokyo:20161218T163000
DTSTAMP:20260423T202503
CREATED:20161213T124834Z
LAST-MODIFIED:20161213T124834Z
UID:1083-1482071400-1482078600@ilchibrainyoga-tsujido.com
SUMMARY:脳と腸のヨガ＆へそヒーリング
DESCRIPTION:当スタジオでは、脳と腸を中心としたヨガとして \n皆様の健康をサポートしております。 \n一般トレーニングの時間外での体験はマンツーマンで行いますので \n心と体の悩みなどカウンセリングのようなアドバイスもさせてい頂いています。 \nへそヒーリング付きで、終わったころにはスッキリした気分になること間違いなしです。 \nイベントのご予約はこちら
URL:https://ilchibrainyoga-tsujido.com/event/%e8%84%b3%e3%81%a8%e8%85%b8%e3%81%ae%e3%83%a8%e3%82%ac%ef%bc%86%e3%81%b8%e3%81%9d%e3%83%92%e3%83%bc%e3%83%aa%e3%83%b3%e3%82%b0-2/
LOCATION:イルチブレインヨガ辻堂スタジオ\, 神奈川県茅ヶ崎市浜竹２丁目２−４ 安達ビル2階\, 2530021\, 日本
END:VEVENT
BEGIN:VEVENT
DTSTART;TZID=Asia/Tokyo:20161217T143000
DTEND;TZID=Asia/Tokyo:20161217T163000
DTSTAMP:20260423T202503
CREATED:20161213T124639Z
LAST-MODIFIED:20161213T124639Z
UID:1082-1481985000-1481992200@ilchibrainyoga-tsujido.com
SUMMARY:脳と腸のヨガ＆へそヒーリング
DESCRIPTION:当スタジオでは、脳と腸を中心としたヨガとして \n皆様の健康をサポートしております。 \n一般トレーニングの時間外での体験はマンツーマンで行いますので \n心と体の悩みなどカウンセリングのようなアドバイスもさせてい頂いています。 \nへそヒーリング付きで、終わったころにはスッキリした気分になること間違いなしです。 \nイベントのご予約はこちら\n 
URL:https://ilchibrainyoga-tsujido.com/event/%e8%84%b3%e3%81%a8%e8%85%b8%e3%81%ae%e3%83%a8%e3%82%ac%ef%bc%86%e3%81%b8%e3%81%9d%e3%83%92%e3%83%bc%e3%83%aa%e3%83%b3%e3%82%b0/
LOCATION:イルチブレインヨガ辻堂スタジオ\, 神奈川県茅ヶ崎市浜竹２丁目２−４ 安達ビル2階\, 2530021\, 日本
END:VEVENT
BEGIN:VEVENT
DTSTART;TZID=Asia/Tokyo:20161214T190000
DTEND;TZID=Asia/Tokyo:20161214T210000
DTSTAMP:20260423T202503
CREATED:20161213T123646Z
LAST-MODIFIED:20161213T123856Z
UID:1080-1481742000-1481749200@ilchibrainyoga-tsujido.com
SUMMARY:4のつく日はヨガの日
DESCRIPTION:4のつく日はヨガの日 \nいま、イルチブレインヨガで話題のへそヒーリングも体験できるへそ＆腸健康ヨガ体験。 \nネットから予約いただいた方→体験費が1000円でお得 \nヨガが体と心をつなげるという意味があります。 \n質のよい、呼吸と瞑想でリラックス効果があらわれます。 \nトレーニングでは、体をよくほぐし、体の中心のお腹が温かくなっていき、 \nそれで複式呼吸（下腹が動く呼吸）が自然にできるようにします。 \n期待する効果は \n便秘、ひどい肩こり・腰痛、やる気が出ない、体力の減退・運動不足解消、痩せたい・太りたい etc. \n最近は、おへそ周りをほぐすことで、免疫系・循環器系・呼吸器系への効果が大きいことが分かってきました。 \n最新のトレーニング法を組み合わせ、効果が倍増 \n飽きずに、健康つくりにも役立つヨガです。 \n日常生活で体のメンテナンスをお考えの方、ぜひこの機会に体験してみてください。 \nイベントのご予約はこちら
URL:https://ilchibrainyoga-tsujido.com/event/4%e6%97%a5%e3%81%af%e3%83%a8%e3%82%ac%e3%81%ae%e6%97%a5-22/
LOCATION:イルチブレインヨガ辻堂スタジオ\, 神奈川県茅ヶ崎市浜竹２丁目２−４ 安達ビル2階\, 2530021\, 日本
END:VEVENT
END:VCALENDAR