BEGIN:VCALENDAR
VERSION:2.0
PRODID:-//【湘南茅ヶ崎 平塚 藤沢ヨガ】イルチブレインヨガ辻堂スタジオ｜辻堂駅南口より徒歩8分 体と心と脳のヨガ - ECPv6.15.20//NONSGML v1.0//EN
CALSCALE:GREGORIAN
METHOD:PUBLISH
X-WR-CALNAME:【湘南茅ヶ崎 平塚 藤沢ヨガ】イルチブレインヨガ辻堂スタジオ｜辻堂駅南口より徒歩8分 体と心と脳のヨガ
X-ORIGINAL-URL:https://ilchibrainyoga-tsujido.com
X-WR-CALDESC:【湘南茅ヶ崎 平塚 藤沢ヨガ】イルチブレインヨガ辻堂スタジオ｜辻堂駅南口より徒歩8分 体と心と脳のヨガ のイベント
REFRESH-INTERVAL;VALUE=DURATION:PT1H
X-Robots-Tag:noindex
X-PUBLISHED-TTL:PT1H
BEGIN:VTIMEZONE
TZID:Asia/Tokyo
BEGIN:STANDARD
TZOFFSETFROM:+0900
TZOFFSETTO:+0900
TZNAME:JST
DTSTART:20160101T000000
END:STANDARD
END:VTIMEZONE
BEGIN:VEVENT
DTSTART;TZID=Asia/Tokyo:20170928T100000
DTEND;TZID=Asia/Tokyo:20170928T120000
DTSTAMP:20260423T154650
CREATED:20170907T125358Z
LAST-MODIFIED:20170907T125603Z
UID:1292-1506592800-1506600000@ilchibrainyoga-tsujido.com
SUMMARY:呼吸・瞑想・脳ヒーリングヨガ
DESCRIPTION:呼吸・瞑想・脳ヒーリングヨガ\n何気なくしている呼吸ですが、深い呼吸はできているでしょうか？ \nストレスがあったり、体に力がなくかると呼吸が浅くなりがちです。 \nイルチブレインヨガでは、呼吸をあまり意識せずに深い呼吸へと導きます。 \n簡単な脳体操と誰でもできる瞑想法で呼吸が深くなります。 \n呼吸が深くなると、血流が良くなり、良いホルモンが分泌され自然と健康になっていきます。 \nイルチブレンヨガ、オリジナルの脳ヒーリングヨガを体験してみてください。 \nイベントのご予約はこちら
URL:https://ilchibrainyoga-tsujido.com/event/1292/
LOCATION:イルチブレインヨガ辻堂スタジオ\, 神奈川県茅ヶ崎市浜竹２丁目２−４ 安達ビル2階\, 2530021\, 日本
CATEGORIES:イルチブレインヨガ体験,腸ヨガ
END:VEVENT
BEGIN:VEVENT
DTSTART;TZID=Asia/Tokyo:20170920T143000
DTEND;TZID=Asia/Tokyo:20170920T163000
DTSTAMP:20260423T154650
CREATED:20170907T122852Z
LAST-MODIFIED:20170907T122852Z
UID:1290-1505917800-1505925000@ilchibrainyoga-tsujido.com
SUMMARY:呼吸・瞑想・脳ヒーリングヨガ
DESCRIPTION:呼吸・瞑想・脳ヒーリングヨガ\n何気なくしている呼吸ですが、深い呼吸はできているでしょうか？ \nストレスがあったり、体に力がなくかると呼吸が浅くなりがちです。 \nイルチブレインヨガでは、呼吸をあまり意識せずに深い呼吸へと導きます。 \n簡単な脳体操と誰でもできる瞑想法で呼吸が深くなります。 \n呼吸が深くなると、血流が良くなり、良いホルモンが分泌され自然と健康になっていきます。 \nイルチブレンヨガ、オリジナルの脳ヒーリングヨガを体験してみてください。 \nイベントのご予約はこちら
URL:https://ilchibrainyoga-tsujido.com/event/%e5%91%bc%e5%90%b8%e3%83%bb%e7%9e%91%e6%83%b3%e3%83%bb%e8%84%b3%e3%83%92%e3%83%bc%e3%83%aa%e3%83%b3%e3%82%b0%e3%83%a8%e3%82%ac-6/
LOCATION:イルチブレインヨガ辻堂スタジオ\, 神奈川県茅ヶ崎市浜竹２丁目２−４ 安達ビル2階\, 2530021\, 日本
CATEGORIES:イルチブレインヨガ体験,腸ヨガ
END:VEVENT
BEGIN:VEVENT
DTSTART;TZID=Asia/Tokyo:20170912T100000
DTEND;TZID=Asia/Tokyo:20170912T120000
DTSTAMP:20260423T154650
CREATED:20170907T122609Z
LAST-MODIFIED:20170907T123836Z
UID:1288-1505210400-1505217600@ilchibrainyoga-tsujido.com
SUMMARY:呼吸・瞑想・脳ヒーリングヨガ
DESCRIPTION:呼吸・瞑想・脳ヒーリングヨガ\n何気なくしている呼吸ですが、深い呼吸はできているでしょうか？ \nストレスがあったり、体に力がなくかると呼吸が浅くなりがちです。 \nイルチブレインヨガでは、呼吸をあまり意識せずに深い呼吸へと導きます。 \n簡単な脳体操と誰でもできる瞑想法で呼吸が深くなります。 \n呼吸が深くなると、血流が良くなり、良いホルモンが分泌され自然と健康になっていきます。 \nイルチブレンヨガ、オリジナルの脳ヒーリングヨガを体験してみてください。 \nイベントのご予約はこちら
URL:https://ilchibrainyoga-tsujido.com/event/%e5%91%bc%e5%90%b8%e3%83%bb%e7%9e%91%e6%83%b3%e3%83%bb%e8%84%b3%e3%83%92%e3%83%bc%e3%83%aa%e3%83%b3%e3%82%b0%e3%83%a8%e3%82%ac-5/
LOCATION:イルチブレインヨガ辻堂スタジオ\, 神奈川県茅ヶ崎市浜竹２丁目２−４ 安達ビル2階\, 2530021\, 日本
CATEGORIES:イルチブレインヨガ体験,腸ヨガ
END:VEVENT
BEGIN:VEVENT
DTSTART;TZID=Asia/Tokyo:20170824T100000
DTEND;TZID=Asia/Tokyo:20170824T120000
DTSTAMP:20260423T154650
CREATED:20170729T065728Z
LAST-MODIFIED:20170729T065728Z
UID:1267-1503568800-1503576000@ilchibrainyoga-tsujido.com
SUMMARY:呼吸・瞑想・脳ヒーリングヨガ
DESCRIPTION:呼吸・瞑想・脳ヒーリングヨガ\n何気なくしている呼吸ですが、深い呼吸はできているでしょうか？ \nストレスがあったり、体に力がなくかると呼吸が浅くなりがちです。 \nイルチブレインヨガでは、呼吸をあまり意識せずに深い呼吸へと導きます。 \n簡単な脳体操と誰でもできる瞑想法で呼吸が深くなります。 \n呼吸が深くなると、血流が良くなり、良いホルモンが分泌され自然と健康になっていきます。 \nイルチブレンヨガ、オリジナルの脳ヒーリングヨガを体験してみてください。 \nイベントのご予約はこちら
URL:https://ilchibrainyoga-tsujido.com/event/%e5%91%bc%e5%90%b8%e3%83%bb%e7%9e%91%e6%83%b3%e3%83%bb%e8%84%b3%e3%83%92%e3%83%bc%e3%83%aa%e3%83%b3%e3%82%b0%e3%83%a8%e3%82%ac-4/
LOCATION:イルチブレインヨガ辻堂スタジオ\, 神奈川県茅ヶ崎市浜竹２丁目２−４ 安達ビル2階\, 2530021\, 日本
CATEGORIES:イルチブレインヨガ体験
END:VEVENT
BEGIN:VEVENT
DTSTART;TZID=Asia/Tokyo:20170820T130000
DTEND;TZID=Asia/Tokyo:20170820T183000
DTSTAMP:20260423T154650
CREATED:20170816T081326Z
LAST-MODIFIED:20170816T081326Z
UID:1282-1503234000-1503253800@ilchibrainyoga-tsujido.com
SUMMARY:ミニスマイルフェスタつじどう
DESCRIPTION:ミニスマイルフェスタつじどう開催\n日時:8月20日(日)　13時～16時30分 場所:SGC(湘南ガーデンコレクション2F)\n藤沢市辻堂1-2-17シエロ湘南2F辻堂駅南口徒歩2分 \n健康と癒しヒーリングをテーマに開催致します。老若男女どなたでもご参加お待ちしております。 入場無料 \nオーラ撮影へそヒーリング\nハンドマッサージ\nタロット\n声診断　etc. 500円位～ \n日用品雑貨フリマもあります
URL:https://ilchibrainyoga-tsujido.com/event/%e3%83%9f%e3%83%8b%e3%82%b9%e3%83%9e%e3%82%a4%e3%83%ab%e3%83%95%e3%82%a7%e3%82%b9%e3%82%bf%e3%81%a4%e3%81%98%e3%81%a9%e3%81%86/
END:VEVENT
BEGIN:VEVENT
DTSTART;TZID=Asia/Tokyo:20170816T100000
DTEND;TZID=Asia/Tokyo:20170816T120000
DTSTAMP:20260423T154650
CREATED:20170729T065540Z
LAST-MODIFIED:20170729T065540Z
UID:1266-1502877600-1502884800@ilchibrainyoga-tsujido.com
SUMMARY:呼吸・瞑想・脳ヒーリングヨガ
DESCRIPTION:呼吸・瞑想・脳ヒーリングヨガ\n何気なくしている呼吸ですが、深い呼吸はできているでしょうか？ \nストレスがあったり、体に力がなくかると呼吸が浅くなりがちです。 \nイルチブレインヨガでは、呼吸をあまり意識せずに深い呼吸へと導きます。 \n簡単な脳体操と誰でもできる瞑想法で呼吸が深くなります。 \n呼吸が深くなると、血流が良くなり、良いホルモンが分泌され自然と健康になっていきます。 \nイルチブレンヨガ、オリジナルの脳ヒーリングヨガを体験してみてください。 \nイベントのご予約はこちら
URL:https://ilchibrainyoga-tsujido.com/event/%e5%91%bc%e5%90%b8%e3%83%bb%e7%9e%91%e6%83%b3%e3%83%bb%e8%84%b3%e3%83%92%e3%83%bc%e3%83%aa%e3%83%b3%e3%82%b0%e3%83%a8%e3%82%ac-3/
LOCATION:イルチブレインヨガ辻堂スタジオ\, 神奈川県茅ヶ崎市浜竹２丁目２−４ 安達ビル2階\, 2530021\, 日本
CATEGORIES:イルチブレインヨガ体験
END:VEVENT
BEGIN:VEVENT
DTSTART;TZID=Asia/Tokyo:20170808T100000
DTEND;TZID=Asia/Tokyo:20170808T120000
DTSTAMP:20260423T154650
CREATED:20170729T065349Z
LAST-MODIFIED:20170729T065349Z
UID:1265-1502186400-1502193600@ilchibrainyoga-tsujido.com
SUMMARY:呼吸・瞑想・脳ヒーリングヨガ
DESCRIPTION:呼吸・瞑想・脳ヒーリングヨガ\n何気なくしている呼吸ですが、深い呼吸はできているでしょうか？ \nストレスがあったり、体に力がなくかると呼吸が浅くなりがちです。 \nイルチブレインヨガでは、呼吸をあまり意識せずに深い呼吸へと導きます。 \n簡単な脳体操と誰でもできる瞑想法で呼吸が深くなります。 \n呼吸が深くなると、血流が良くなり、良いホルモンが分泌され自然と健康になっていきます。 \nイルチブレンヨガ、オリジナルの脳ヒーリングヨガを体験してみてください。 \nイベントのご予約はこちら
URL:https://ilchibrainyoga-tsujido.com/event/%e5%91%bc%e5%90%b8%e3%83%bb%e7%9e%91%e6%83%b3%e3%83%bb%e8%84%b3%e3%83%92%e3%83%bc%e3%83%aa%e3%83%b3%e3%82%b0%e3%83%a8%e3%82%ac-2/
LOCATION:イルチブレインヨガ辻堂スタジオ\, 神奈川県茅ヶ崎市浜竹２丁目２−４ 安達ビル2階\, 2530021\, 日本
CATEGORIES:イルチブレインヨガ体験
END:VEVENT
BEGIN:VEVENT
DTSTART;TZID=Asia/Tokyo:20170804T190000
DTEND;TZID=Asia/Tokyo:20170804T210000
DTSTAMP:20260423T154650
CREATED:20170729T070324Z
LAST-MODIFIED:20170729T070324Z
UID:1269-1501873200-1501880400@ilchibrainyoga-tsujido.com
SUMMARY:4日はyogaの日
DESCRIPTION:いま、イルチブレインヨガで話題のへそヒーリングも体験できるへそ＆腸健康ヨガ体験。 \nネットから予約いただいた方体験費が通常3000円が→1000円でお得 \nヨガが体と心をつなげるという意味があります。 \n質のよい、呼吸と瞑想でリラックス効果があらわれます。 \nトレーニングでは、体をよくほぐし、体の中心のお腹が温かくなっていき、 \nそれで複式呼吸（下腹が動く呼吸）が自然にできるようにします。 \n期待する効果は \n便秘、ひどい肩こり・腰痛、やる気が出ない、体力の減退・運動不足解消、痩せたい・太りたい etc. \n最近は、おへそ周りをほぐすことで、免疫系・循環器系・呼吸器系への効果が大きいことが分かってきました。 \n最新のトレーニング法を組み合わせ、効果が倍増 \n飽きずに、健康つくりにも役立つヨガです。 \n日常生活で体のメンテナンスをお考えの方、ぜひこの機会に体験してみてください。
URL:https://ilchibrainyoga-tsujido.com/event/4%e6%97%a5%e3%81%afyoga%e3%81%ae%e6%97%a5-3/
LOCATION:イルチブレインヨガ辻堂スタジオ\, 神奈川県茅ヶ崎市浜竹２丁目２−４ 安達ビル2階\, 2530021\, 日本
CATEGORIES:イルチブレインヨガ体験
END:VEVENT
BEGIN:VEVENT
DTSTART;TZID=Asia/Tokyo:20170804T100000
DTEND;TZID=Asia/Tokyo:20170804T120000
DTSTAMP:20260423T154650
CREATED:20170729T070207Z
LAST-MODIFIED:20170729T070207Z
UID:1268-1501840800-1501848000@ilchibrainyoga-tsujido.com
SUMMARY:4日はyogaの日
DESCRIPTION:いま、イルチブレインヨガで話題のへそヒーリングも体験できるへそ＆腸健康ヨガ体験。 \nネットから予約いただいた方体験費が通常3000円が→1000円でお得 \nヨガが体と心をつなげるという意味があります。 \n質のよい、呼吸と瞑想でリラックス効果があらわれます。 \nトレーニングでは、体をよくほぐし、体の中心のお腹が温かくなっていき、 \nそれで複式呼吸（下腹が動く呼吸）が自然にできるようにします。 \n期待する効果は \n便秘、ひどい肩こり・腰痛、やる気が出ない、体力の減退・運動不足解消、痩せたい・太りたい etc. \n最近は、おへそ周りをほぐすことで、免疫系・循環器系・呼吸器系への効果が大きいことが分かってきました。 \n最新のトレーニング法を組み合わせ、効果が倍増 \n飽きずに、健康つくりにも役立つヨガです。 \n日常生活で体のメンテナンスをお考えの方、ぜひこの機会に体験してみてください。 \nイベントのご予約はこちら
URL:https://ilchibrainyoga-tsujido.com/event/4%e6%97%a5%e3%81%afyoga%e3%81%ae%e6%97%a5-2/
LOCATION:イルチブレインヨガ辻堂スタジオ\, 神奈川県茅ヶ崎市浜竹２丁目２−４ 安達ビル2階\, 2530021\, 日本
CATEGORIES:イルチブレインヨガ体験
END:VEVENT
BEGIN:VEVENT
DTSTART;TZID=Asia/Tokyo:20170802T143000
DTEND;TZID=Asia/Tokyo:20170802T163000
DTSTAMP:20260423T154650
CREATED:20170729T064256Z
LAST-MODIFIED:20170729T064256Z
UID:1262-1501684200-1501691400@ilchibrainyoga-tsujido.com
SUMMARY:呼吸・瞑想・脳ヒーリングヨガ
DESCRIPTION:呼吸・瞑想・脳ヒーリングヨガ\n何気なくしている呼吸ですが、深い呼吸はできているでしょうか？ \nストレスがあったり、体に力がなくかると呼吸が浅くなりがちです。 \nイルチブレインヨガでは、呼吸をあまり意識せずに深い呼吸へと導きます。 \n簡単な脳体操と誰でもできる瞑想法で呼吸が深くなります。 \n呼吸が深くなると、血流が良くなり、良いホルモンが分泌され自然と健康になっていきます。 \nイルチブレンヨガ、オリジナルの脳ヒーリングヨガを体験してみてください。 \n  \nイベントのご予約はこちら\n  \n 
URL:https://ilchibrainyoga-tsujido.com/event/%e5%91%bc%e5%90%b8%e3%83%bb%e7%9e%91%e6%83%b3%e3%83%bb%e8%84%b3%e3%83%92%e3%83%bc%e3%83%aa%e3%83%b3%e3%82%b0%e3%83%a8%e3%82%ac/
LOCATION:イルチブレインヨガ辻堂スタジオ\, 神奈川県茅ヶ崎市浜竹２丁目２−４ 安達ビル2階\, 2530021\, 日本
CATEGORIES:イルチブレインヨガ体験
END:VEVENT
BEGIN:VEVENT
DTSTART;TZID=Asia/Tokyo:20170731T120000
DTEND;TZID=Asia/Tokyo:20170731T180000
DTSTAMP:20260423T154650
CREATED:20170724T131526Z
LAST-MODIFIED:20170724T132056Z
UID:1247-1501502400-1501524000@ilchibrainyoga-tsujido.com
SUMMARY:スマイルフェスタふじさわ
DESCRIPTION:→こちらから
URL:https://ilchibrainyoga-tsujido.com/event/%e3%82%b9%e3%83%9e%e3%82%a4%e3%83%ab%e3%83%95%e3%82%a7%e3%82%b9%e3%82%bf%e3%81%b5%e3%81%98%e3%81%95%e3%82%8f/
CATEGORIES:オーラ,へそヒーリング
END:VEVENT
BEGIN:VEVENT
DTSTART;TZID=Asia/Tokyo:20170727T100000
DTEND;TZID=Asia/Tokyo:20170727T120000
DTSTAMP:20260423T154650
CREATED:20170708T072321Z
LAST-MODIFIED:20170714T135317Z
UID:1238-1501149600-1501156800@ilchibrainyoga-tsujido.com
SUMMARY:呼吸と瞑想、脳活性ヨガ体験
DESCRIPTION:呼吸と瞑想、脳活性ヨガ体験 \n自分の体の声に、こころの声に耳を傾ける時間を持ってみませんか？ \n心が穏やかになり、終わった後はすっきりします。 \nイベントのご予約はこちら
URL:https://ilchibrainyoga-tsujido.com/event/%e5%91%bc%e5%90%b8%e3%81%a8%e7%9e%91%e6%83%b3%e3%80%81%e8%84%b3%e6%b4%bb%e6%80%a7%e3%83%a8%e3%82%ac%e4%bd%93%e9%a8%93-3/
LOCATION:イルチブレインヨガ辻堂スタジオ\, 神奈川県茅ヶ崎市浜竹２丁目２−４ 安達ビル2階\, 2530021\, 日本
CATEGORIES:イルチブレインヨガ体験
END:VEVENT
BEGIN:VEVENT
DTSTART;TZID=Asia/Tokyo:20170721T143000
DTEND;TZID=Asia/Tokyo:20170721T163000
DTSTAMP:20260423T154650
CREATED:20170708T071412Z
LAST-MODIFIED:20170708T071412Z
UID:1236-1500647400-1500654600@ilchibrainyoga-tsujido.com
SUMMARY:呼吸と瞑想、脳活性ヨガ体験
DESCRIPTION:呼吸と瞑想、脳活性ヨガ体験 \n自分の体の声に、こころの声に耳を傾ける時間を持ってみませんか？ \n心が穏やかになり、終わった後はすっきりします。 \nイベントのご予約はこちら
URL:https://ilchibrainyoga-tsujido.com/event/%e5%91%bc%e5%90%b8%e3%81%a8%e7%9e%91%e6%83%b3%e3%80%81%e8%84%b3%e6%b4%bb%e6%80%a7%e3%83%a8%e3%82%ac%e4%bd%93%e9%a8%93-2/
LOCATION:イルチブレインヨガ辻堂スタジオ\, 神奈川県茅ヶ崎市浜竹２丁目２−４ 安達ビル2階\, 2530021\, 日本
CATEGORIES:イルチブレインヨガ体験
END:VEVENT
BEGIN:VEVENT
DTSTART;TZID=Asia/Tokyo:20170718T100000
DTEND;TZID=Asia/Tokyo:20170718T120000
DTSTAMP:20260423T154650
CREATED:20170708T071246Z
LAST-MODIFIED:20170714T135422Z
UID:1235-1500372000-1500379200@ilchibrainyoga-tsujido.com
SUMMARY:呼吸と瞑想、脳活性ヨガ体験
DESCRIPTION:呼吸と瞑想、脳活性ヨガ体験 \n自分の体の声に、こころの声に耳を傾ける時間を持ってみませんか？ \n心が穏やかになり、終わった後はすっきりします。 \nイベントのご予約はこちら \n 
URL:https://ilchibrainyoga-tsujido.com/event/%e5%91%bc%e5%90%b8%e3%81%a8%e7%9e%91%e6%83%b3%e3%80%81%e8%84%b3%e6%b4%bb%e6%80%a7%e3%83%a8%e3%82%ac%e4%bd%93%e9%a8%93/
LOCATION:イルチブレインヨガ辻堂スタジオ\, 神奈川県茅ヶ崎市浜竹２丁目２−４ 安達ビル2階\, 2530021\, 日本
CATEGORIES:イルチブレインヨガ体験
END:VEVENT
BEGIN:VEVENT
DTSTART;TZID=Asia/Tokyo:20170714T190000
DTEND;TZID=Asia/Tokyo:20170714T210000
DTSTAMP:20260423T154650
CREATED:20170626T111518Z
LAST-MODIFIED:20170626T111518Z
UID:1231-1500058800-1500066000@ilchibrainyoga-tsujido.com
SUMMARY:4のつく日はヨガの日
DESCRIPTION:いま、イルチブレインヨガで話題のへそヒーリングも体験できるへそ＆腸健康ヨガ体験。 \nネットから予約いただいた方体験費が通常3000円が→1000円でお得 \nヨガが体と心をつなげるという意味があります。 \n質のよい、呼吸と瞑想でリラックス効果があらわれます。 \nトレーニングでは、体をよくほぐし、体の中心のお腹が温かくなっていき、 \nそれで複式呼吸（下腹が動く呼吸）が自然にできるようにします。 \n期待する効果は \n便秘、ひどい肩こり・腰痛、やる気が出ない、体力の減退・運動不足解消、痩せたい・太りたい etc. \n最近は、おへそ周りをほぐすことで、免疫系・循環器系・呼吸器系への効果が大きいことが分かってきました。 \n最新のトレーニング法を組み合わせ、効果が倍増 \n飽きずに、健康つくりにも役立つヨガです。 \n日常生活で体のメンテナンスをお考えの方、ぜひこの機会に体験してみてください。 \nイベントのご予約はこちら
URL:https://ilchibrainyoga-tsujido.com/event/4%e3%81%ae%e3%81%a4%e3%81%8f%e6%97%a5%e3%81%af%e3%83%a8%e3%82%ac%e3%81%ae%e6%97%a5-32/
LOCATION:イルチブレインヨガ辻堂スタジオ\, 神奈川県茅ヶ崎市浜竹２丁目２−４ 安達ビル2階\, 2530021\, 日本
CATEGORIES:へそヒーリング,腸ヨガ
END:VEVENT
BEGIN:VEVENT
DTSTART;TZID=Asia/Tokyo:20170714T100000
DTEND;TZID=Asia/Tokyo:20170714T120000
DTSTAMP:20260423T154650
CREATED:20170626T111404Z
LAST-MODIFIED:20170626T111404Z
UID:1230-1500026400-1500033600@ilchibrainyoga-tsujido.com
SUMMARY:4のつく日はヨガの日
DESCRIPTION:いま、イルチブレインヨガで話題のへそヒーリングも体験できるへそ＆腸健康ヨガ体験。 \nネットから予約いただいた方体験費が通常3000円が→1000円でお得 \nヨガが体と心をつなげるという意味があります。 \n質のよい、呼吸と瞑想でリラックス効果があらわれます。 \nトレーニングでは、体をよくほぐし、体の中心のお腹が温かくなっていき、 \nそれで複式呼吸（下腹が動く呼吸）が自然にできるようにします。 \n期待する効果は \n便秘、ひどい肩こり・腰痛、やる気が出ない、体力の減退・運動不足解消、痩せたい・太りたい etc. \n最近は、おへそ周りをほぐすことで、免疫系・循環器系・呼吸器系への効果が大きいことが分かってきました。 \n最新のトレーニング法を組み合わせ、効果が倍増 \n飽きずに、健康つくりにも役立つヨガです。 \n日常生活で体のメンテナンスをお考えの方、ぜひこの機会に体験してみてください。 \nイベントのご予約はこちら
URL:https://ilchibrainyoga-tsujido.com/event/4%e3%81%ae%e3%81%a4%e3%81%8f%e6%97%a5%e3%81%af%e3%83%a8%e3%82%ac%e3%81%ae%e6%97%a5-31/
LOCATION:イルチブレインヨガ辻堂スタジオ\, 神奈川県茅ヶ崎市浜竹２丁目２−４ 安達ビル2階\, 2530021\, 日本
CATEGORIES:へそヒーリング,腸ヨガ
END:VEVENT
BEGIN:VEVENT
DTSTART;TZID=Asia/Tokyo:20170704T190000
DTEND;TZID=Asia/Tokyo:20170704T210000
DTSTAMP:20260423T154650
CREATED:20170626T111215Z
LAST-MODIFIED:20170626T111215Z
UID:1229-1499194800-1499202000@ilchibrainyoga-tsujido.com
SUMMARY:4日はyogaの日
DESCRIPTION:いま、イルチブレインヨガで話題のへそヒーリングも体験できるへそ＆腸健康ヨガ体験。 \nネットから予約いただいた方体験費が通常3000円が→1000円でお得 \nヨガが体と心をつなげるという意味があります。 \n質のよい、呼吸と瞑想でリラックス効果があらわれます。 \nトレーニングでは、体をよくほぐし、体の中心のお腹が温かくなっていき、 \nそれで複式呼吸（下腹が動く呼吸）が自然にできるようにします。 \n期待する効果は \n便秘、ひどい肩こり・腰痛、やる気が出ない、体力の減退・運動不足解消、痩せたい・太りたい etc. \n最近は、おへそ周りをほぐすことで、免疫系・循環器系・呼吸器系への効果が大きいことが分かってきました。 \n最新のトレーニング法を組み合わせ、効果が倍増 \n飽きずに、健康つくりにも役立つヨガです。 \n日常生活で体のメンテナンスをお考えの方、ぜひこの機会に体験してみてください。 \nイベントのご予約はこちら
URL:https://ilchibrainyoga-tsujido.com/event/4%e6%97%a5%e3%81%afyoga%e3%81%ae%e6%97%a5/
LOCATION:イルチブレインヨガ辻堂スタジオ\, 神奈川県茅ヶ崎市浜竹２丁目２−４ 安達ビル2階\, 2530021\, 日本
CATEGORIES:へそヒーリング,腸ヨガ
END:VEVENT
BEGIN:VEVENT
DTSTART;TZID=Asia/Tokyo:20170704T143000
DTEND;TZID=Asia/Tokyo:20170704T163000
DTSTAMP:20260423T154650
CREATED:20170626T111011Z
LAST-MODIFIED:20170626T111055Z
UID:1228-1499178600-1499185800@ilchibrainyoga-tsujido.com
SUMMARY:4日はyogaの日
DESCRIPTION:いま、イルチブレインヨガで話題のへそヒーリングも体験できるへそ＆腸健康ヨガ体験。 \nネットから予約いただいた方体験費が通常3000円が→1000円でお得 \nヨガが体と心をつなげるという意味があります。 \n質のよい、呼吸と瞑想でリラックス効果があらわれます。 \nトレーニングでは、体をよくほぐし、体の中心のお腹が温かくなっていき、 \nそれで複式呼吸（下腹が動く呼吸）が自然にできるようにします。 \n期待する効果は \n便秘、ひどい肩こり・腰痛、やる気が出ない、体力の減退・運動不足解消、痩せたい・太りたい etc. \n最近は、おへそ周りをほぐすことで、免疫系・循環器系・呼吸器系への効果が大きいことが分かってきました。 \n最新のトレーニング法を組み合わせ、効果が倍増 \n飽きずに、健康つくりにも役立つヨガです。 \n日常生活で体のメンテナンスをお考えの方、ぜひこの機会に体験してみてください。 \nイベントのご予約はこちら
URL:https://ilchibrainyoga-tsujido.com/event/1228/
LOCATION:イルチブレインヨガ辻堂スタジオ\, 神奈川県茅ヶ崎市浜竹２丁目２−４ 安達ビル2階\, 2530021\, 日本
CATEGORIES:へそヒーリング,腸ヨガ
END:VEVENT
BEGIN:VEVENT
DTSTART;TZID=Asia/Tokyo:20170702T143000
DTEND;TZID=Asia/Tokyo:20170702T160000
DTSTAMP:20260423T154650
CREATED:20170626T110244Z
LAST-MODIFIED:20170626T110254Z
UID:1227-1499005800-1499011200@ilchibrainyoga-tsujido.com
SUMMARY:へそから始める健康法「へそヒーリング」
DESCRIPTION:お母さんのおなかの中で酸素や栄養をもらう「へそ」。 \n役目は終わったと思われがちですが、実は内臓やリンパ節・神経が集まった「健康ボタン」だったのです。 \nへそを中心にリンパの流れをよくする１０個のヒーリング法で自己healingをしながら \n１日の疲れをその日のうちに取り除きます。 \n自己healingをするbefore\,afterで体の変化を感じていただくことができます。 \nいつでもどこでもできる簡単healingで体と心が軽くなります。 \n  \n内容：へその話・自己ヒーリング法 \n効果 \n１．血液循環が促進される \n２．体温が上がる \n３．免疫力が向上し解毒の排出がスムーズになる \n４．消化・排泄機能が高まる \n５、関節の痛みや緊張が緩和される \n６、頭がクリアーになり集中力が高まる \n７、肌のツヤがよくなり顔が明るくなる \n８、呼吸が深まり心の中心をとることができる \nぜひ体験してみてください。 \nイベントのご予約はこちら
URL:https://ilchibrainyoga-tsujido.com/event/%e3%81%b8%e3%81%9d%e3%81%8b%e3%82%89%e5%a7%8b%e3%82%81%e3%82%8b%e5%81%a5%e5%ba%b7%e6%b3%95%e3%80%8c%e3%81%b8%e3%81%9d%e3%83%92%e3%83%bc%e3%83%aa%e3%83%b3%e3%82%b0%e3%80%8d-11/
LOCATION:イルチブレインヨガ辻堂スタジオ\, 神奈川県茅ヶ崎市浜竹２丁目２−４ 安達ビル2階\, 2530021\, 日本
CATEGORIES:へそヒーリング
END:VEVENT
BEGIN:VEVENT
DTSTART;TZID=Asia/Tokyo:20170630T143000
DTEND;TZID=Asia/Tokyo:20170630T160000
DTSTAMP:20260423T154650
CREATED:20170626T110132Z
LAST-MODIFIED:20170626T110442Z
UID:1226-1498833000-1498838400@ilchibrainyoga-tsujido.com
SUMMARY:へそから始める健康法「へそヒーリング」
DESCRIPTION:お母さんのおなかの中で酸素や栄養をもらう「へそ」。 \n役目は終わったと思われがちですが、実は内臓やリンパ節・神経が集まった「健康ボタン」だったのです。 \nへそを中心にリンパの流れをよくする１０個のヒーリング法で自己healingをしながら \n１日の疲れをその日のうちに取り除きます。 \n自己healingをするbefore\,afterで体の変化を感じていただくことができます。 \nいつでもどこでもできる簡単healingで体と心が軽くなります。 \n  \n内容：へその話・自己ヒーリング法 \n効果 \n１．血液循環が促進される \n２．体温が上がる \n３．免疫力が向上し解毒の排出がスムーズになる \n４．消化・排泄機能が高まる \n５、関節の痛みや緊張が緩和される \n６、頭がクリアーになり集中力が高まる \n７、肌のツヤがよくなり顔が明るくなる \n８、呼吸が深まり心の中心をとることができる \nぜひ体験してみてください。 \nイベントのご予約はこちら
URL:https://ilchibrainyoga-tsujido.com/event/%e3%81%b8%e3%81%9d%e3%81%8b%e3%82%89%e5%a7%8b%e3%82%81%e3%82%8b%e5%81%a5%e5%ba%b7%e6%b3%95%e3%80%8c%e3%81%b8%e3%81%9d%e3%83%92%e3%83%bc%e3%83%aa%e3%83%b3%e3%82%b0%e3%80%8d-10/
LOCATION:イルチブレインヨガ辻堂スタジオ\, 神奈川県茅ヶ崎市浜竹２丁目２−４ 安達ビル2階\, 2530021\, 日本
CATEGORIES:へそヒーリング
END:VEVENT
BEGIN:VEVENT
DTSTART;TZID=Asia/Tokyo:20170524T100000
DTEND;TZID=Asia/Tokyo:20170524T120000
DTSTAMP:20260423T154650
CREATED:20170406T123946Z
LAST-MODIFIED:20170506T090346Z
UID:1190-1495620000-1495627200@ilchibrainyoga-tsujido.com
SUMMARY:４のつく日はヨガの日
DESCRIPTION:4のつく日はヨガの日 \nいま、イルチブレインヨガで話題のへそヒーリングも体験できるへそ＆腸健康ヨガ体験。 \nネットから予約いただいた方体験費が通常3000円が→1000円でお得 \nヨガが体と心をつなげるという意味があります。 \n質のよい、呼吸と瞑想でリラックス効果があらわれます。 \nトレーニングでは、体をよくほぐし、体の中心のお腹が温かくなっていき、 \nそれで複式呼吸（下腹が動く呼吸）が自然にできるようにします。 \n期待する効果は \n便秘、ひどい肩こり・腰痛、やる気が出ない、体力の減退・運動不足解消、痩せたい・太りたい etc. \n最近は、おへそ周りをほぐすことで、免疫系・循環器系・呼吸器系への効果が大きいことが分かってきました。 \n最新のトレーニング法を組み合わせ、効果が倍増 \n飽きずに、健康つくりにも役立つヨガです。 \n日常生活で体のメンテナンスをお考えの方、ぜひこの機会に体験してみてください。 \nイベントのご予約はこちら
URL:https://ilchibrainyoga-tsujido.com/event/%ef%bc%94%e3%81%ae%e3%81%a4%e3%81%8f%e6%97%a5%e3%81%af%e3%83%a8%e3%82%ac%e3%81%ae%e6%97%a5-20/
LOCATION:イルチブレインヨガ辻堂スタジオ\, 神奈川県茅ヶ崎市浜竹２丁目２−４ 安達ビル2階\, 2530021\, 日本
END:VEVENT
BEGIN:VEVENT
DTSTART;TZID=Asia/Tokyo:20170514T103000
DTEND;TZID=Asia/Tokyo:20170514T123000
DTSTAMP:20260423T154650
CREATED:20170506T090214Z
LAST-MODIFIED:20170506T090214Z
UID:1199-1494757800-1494765000@ilchibrainyoga-tsujido.com
SUMMARY:4のつく日はヨガの日
DESCRIPTION:4のつく日はヨガの日 \nいま、イルチブレインヨガで話題のへそヒーリングも体験できるへそ＆腸健康ヨガ体験。 \nネットから予約いただいた方体験費が通常3000円が→1000円でお得 \nヨガが体と心をつなげるという意味があります。 \n質のよい、呼吸と瞑想でリラックス効果があらわれます。 \nトレーニングでは、体をよくほぐし、体の中心のお腹が温かくなっていき、 \nそれで複式呼吸（下腹が動く呼吸）が自然にできるようにします。 \n期待する効果は \n便秘、ひどい肩こり・腰痛、やる気が出ない、体力の減退・運動不足解消、痩せたい・太りたい etc. \n最近は、おへそ周りをほぐすことで、免疫系・循環器系・呼吸器系への効果が大きいことが分かってきました。 \n最新のトレーニング法を組み合わせ、効果が倍増 \n飽きずに、健康つくりにも役立つヨガです。 \n日常生活で体のメンテナンスをお考えの方、ぜひこの機会に体験してみてください。 \nイベントのご予約はこちら
URL:https://ilchibrainyoga-tsujido.com/event/4%e3%81%ae%e3%81%a4%e3%81%8f%e6%97%a5%e3%81%af%e3%83%a8%e3%82%ac%e3%81%ae%e6%97%a5-30/
LOCATION:イルチブレインヨガ辻堂スタジオ\, 神奈川県茅ヶ崎市浜竹２丁目２−４ 安達ビル2階\, 2530021\, 日本
END:VEVENT
BEGIN:VEVENT
DTSTART;TZID=Asia/Tokyo:20170417T100000
DTEND;TZID=Asia/Tokyo:20170417T160000
DTSTAMP:20260423T154650
CREATED:20170409T060902Z
LAST-MODIFIED:20170409T060902Z
UID:1191-1492423200-1492444800@ilchibrainyoga-tsujido.com
SUMMARY:湘南Hauoliフェスティバル
DESCRIPTION:～商業施設内での中規模イベント～\n第8回湘南Hauoliフェスティバルin茅ヶ崎\nいろんな専門家・専門店が集まって \n身体・心に優しい・うれしい・楽しいイベントです。 \n4月17日（月） \n会場：ブランチ茅ヶ崎２（茅ヶ崎市浜見平３－１） \n10：００～１６：００ \nイルチブレインヨガは、オーラ撮影で出店します。 \nぜひ、遊びにいらしてください。
URL:https://ilchibrainyoga-tsujido.com/event/%e6%b9%98%e5%8d%97hauoli%e3%83%95%e3%82%a7%e3%82%b9%e3%83%86%e3%82%a3%e3%83%90%e3%83%ab/
LOCATION:ブランチ茅ヶ崎２\, 浜見平３－１\, 茅ヶ崎市\, 神奈川県\, Japan
CATEGORIES:オーラ
END:VEVENT
BEGIN:VEVENT
DTSTART;TZID=Asia/Tokyo:20170414T100000
DTEND;TZID=Asia/Tokyo:20170414T120000
DTSTAMP:20260423T154650
CREATED:20170406T122627Z
LAST-MODIFIED:20170406T122627Z
UID:1189-1492164000-1492171200@ilchibrainyoga-tsujido.com
SUMMARY:４のつく日はヨガの日
DESCRIPTION:4のつく日はヨガの日 \nいま、イルチブレインヨガで話題のへそヒーリングも体験できるへそ＆腸健康ヨガ体験。 \nネットから予約いただいた方体験費が通常3000円が→1000円でお得 \nヨガが体と心をつなげるという意味があります。 \n質のよい、呼吸と瞑想でリラックス効果があらわれます。 \nトレーニングでは、体をよくほぐし、体の中心のお腹が温かくなっていき、 \nそれで複式呼吸（下腹が動く呼吸）が自然にできるようにします。 \n期待する効果は \n便秘、ひどい肩こり・腰痛、やる気が出ない、体力の減退・運動不足解消、痩せたい・太りたい etc. \n最近は、おへそ周りをほぐすことで、免疫系・循環器系・呼吸器系への効果が大きいことが分かってきました。 \n最新のトレーニング法を組み合わせ、効果が倍増 \n飽きずに、健康つくりにも役立つヨガです。 \n日常生活で体のメンテナンスをお考えの方、ぜひこの機会に体験してみてください。
URL:https://ilchibrainyoga-tsujido.com/event/%ef%bc%94%e3%81%ae%e3%81%a4%e3%81%8f%e6%97%a5%e3%81%af%e3%83%a8%e3%82%ac%e3%81%ae%e6%97%a5-19/
LOCATION:イルチブレインヨガ辻堂スタジオ\, 神奈川県茅ヶ崎市浜竹２丁目２−４ 安達ビル2階\, 2530021\, 日本
END:VEVENT
BEGIN:VEVENT
DTSTART;TZID=Asia/Tokyo:20170404T190000
DTEND;TZID=Asia/Tokyo:20170404T210000
DTSTAMP:20260423T154650
CREATED:20170313T091106Z
LAST-MODIFIED:20170313T091106Z
UID:1176-1491332400-1491339600@ilchibrainyoga-tsujido.com
SUMMARY:4日はヨガの日
DESCRIPTION:4のつく日はヨガの日 \nいま、イルチブレインヨガで話題のへそヒーリングも体験できるへそ＆腸健康ヨガ体験。 \nネットから予約いただいた方体験費が通常3000円が→1000円でお得 \nヨガが体と心をつなげるという意味があります。 \n質のよい、呼吸と瞑想でリラックス効果があらわれます。 \nトレーニングでは、体をよくほぐし、体の中心のお腹が温かくなっていき、 \nそれで複式呼吸（下腹が動く呼吸）が自然にできるようにします。 \n期待する効果は \n便秘、ひどい肩こり・腰痛、やる気が出ない、体力の減退・運動不足解消、痩せたい・太りたい etc. \n最近は、おへそ周りをほぐすことで、免疫系・循環器系・呼吸器系への効果が大きいことが分かってきました。 \n最新のトレーニング法を組み合わせ、効果が倍増 \n飽きずに、健康つくりにも役立つヨガです。 \n日常生活で体のメンテナンスをお考えの方、ぜひこの機会に体験してみてください。 \nイベントのご予約はこちら
URL:https://ilchibrainyoga-tsujido.com/event/4%e6%97%a5%e3%81%af%e3%83%a8%e3%82%ac%e3%81%ae%e6%97%a5-25/
LOCATION:イルチブレインヨガ辻堂スタジオ\, 神奈川県茅ヶ崎市浜竹２丁目２−４ 安達ビル2階\, 2530021\, 日本
END:VEVENT
BEGIN:VEVENT
DTSTART;TZID=Asia/Tokyo:20170404T143000
DTEND;TZID=Asia/Tokyo:20170404T163000
DTSTAMP:20260423T154650
CREATED:20170313T090920Z
LAST-MODIFIED:20170313T091156Z
UID:1175-1491316200-1491323400@ilchibrainyoga-tsujido.com
SUMMARY:4日はヨガの日
DESCRIPTION:4日はヨガの日 \nいま、イルチブレインヨガで話題のへそヒーリングも体験できるへそ＆腸健康ヨガ体験。 \nネットから予約いただいた方体験費が通常3000円が→1000円でお得 \nヨガが体と心をつなげるという意味があります。 \n質のよい、呼吸と瞑想でリラックス効果があらわれます。 \nトレーニングでは、体をよくほぐし、体の中心のお腹が温かくなっていき、 \nそれで複式呼吸（下腹が動く呼吸）が自然にできるようにします。 \n期待する効果は \n便秘、ひどい肩こり・腰痛、やる気が出ない、体力の減退・運動不足解消、痩せたい・太りたい etc. \n最近は、おへそ周りをほぐすことで、免疫系・循環器系・呼吸器系への効果が大きいことが分かってきました。 \n最新のトレーニング法を組み合わせ、効果が倍増 \n飽きずに、健康つくりにも役立つヨガです。 \n日常生活で体のメンテナンスをお考えの方、ぜひこの機会に体験してみてください。 \nイベントのご予約はこちら
URL:https://ilchibrainyoga-tsujido.com/event/1175/
LOCATION:イルチブレインヨガ辻堂スタジオ\, 神奈川県茅ヶ崎市浜竹２丁目２−４ 安達ビル2階\, 2530021\, 日本
END:VEVENT
BEGIN:VEVENT
DTSTART;TZID=Asia/Tokyo:20170324T190000
DTEND;TZID=Asia/Tokyo:20170324T210000
DTSTAMP:20260423T154650
CREATED:20170313T090303Z
LAST-MODIFIED:20170313T090345Z
UID:1174-1490382000-1490389200@ilchibrainyoga-tsujido.com
SUMMARY:４のつく日はヨガの日
DESCRIPTION:4のつく日はヨガの日 \nいま、イルチブレインヨガで話題のへそヒーリングも体験できるへそ＆腸健康ヨガ体験。 \nネットから予約いただいた方体験費が通常3000円が→1000円でお得 \nヨガが体と心をつなげるという意味があります。 \n質のよい、呼吸と瞑想でリラックス効果があらわれます。 \nトレーニングでは、体をよくほぐし、体の中心のお腹が温かくなっていき、 \nそれで複式呼吸（下腹が動く呼吸）が自然にできるようにします。 \n期待する効果は \n便秘、ひどい肩こり・腰痛、やる気が出ない、体力の減退・運動不足解消、痩せたい・太りたい etc. \n最近は、おへそ周りをほぐすことで、免疫系・循環器系・呼吸器系への効果が大きいことが分かってきました。 \n最新のトレーニング法を組み合わせ、効果が倍増 \n飽きずに、健康つくりにも役立つヨガです。 \n日常生活で体のメンテナンスをお考えの方、ぜひこの機会に体験してみてください。 \nイベントのご予約はこちら
URL:https://ilchibrainyoga-tsujido.com/event/%ef%bc%94%e3%81%ae%e3%81%a4%e3%81%8f%e6%97%a5%e3%81%af%e3%83%a8%e3%82%ac%e3%81%ae%e6%97%a5-18/
LOCATION:イルチブレインヨガ辻堂スタジオ\, 神奈川県茅ヶ崎市浜竹２丁目２−４ 安達ビル2階\, 2530021\, 日本
END:VEVENT
BEGIN:VEVENT
DTSTART;TZID=Asia/Tokyo:20170324T100000
DTEND;TZID=Asia/Tokyo:20170324T120000
DTSTAMP:20260423T154650
CREATED:20170313T090200Z
LAST-MODIFIED:20170313T090415Z
UID:1173-1490349600-1490356800@ilchibrainyoga-tsujido.com
SUMMARY:４のつく日はヨガの日
DESCRIPTION:4のつく日はヨガの日 \nいま、イルチブレインヨガで話題のへそヒーリングも体験できるへそ＆腸健康ヨガ体験。 \nネットから予約いただいた方体験費が通常3000円が→1000円でお得 \nヨガが体と心をつなげるという意味があります。 \n質のよい、呼吸と瞑想でリラックス効果があらわれます。 \nトレーニングでは、体をよくほぐし、体の中心のお腹が温かくなっていき、 \nそれで複式呼吸（下腹が動く呼吸）が自然にできるようにします。 \n期待する効果は \n便秘、ひどい肩こり・腰痛、やる気が出ない、体力の減退・運動不足解消、痩せたい・太りたい etc. \n最近は、おへそ周りをほぐすことで、免疫系・循環器系・呼吸器系への効果が大きいことが分かってきました。 \n最新のトレーニング法を組み合わせ、効果が倍増 \n飽きずに、健康つくりにも役立つヨガです。 \n日常生活で体のメンテナンスをお考えの方、ぜひこの機会に体験してみてください。 \nイベントのご予約はこちら
URL:https://ilchibrainyoga-tsujido.com/event/%ef%bc%94%e3%81%ae%e3%81%a4%e3%81%8f%e6%97%a5%e3%81%af%e3%83%a8%e3%82%ac%e3%81%ae%e6%97%a5-17/
LOCATION:イルチブレインヨガ辻堂スタジオ\, 神奈川県茅ヶ崎市浜竹２丁目２−４ 安達ビル2階\, 2530021\, 日本
END:VEVENT
BEGIN:VEVENT
DTSTART;TZID=Asia/Tokyo:20170314T190000
DTEND;TZID=Asia/Tokyo:20170314T210000
DTSTAMP:20260423T154650
CREATED:20170313T090045Z
LAST-MODIFIED:20170313T090443Z
UID:1172-1489518000-1489525200@ilchibrainyoga-tsujido.com
SUMMARY:4のつく日はヨガの日
DESCRIPTION:4のつく日はヨガの日 \nいま、イルチブレインヨガで話題のへそヒーリングも体験できるへそ＆腸健康ヨガ体験。 \nネットから予約いただいた方体験費が通常3000円が→1000円でお得 \nヨガが体と心をつなげるという意味があります。 \n質のよい、呼吸と瞑想でリラックス効果があらわれます。 \nトレーニングでは、体をよくほぐし、体の中心のお腹が温かくなっていき、 \nそれで複式呼吸（下腹が動く呼吸）が自然にできるようにします。 \n期待する効果は \n便秘、ひどい肩こり・腰痛、やる気が出ない、体力の減退・運動不足解消、痩せたい・太りたい etc. \n最近は、おへそ周りをほぐすことで、免疫系・循環器系・呼吸器系への効果が大きいことが分かってきました。 \n最新のトレーニング法を組み合わせ、効果が倍増 \n飽きずに、健康つくりにも役立つヨガです。 \n日常生活で体のメンテナンスをお考えの方、ぜひこの機会に体験してみてください。 \nイベントのご予約はこちら
URL:https://ilchibrainyoga-tsujido.com/event/4%e3%81%ae%e3%81%a4%e3%81%8f%e6%97%a5%e3%81%af%e3%83%a8%e3%82%ac%e3%81%ae%e6%97%a5-29/
LOCATION:イルチブレインヨガ辻堂スタジオ\, 神奈川県茅ヶ崎市浜竹２丁目２−４ 安達ビル2階\, 2530021\, 日本
END:VEVENT
BEGIN:VEVENT
DTSTART;TZID=Asia/Tokyo:20170314T143000
DTEND;TZID=Asia/Tokyo:20170314T163000
DTSTAMP:20260423T154650
CREATED:20170313T085934Z
LAST-MODIFIED:20170313T090511Z
UID:1171-1489501800-1489509000@ilchibrainyoga-tsujido.com
SUMMARY:４のつく日はヨガの日
DESCRIPTION:4のつく日はヨガの日 \nいま、イルチブレインヨガで話題のへそヒーリングも体験できるへそ＆腸健康ヨガ体験。 \nネットから予約いただいた方体験費が通常3000円が→1000円でお得 \nヨガが体と心をつなげるという意味があります。 \n質のよい、呼吸と瞑想でリラックス効果があらわれます。 \nトレーニングでは、体をよくほぐし、体の中心のお腹が温かくなっていき、 \nそれで複式呼吸（下腹が動く呼吸）が自然にできるようにします。 \n期待する効果は \n便秘、ひどい肩こり・腰痛、やる気が出ない、体力の減退・運動不足解消、痩せたい・太りたい etc. \n最近は、おへそ周りをほぐすことで、免疫系・循環器系・呼吸器系への効果が大きいことが分かってきました。 \n最新のトレーニング法を組み合わせ、効果が倍増 \n飽きずに、健康つくりにも役立つヨガです。 \n日常生活で体のメンテナンスをお考えの方、ぜひこの機会に体験してみてください。 \nイベントのご予約はこちら
URL:https://ilchibrainyoga-tsujido.com/event/%ef%bc%94%e3%81%ae%e3%81%a4%e3%81%8f%e6%97%a5%e3%81%af%e3%83%a8%e3%82%ac%e3%81%ae%e6%97%a5-16/
LOCATION:イルチブレインヨガ辻堂スタジオ\, 神奈川県茅ヶ崎市浜竹２丁目２−４ 安達ビル2階\, 2530021\, 日本
END:VEVENT
END:VCALENDAR