BEGIN:VCALENDAR
VERSION:2.0
PRODID:-//【湘南茅ヶ崎 平塚 藤沢ヨガ】イルチブレインヨガ辻堂スタジオ｜辻堂駅南口より徒歩8分 体と心と脳のヨガ - ECPv6.15.20//NONSGML v1.0//EN
CALSCALE:GREGORIAN
METHOD:PUBLISH
X-WR-CALNAME:【湘南茅ヶ崎 平塚 藤沢ヨガ】イルチブレインヨガ辻堂スタジオ｜辻堂駅南口より徒歩8分 体と心と脳のヨガ
X-ORIGINAL-URL:https://ilchibrainyoga-tsujido.com
X-WR-CALDESC:【湘南茅ヶ崎 平塚 藤沢ヨガ】イルチブレインヨガ辻堂スタジオ｜辻堂駅南口より徒歩8分 体と心と脳のヨガ のイベント
REFRESH-INTERVAL;VALUE=DURATION:PT1H
X-Robots-Tag:noindex
X-PUBLISHED-TTL:PT1H
BEGIN:VTIMEZONE
TZID:Asia/Tokyo
BEGIN:STANDARD
TZOFFSETFROM:+0900
TZOFFSETTO:+0900
TZNAME:JST
DTSTART:20150101T000000
END:STANDARD
END:VTIMEZONE
BEGIN:VEVENT
DTSTART;TZID=Asia/Tokyo:20160107T190000
DTEND;TZID=Asia/Tokyo:20160107T213000
DTSTAMP:20260424T145446
CREATED:20151229T042804Z
LAST-MODIFIED:20151229T042804Z
UID:813-1452193200-1452202200@ilchibrainyoga-tsujido.com
SUMMARY:ソーラーメソッド
DESCRIPTION:太陽のように明るく輝くような存在。 \n誰でもそんな人間になりたいけれど、社会生活の中での人間関係・社会のシステムにあわせて \n自分を見失っていないでしょうか？ \nソーラーメソッドは複雑な社会の中で自分自身をしかっりもてるような \n原理講義・体を動かすトレーニングをしていきます。 \n自分の今までの生き方に少しずつ変化が起きていき \n過去の後悔、未来の心配に時間を費やすことが無くなり \n今をよりよく生きていく生き方にチェンジしていきます。 \n講師も25年のキャリアを持つベテラントレーナーです。 \n興味のある方は、まずは当スタジオにご連絡ください。 \n※会員割引があります。
URL:https://ilchibrainyoga-tsujido.com/event/%e3%82%bd%e3%83%bc%e3%83%a9%e3%83%bc%e3%83%a1%e3%82%bd%e3%83%83%e3%83%89/
LOCATION:イルチブレインヨガ横浜スタジオ\, 横浜市神奈川区鶴屋町1－8－1\, 神奈川県
END:VEVENT
BEGIN:VEVENT
DTSTART;TZID=Asia/Tokyo:20160110T100000
DTEND;TZID=Asia/Tokyo:20160110T200000
DTSTAMP:20260424T145446
CREATED:20151229T041827Z
LAST-MODIFIED:20151229T041855Z
UID:809-1452420000-1452456000@ilchibrainyoga-tsujido.com
SUMMARY:0のつく日はオーラの日
DESCRIPTION:オーラ撮影はその方の生体エネルギーを特殊な機械で読み取り \nパソコン上で色として映し出すものです。 \n性格も様々のように、色もそれぞれ違い何色か入り混じっている方も・・・。 \nそして、健康チェックもできます。 \n体・心・精神的なバランスなど今の状態が視覚でよく分かります。 \nそのほかに、交感神経・副交感神経のバランスなどの健康チェックもできます。 \n１５分ほどで撮影・カウンセリングもいたします。興味のある方はぜひいらしてください。 \nお越しになるときは希望時間をお知らせください。 \nこちらから改めてご連絡いたします。 \nお待ちしています。 \nイベントのご予約はこちら
URL:https://ilchibrainyoga-tsujido.com/event/0%e3%81%ae%e3%81%a4%e3%81%8f%e6%97%a5%e3%81%af%e3%82%aa%e3%83%bc%e3%83%a9%e3%81%ae%e6%97%a5/
LOCATION:イルチブレインヨガ辻堂スタジオ\, 神奈川県茅ヶ崎市浜竹２丁目２−４ 安達ビル2階\, 2530021\, 日本
END:VEVENT
BEGIN:VEVENT
DTSTART;TZID=Asia/Tokyo:20160114T023000
DTEND;TZID=Asia/Tokyo:20160114T163000
DTSTAMP:20260424T145446
CREATED:20151229T040736Z
LAST-MODIFIED:20151229T040736Z
UID:805-1452738600-1452789000@ilchibrainyoga-tsujido.com
SUMMARY:４のつく日はヨガの日
DESCRIPTION:４のつく日はヨガの日。 \nヨガが体と心をつなげるという意味があります。 \n質のよい、呼吸と瞑想でその効果があらわれます。 \nトレーニングでは、体をよくほぐしてあげて、複式呼吸が自然にできるようにします。 \nイルチブレインヨガでは、脳科学と東洋医学融合した画期的なヨガ。 \nその効果が世界的にも認められています。 \n飽きずに、健康つくりにも役立つ脳活性ヨガ。 \n体験費がお安いに日体験してみませんか？ \nイベントのご予約はこちら
URL:https://ilchibrainyoga-tsujido.com/event/%ef%bc%94%e3%81%ae%e3%81%a4%e3%81%8f%e6%97%a5%e3%81%af%e3%83%a8%e3%82%ac%e3%81%ae%e6%97%a5-11/
LOCATION:イルチブレインヨガ辻堂スタジオ\, 神奈川県茅ヶ崎市浜竹２丁目２−４ 安達ビル2階\, 2530021\, 日本
END:VEVENT
BEGIN:VEVENT
DTSTART;TZID=Asia/Tokyo:20160114T190000
DTEND;TZID=Asia/Tokyo:20160114T210000
DTSTAMP:20260424T145446
CREATED:20151229T040904Z
LAST-MODIFIED:20151229T040904Z
UID:806-1452798000-1452805200@ilchibrainyoga-tsujido.com
SUMMARY:4のつく日はヨガの日
DESCRIPTION:４のつく日はヨガの日。 \nヨガが体と心をつなげるという意味があります。 \n質のよい、呼吸と瞑想でその効果があらわれます。 \nトレーニングでは、体をよくほぐしてあげて、複式呼吸が自然にできるようにします。 \nイルチブレインヨガでは、脳科学と東洋医学融合した画期的なヨガ。 \nその効果が世界的にも認められています。 \n飽きずに、健康つくりにも役立つ脳活性ヨガ。 \n体験費がお安いに日体験してみませんか？ \nイベントのご予約はこちら\n 
URL:https://ilchibrainyoga-tsujido.com/event/4%e3%81%ae%e3%81%a4%e3%81%8f%e6%97%a5%e3%81%af%e3%83%a8%e3%82%ac%e3%81%ae%e6%97%a5-4/
LOCATION:イルチブレインヨガ辻堂スタジオ\, 神奈川県茅ヶ崎市浜竹２丁目２−４ 安達ビル2階\, 2530021\, 日本
END:VEVENT
BEGIN:VEVENT
DTSTART;TZID=Asia/Tokyo:20160120T100000
DTEND;TZID=Asia/Tokyo:20160120T200000
DTSTAMP:20260424T145446
CREATED:20151229T042006Z
LAST-MODIFIED:20151229T042330Z
UID:810-1453284000-1453320000@ilchibrainyoga-tsujido.com
SUMMARY:0のつく日はオーラの日
DESCRIPTION:オーラ撮影はその方の生体エネルギーを特殊な機械で読み取り \nパソコン上で色として映し出すものです。 \n性格も様々のように、色もそれぞれ違い何色か入り混じっている方も・・・。 \nそして、健康チェックもできます。 \n体・心・精神的なバランスなど今の状態が視覚でよく分かります。 \nそのほかに、交感神経・副交感神経のバランスなどの健康チェックもできます。 \n１５分ほどで撮影・カウンセリングもいたします。興味のある方はぜひいらしてください。 \nお越しになるときは希望時間をお知らせください。 \nこちらから改めてご連絡いたします。 \nお待ちしています。 \nイベントのご予約はこちら
URL:https://ilchibrainyoga-tsujido.com/event/0%e3%81%ae%e3%81%a4%e3%81%8f%e6%97%a5%e3%81%af%e3%82%aa%e3%83%bc%e3%83%a9%e3%81%ae%e6%97%a5-2/
LOCATION:イルチブレインヨガ辻堂スタジオ\, 神奈川県茅ヶ崎市浜竹２丁目２−４ 安達ビル2階\, 2530021\, 日本
END:VEVENT
BEGIN:VEVENT
DTSTART;TZID=Asia/Tokyo:20160124T100000
DTEND;TZID=Asia/Tokyo:20160124T120000
DTSTAMP:20260424T145446
CREATED:20151229T041005Z
LAST-MODIFIED:20151229T041005Z
UID:807-1453629600-1453636800@ilchibrainyoga-tsujido.com
SUMMARY:4のつく日はヨガの日
DESCRIPTION:４のつく日はヨガの日。 \nヨガが体と心をつなげるという意味があります。 \n質のよい、呼吸と瞑想でその効果があらわれます。 \nトレーニングでは、体をよくほぐしてあげて、複式呼吸が自然にできるようにします。 \nイルチブレインヨガでは、脳科学と東洋医学融合した画期的なヨガ。 \nその効果が世界的にも認められています。 \n飽きずに、健康つくりにも役立つ脳活性ヨガ。 \n体験費がお安いに日体験してみませんか？ \nイベントのご予約はこちら
URL:https://ilchibrainyoga-tsujido.com/event/4%e3%81%ae%e3%81%a4%e3%81%8f%e6%97%a5%e3%81%af%e3%83%a8%e3%82%ac%e3%81%ae%e6%97%a5-5/
LOCATION:イルチブレインヨガ辻堂スタジオ\, 神奈川県茅ヶ崎市浜竹２丁目２−４ 安達ビル2階\, 2530021\, 日本
END:VEVENT
BEGIN:VEVENT
DTSTART;TZID=Asia/Tokyo:20160130T100000
DTEND;TZID=Asia/Tokyo:20160130T200000
DTSTAMP:20260424T145446
CREATED:20151229T042434Z
LAST-MODIFIED:20160129T002457Z
UID:812-1454148000-1454184000@ilchibrainyoga-tsujido.com
SUMMARY:0のつく日はオーラの日
DESCRIPTION:オーラ撮影はその方の生体エネルギーを特殊な機械で読み取り パソコン上で色として映し出すものです。 性格も様々のように、色もそれぞれ違い何色か入り混じっている方も・・・。 そして、健康チェックもできます。 体・心・精神的なバランスなど今の状態が視覚でよく分かります。 そのほかに、交感神経・副交感神経のバランスなどの健康チェックもできます。 １５分ほどで撮影・カウンセリングもいたします。興味のある方はぜひいらしてください。 お越しになるときは希望時間をお知らせください。 こちらから改めてご連絡いたします。 お待ちしています。 \nイベントのご予約はこちら
URL:https://ilchibrainyoga-tsujido.com/event/0%e3%81%ae%e3%81%a4%e3%81%8f%e6%97%a5%e3%81%af%e3%82%aa%e3%83%bc%e3%83%a9%e3%81%ae%e6%97%a5-3/
LOCATION:イルチブレインヨガ辻堂スタジオ\, 神奈川県茅ヶ崎市浜竹２丁目２−４ 安達ビル2階\, 2530021\, 日本
END:VEVENT
BEGIN:VEVENT
DTSTART;TZID=Asia/Tokyo:20160204T143000
DTEND;TZID=Asia/Tokyo:20160204T163000
DTSTAMP:20260424T145446
CREATED:20160201T124135Z
LAST-MODIFIED:20160201T124729Z
UID:830-1454596200-1454603400@ilchibrainyoga-tsujido.com
SUMMARY:4日はヨガの日
DESCRIPTION:４のつく日はヨガの日。 \nヨガが体と心をつなげるという意味があります。 \n質のよい、呼吸と瞑想でその効果があらわれます。 \nトレーニングでは、体をよくほぐしてあげて、複式呼吸が自然にできるようにします。 \nイルチブレインヨガでは、脳科学と東洋医学融合した画期的なヨガ。 \nその効果が世界的にも認められています。 飽きずに、健康つくりにも役立つ脳活性ヨガ。 \n体験費がお安いに日体験してみませんか？ \nイベントのご予約はこちら
URL:https://ilchibrainyoga-tsujido.com/event/4%e6%97%a5%e3%81%af%e3%83%a8%e3%82%ac%e3%81%ae%e6%97%a5-9/
LOCATION:イルチブレインヨガ辻堂スタジオ\, 神奈川県茅ヶ崎市浜竹２丁目２−４ 安達ビル2階\, 2530021\, 日本
END:VEVENT
BEGIN:VEVENT
DTSTART;TZID=Asia/Tokyo:20160204T190000
DTEND;TZID=Asia/Tokyo:20160204T190000
DTSTAMP:20260424T145446
CREATED:20160201T124406Z
LAST-MODIFIED:20160201T124435Z
UID:831-1454612400-1454612400@ilchibrainyoga-tsujido.com
SUMMARY:4日はヨガの日
DESCRIPTION:４のつく日はヨガの日。 \nヨガが体と心をつなげるという意味があります。 \n質のよい、呼吸と瞑想でその効果があらわれます。 \nトレーニングでは、体をよくほぐしてあげて、複式呼吸が自然にできるようにします。 \nイルチブレインヨガでは、脳科学と東洋医学融合した画期的なヨガ。 \nその効果が世界的にも認められています。 飽きずに、健康つくりにも役立つ脳活性ヨガ。 \n体験費がお安いに日体験してみませんか？ \n  \nイベントのご予約はこちら
URL:https://ilchibrainyoga-tsujido.com/event/4%e6%97%a5%e3%81%af%e3%83%a8%e3%82%ac%e3%81%ae%e6%97%a5-10/
LOCATION:イルチブレインヨガ辻堂スタジオ\, 神奈川県茅ヶ崎市浜竹２丁目２−４ 安達ビル2階\, 2530021\, 日本
END:VEVENT
BEGIN:VEVENT
DTSTART;TZID=Asia/Tokyo:20160214T150000
DTEND;TZID=Asia/Tokyo:20160214T170000
DTSTAMP:20260424T145446
CREATED:20160201T124623Z
LAST-MODIFIED:20160201T124623Z
UID:832-1455462000-1455469200@ilchibrainyoga-tsujido.com
SUMMARY:4のつく日はヨガの日
DESCRIPTION:４のつく日はヨガの日。 \nヨガが体と心をつなげるという意味があります。 \n質のよい、呼吸と瞑想でその効果があらわれます。 \nトレーニングでは、体をよくほぐしてあげて、複式呼吸が自然にできるようにします。 \nイルチブレインヨガでは、脳科学と東洋医学融合した画期的なヨガ。 \nその効果が世界的にも認められています。 飽きずに、健康つくりにも役立つ脳活性ヨガ。 \n体験費がお安いに日体験してみませんか？ \nイベントのご予約はこちら
URL:https://ilchibrainyoga-tsujido.com/event/4%e3%81%ae%e3%81%a4%e3%81%8f%e6%97%a5%e3%81%af%e3%83%a8%e3%82%ac%e3%81%ae%e6%97%a5-6/
LOCATION:イルチブレインヨガ辻堂スタジオ\, 神奈川県茅ヶ崎市浜竹２丁目２−４ 安達ビル2階\, 2530021\, 日本
END:VEVENT
BEGIN:VEVENT
DTSTART;TZID=Asia/Tokyo:20160224T100000
DTEND;TZID=Asia/Tokyo:20160224T100000
DTSTAMP:20260424T145446
CREATED:20160201T124952Z
LAST-MODIFIED:20160201T124952Z
UID:833-1456308000-1456308000@ilchibrainyoga-tsujido.com
SUMMARY:4のつく日はヨガの日
DESCRIPTION:４のつく日はヨガの日。 \nヨガが体と心をつなげるという意味があります。 \n質のよい、呼吸と瞑想でその効果があらわれます。 \nトレーニングでは、体をよくほぐしてあげて、複式呼吸が自然にできるようにします。 \nイルチブレインヨガでは、脳科学と東洋医学融合した画期的なヨガ。 \nその効果が世界的にも認められています。 飽きずに、健康つくりにも役立つ脳活性ヨガ。 \n体験費がお安いに日体験してみませんか？ \nイベントのご予約はこちら
URL:https://ilchibrainyoga-tsujido.com/event/4%e3%81%ae%e3%81%a4%e3%81%8f%e6%97%a5%e3%81%af%e3%83%a8%e3%82%ac%e3%81%ae%e6%97%a5-7/
LOCATION:イルチブレインヨガ辻堂スタジオ\, 神奈川県茅ヶ崎市浜竹２丁目２−４ 安達ビル2階\, 2530021\, 日本
END:VEVENT
BEGIN:VEVENT
DTSTART;TZID=Asia/Tokyo:20160224T190000
DTEND;TZID=Asia/Tokyo:20160224T210000
DTSTAMP:20260424T145446
CREATED:20160201T125150Z
LAST-MODIFIED:20160201T125150Z
UID:834-1456340400-1456347600@ilchibrainyoga-tsujido.com
SUMMARY:4のつく日はヨガの日
DESCRIPTION:４のつく日はヨガの日。 \nヨガが体と心をつなげるという意味があります。 \n質のよい、呼吸と瞑想でその効果があらわれます。 \nトレーニングでは、体をよくほぐしてあげて、複式呼吸が自然にできるようにします。 \nイルチブレインヨガでは、脳科学と東洋医学融合した画期的なヨガ。 \nその効果が世界的にも認められています。 飽きずに、健康つくりにも役立つ脳活性ヨガ。 \n体験費がお安いに日体験してみませんか？ \nイベントのご予約はこちら
URL:https://ilchibrainyoga-tsujido.com/event/4%e3%81%ae%e3%81%a4%e3%81%8f%e6%97%a5%e3%81%af%e3%83%a8%e3%82%ac%e3%81%ae%e6%97%a5-8/
LOCATION:イルチブレインヨガ辻堂スタジオ\, 神奈川県茅ヶ崎市浜竹２丁目２−４ 安達ビル2階\, 2530021\, 日本
END:VEVENT
BEGIN:VEVENT
DTSTART;TZID=Asia/Tokyo:20160228T143000
DTEND;TZID=Asia/Tokyo:20160228T163000
DTSTAMP:20260424T145446
CREATED:20160206T093344Z
LAST-MODIFIED:20160212T142623Z
UID:836-1456669800-1456677000@ilchibrainyoga-tsujido.com
SUMMARY:腸ヨガ・脳活ヨガ体験会
DESCRIPTION:腸は第2の心臓・第2の脳と呼ばれているのはご存知でしょうか？ \nイルチブレインヨガでは、腸と脳を活性化させて自分の中にある本来の力 \n自然治癒力を引き出せるトレーニング内容になっています。 \n体のことは勿論、精神的な悩みのある方まで効果を感じていただける内容です。 \n健康に興味を持っている方、 \n生活習慣病から病院に通っていて何とか薬に頼らずに生活したい方、 \n精神的に疲れている方、ストレスをうまく発散ができなくなっている方。 \n体を隅々まで動かして、呼吸・瞑想でリラックスができるようになります。 \n今回は、スタジオを出てレンタルスペースで腸ヨガ・脳活ヨガ体験会を1日限定で開催いたします。 \nどうぞ、お近くの方は体験にいらしてください。 \n  \nイベントのご予約はこちら\n  \n 
URL:https://ilchibrainyoga-tsujido.com/event/%e8%85%b8%e3%83%a8%e3%82%ac%e3%83%bb%e8%84%b3%e6%b4%bb%e3%83%a8%e3%82%ac%e4%bd%93%e9%a8%93%e4%bc%9a/
LOCATION:春秋会館\, 茅ヶ崎市幸町1－13\, 日本
END:VEVENT
BEGIN:VEVENT
DTSTART;TZID=Asia/Tokyo:20160304T100000
DTEND;TZID=Asia/Tokyo:20160304T120000
DTSTAMP:20260424T145446
CREATED:20160229T133200Z
LAST-MODIFIED:20160229T133200Z
UID:854-1457085600-1457092800@ilchibrainyoga-tsujido.com
SUMMARY:4日はヨガの日
DESCRIPTION:４のつく日はヨガの日。 \nヨガが体と心をつなげるという意味があります。 \n質のよい、呼吸と瞑想でその効果があらわれます。 \nトレーニングでは、体をよくほぐしてあげて、複式呼吸が自然にできるようにします。 \nイルチブレインヨガでは、脳科学と東洋医学融合した画期的なヨガ。 \nその効果が世界的にも認められています。 飽きずに、健康つくりにも役立つ脳活性ヨガ。 \n体験費がお安いに日体験してみませんか？ \nイベントのご予約はこちら
URL:https://ilchibrainyoga-tsujido.com/event/4%e6%97%a5%e3%81%af%e3%83%a8%e3%82%ac%e3%81%ae%e6%97%a5-11/
LOCATION:イルチブレインヨガ辻堂スタジオ\, 神奈川県茅ヶ崎市浜竹２丁目２−４ 安達ビル2階\, 2530021\, 日本
END:VEVENT
BEGIN:VEVENT
DTSTART;TZID=Asia/Tokyo:20160304T190000
DTEND;TZID=Asia/Tokyo:20160304T210000
DTSTAMP:20260424T145446
CREATED:20160229T133316Z
LAST-MODIFIED:20160229T133316Z
UID:855-1457118000-1457125200@ilchibrainyoga-tsujido.com
SUMMARY:4日はヨガの日
DESCRIPTION:４のつく日はヨガの日。 \nヨガが体と心をつなげるという意味があります。 \n質のよい、呼吸と瞑想でその効果があらわれます。 \nトレーニングでは、体をよくほぐしてあげて、複式呼吸が自然にできるようにします。 \nイルチブレインヨガでは、脳科学と東洋医学融合した画期的なヨガ。 \nその効果が世界的にも認められています。 飽きずに、健康つくりにも役立つ脳活性ヨガ。 \n体験費がお安いに日体験してみませんか？ \nイベントのご予約はこちら
URL:https://ilchibrainyoga-tsujido.com/event/4%e6%97%a5%e3%81%af%e3%83%a8%e3%82%ac%e3%81%ae%e6%97%a5-12/
LOCATION:イルチブレインヨガ辻堂スタジオ\, 神奈川県茅ヶ崎市浜竹２丁目２−４ 安達ビル2階\, 2530021\, 日本
END:VEVENT
BEGIN:VEVENT
DTSTART;TZID=Asia/Tokyo:20160306T103000
DTEND;TZID=Asia/Tokyo:20160306T123000
DTSTAMP:20260424T145446
CREATED:20160229T141152Z
LAST-MODIFIED:20160229T141219Z
UID:858-1457260200-1457267400@ilchibrainyoga-tsujido.com
SUMMARY:日曜ヨガ
DESCRIPTION:お休みの日にヨガでリラックスタイムはいかがでしょうか？ \n午前のゆっくりした時間からはじめ、体をほぐした後の午後の時間が有意義になります！ \n特にイルチブレインヨガのトレーニングの特徴が横になってポーズをとる時間が長いこと。 \nただ寝ているだけではなく、そのときは呼吸・瞑想をします。 \n時には気持ちが良くて寝てします方もいるくらい気持ちが良いです。 \nそんな体験をして見ませんか？ \n日常の緊張・ストレス・人間関係の悩みから解き放たれた自分のだけの時間をどうぞ満喫してください。 \nイベントのご予約はこちら
URL:https://ilchibrainyoga-tsujido.com/event/%e6%97%a5%e6%9b%9c%e3%83%a8%e3%82%ac/
LOCATION:イルチブレインヨガ辻堂スタジオ\, 神奈川県茅ヶ崎市浜竹２丁目２−４ 安達ビル2階\, 2530021\, 日本
END:VEVENT
BEGIN:VEVENT
DTSTART;TZID=Asia/Tokyo:20160313T103000
DTEND;TZID=Asia/Tokyo:20160313T170000
DTSTAMP:20260424T145446
CREATED:20160229T141321Z
LAST-MODIFIED:20160229T141321Z
UID:859-1457865000-1457888400@ilchibrainyoga-tsujido.com
SUMMARY:日曜ヨガ
DESCRIPTION:お休みの日にヨガでリラックスタイムはいかがでしょうか？ \n午前のゆっくりした時間からはじめ、体をほぐした後の午後の時間が有意義になります！ \n特にイルチブレインヨガのトレーニングの特徴が横になってポーズをとる時間が長いこと。 \nただ寝ているだけではなく、そのときは呼吸・瞑想をします。 \n時には気持ちが良くて寝てします方もいるくらい気持ちが良いです。 \nそんな体験をして見ませんか？ \n日常の緊張・ストレス・人間関係の悩みから解き放たれた自分のだけの時間をどうぞ満喫してください。 \nイベントのご予約はこちら
URL:https://ilchibrainyoga-tsujido.com/event/%e6%97%a5%e6%9b%9c%e3%83%a8%e3%82%ac-2/
LOCATION:イルチブレインヨガ辻堂スタジオ\, 神奈川県茅ヶ崎市浜竹２丁目２−４ 安達ビル2階\, 2530021\, 日本
END:VEVENT
BEGIN:VEVENT
DTSTART;TZID=Asia/Tokyo:20160320T103000
DTEND;TZID=Asia/Tokyo:20160320T123000
DTSTAMP:20260424T145446
CREATED:20160229T141439Z
LAST-MODIFIED:20160229T141439Z
UID:861-1458469800-1458477000@ilchibrainyoga-tsujido.com
SUMMARY:日曜ヨガ
DESCRIPTION:お休みの日にヨガでリラックスタイムはいかがでしょうか？ \n午前のゆっくりした時間からはじめ、体をほぐした後の午後の時間が有意義になります！ \n特にイルチブレインヨガのトレーニングの特徴が横になってポーズをとる時間が長いこと。 \nただ寝ているだけではなく、そのときは呼吸・瞑想をします。 \n時には気持ちが良くて寝てします方もいるくらい気持ちが良いです。 \nそんな体験をして見ませんか？ \n日常の緊張・ストレス・人間関係の悩みから解き放たれた自分のだけの時間をどうぞ満喫してください。 \nイベントのご予約はこちら
URL:https://ilchibrainyoga-tsujido.com/event/%e6%97%a5%e6%9b%9c%e3%83%a8%e3%82%ac-3/
LOCATION:イルチブレインヨガ辻堂スタジオ\, 神奈川県茅ヶ崎市浜竹２丁目２−４ 安達ビル2階\, 2530021\, 日本
END:VEVENT
BEGIN:VEVENT
DTSTART;TZID=Asia/Tokyo:20160324T070000
DTEND;TZID=Asia/Tokyo:20160324T090000
DTSTAMP:20260424T145446
CREATED:20160229T133739Z
LAST-MODIFIED:20160229T133739Z
UID:857-1458802800-1458810000@ilchibrainyoga-tsujido.com
SUMMARY:４のつく日はヨガの日
DESCRIPTION:４のつく日はヨガの日。 \nヨガが体と心をつなげるという意味があります。 \n質のよい、呼吸と瞑想でその効果があらわれます。 \nトレーニングでは、体をよくほぐしてあげて、複式呼吸が自然にできるようにします。 \nイルチブレインヨガでは、脳科学と東洋医学融合した画期的なヨガ。 \nその効果が世界的にも認められています。 飽きずに、健康つくりにも役立つ脳活性ヨガ。 \n体験費がお安いに日体験してみませんか？ \nイベントのご予約はこちら
URL:https://ilchibrainyoga-tsujido.com/event/%ef%bc%94%e3%81%ae%e3%81%a4%e3%81%8f%e6%97%a5%e3%81%af%e3%83%a8%e3%82%ac%e3%81%ae%e6%97%a5-12/
LOCATION:イルチブレインヨガ辻堂スタジオ\, 神奈川県茅ヶ崎市浜竹２丁目２−４ 安達ビル2階\, 2530021\, 日本
END:VEVENT
BEGIN:VEVENT
DTSTART;TZID=Asia/Tokyo:20160324T143000
DTEND;TZID=Asia/Tokyo:20160324T163000
DTSTAMP:20260424T145446
CREATED:20160229T133446Z
LAST-MODIFIED:20160229T133446Z
UID:856-1458829800-1458837000@ilchibrainyoga-tsujido.com
SUMMARY:4のつく日はヨガの日
DESCRIPTION:４のつく日はヨガの日。 \nヨガが体と心をつなげるという意味があります。 \n質のよい、呼吸と瞑想でその効果があらわれます。 \nトレーニングでは、体をよくほぐしてあげて、複式呼吸が自然にできるようにします。 \nイルチブレインヨガでは、脳科学と東洋医学融合した画期的なヨガ。 \nその効果が世界的にも認められています。 飽きずに、健康つくりにも役立つ脳活性ヨガ。 \n体験費がお安いに日体験してみませんか？ \nイベントのご予約はこちら
URL:https://ilchibrainyoga-tsujido.com/event/4%e3%81%ae%e3%81%a4%e3%81%8f%e6%97%a5%e3%81%af%e3%83%a8%e3%82%ac%e3%81%ae%e6%97%a5-9/
LOCATION:イルチブレインヨガ辻堂スタジオ\, 神奈川県茅ヶ崎市浜竹２丁目２−４ 安達ビル2階\, 2530021\, 日本
END:VEVENT
BEGIN:VEVENT
DTSTART;TZID=Asia/Tokyo:20160327T140000
DTEND;TZID=Asia/Tokyo:20160327T160000
DTSTAMP:20260424T145446
CREATED:20160302T134649Z
LAST-MODIFIED:20160302T134905Z
UID:862-1459087200-1459094400@ilchibrainyoga-tsujido.com
SUMMARY:腸活ヨガ体験会
DESCRIPTION:腸の調子は良いですか？ \nその日によってお腹の調子が違ってくるくらい敏感な臓器ではないでしょうか？ \n便秘をはじめ下痢・腹部暴慢感・ガス腹・便秘ではなくても残便感などいろいろな症状があります。 \n最近では、女性の癌1位は大腸がんだということもよく耳にします。 \n腸は第2の心臓・第2の脳と呼ばれるくらい腸の機能は私たちの体にかなりの影響を及ぼしています。 \n最近では腸で95％のセロトニンが作られているといいます。 \n肥満の原因も腸内細菌の種類とか、また独自の神経系の機能を持つことや骨を守ることも知られているそうです。 \nこれだけでも、腸がとても大事な臓器だということがわかります。 \nだけど、どのように腸を健康にしたり、鍛えることができるのかを知っている方は少ないと思います。 \nそこで、今回の体験会では腸の健康体操・お腹を自力で温める方法をお教えいたします。 \nこれを、繰り返し続けることで腸が元気になっていきます。 \n誰でもできる内容になっています。 \n腸を健康にしたいという方は、ぜひいらしてください。 \n今回は1日限定で外部での体験会になります。詳しくは下記をご覧ください。 \nイベントのご予約はこちら
URL:https://ilchibrainyoga-tsujido.com/event/%e8%85%b8%e6%b4%bb%e3%83%a8%e3%82%ac%e4%bd%93%e9%a8%93%e4%bc%9a/
LOCATION:湘南辻堂スタジオ（イエローマーケット）\, 茅ヶ崎市本宿町6－2\, 神奈川県
END:VEVENT
BEGIN:VEVENT
DTSTART;TZID=Asia/Tokyo:20160403T103000
DTEND;TZID=Asia/Tokyo:20160403T103000
DTSTAMP:20260424T145446
CREATED:20160401T071614Z
LAST-MODIFIED:20160401T072657Z
UID:880-1459679400-1459679400@ilchibrainyoga-tsujido.com
SUMMARY:日曜日にヨガ
DESCRIPTION:日曜日にヨガ \nお休みの日にヨガでリラックスタイムはいかがでしょうか？ \n午前のゆっくりした時間からはじめ、体をほぐした後の午後の時間が有意義になります！ \n１週間がんばってきた自分にご褒美の時間をつくることで、またがんばろうという意欲が出てきます。 \n特にイルチブレインヨガのトレーニングの特徴が横になってポーズをとる時間が長いこと。 \nただ寝ているだけではなく、そのときは呼吸・瞑想をします。 \n時には気持ちが良くて寝てしまう方もいるくらいです。 \nそんな体験をして見ませんか？ \n日常の緊張・ストレス・人間関係の悩みから解き放たれた自分のだけの時間をどうぞ満喫してください。 \nイベントのご予約はこちら
URL:https://ilchibrainyoga-tsujido.com/event/%e6%97%a5%e6%9b%9c%e6%97%a5%e3%81%ab%e3%83%a8%e3%82%ac/
LOCATION:イルチブレインヨガ辻堂スタジオ\, 神奈川県茅ヶ崎市浜竹２丁目２−４ 安達ビル2階\, 2530021\, 日本
END:VEVENT
BEGIN:VEVENT
DTSTART;TZID=Asia/Tokyo:20160410T090000
DTEND;TZID=Asia/Tokyo:20160410T203000
DTSTAMP:20260424T145446
CREATED:20160314T124004Z
LAST-MODIFIED:20160314T125756Z
UID:869-1460278800-1460320200@ilchibrainyoga-tsujido.com
SUMMARY:ILCHI　4番チャクラ（ハートチャクラ）ヒーリングトレーニング～ほんとうの健康と幸せを探しに～
DESCRIPTION:      「健康になりたい」        「笑顔を取り戻したい」       「自己実現したい」 \n \n　　　　　　　　エネルギーが変われば、人生が変わる。\n                      あなたは何を願っていますか？ \n                  私たちの体は、肉体（フィジカルボディー）、エネルギー体（エネルギーボディー）、                               そして情報体（スピリチュアルボディー）からなっています。 \n  \n \nこの3つの体の調和を助けるのが4番チャクラです。\n体・心・精神の健康はチャクラから始まります。　　7つのチャクラの真ん中にある4番チャクラが開くと、肉体のエネルギーと精神エネルギーのバランスが取れ、　　　　　　自分の内面に眠っている本当の自分、「真我」に出会えます。　　　　　　そのとき、あなたが願う思い通りの人生を描いていくことができるようになるのです。 \n　　　　　　　　　　　　　　　 \n                     4番チャクラが健康になると・・・ \n                    ・胸が楽になり、呼吸が深くなる。\n・全身の血流とエネルギーの循環が良くなる。\n・丹田に畜気ができやすくなり体が健康になる。\n・理性または感情の一方に偏らず、バランスのとれた状態で相手を見つめられる。\n・円満な対人関係を維持できる。　　　　　　　・意識が明るくなり、ポジティブになる。 \nこんな方にオススメ\n「もっと美しい健康な体を手に入れたい」\n「ストレスを解消したい」\n「脳の潜在能力を引き出したい」\n「体も心も軽く柔軟になりたい」\n「人間関係を改善したい」\n「イキイキした意欲的な自分になりたい」　　　　　　 「若い頃のようにわくわくする毎日を送りたい」 \n  \nご案内\n対象：満18歳以上　　＊年配の方でも大丈夫です。\n１日コース：37\,038円（税込40\,000円）\n＊スタジオでの準備トレーニングと受講後の補習トレーニングもついています。 \n8：45受付開始 9：00～20：30予定\n（終わり時間は進行の流れによって変化あする場合がございます。予めご了承ください。）当日の昼食付。 \n  \n 
URL:https://ilchibrainyoga-tsujido.com/event/ilchi%e3%80%804%e7%95%aa%e3%83%81%e3%83%a3%e3%82%af%e3%83%a9%ef%bc%88%e3%83%8f%e3%83%bc%e3%83%88%e3%83%81%e3%83%a3%e3%82%af%e3%83%a9%ef%bc%89%e3%83%92%e3%83%bc%e3%83%aa%e3%83%b3%e3%82%b0%e3%83%88/
LOCATION:川崎教育院\, 川崎市川崎区小川町15－13\, 神奈川県
END:VEVENT
BEGIN:VEVENT
DTSTART;TZID=Asia/Tokyo:20160410T103000
DTEND;TZID=Asia/Tokyo:20160410T123000
DTSTAMP:20260424T145446
CREATED:20160401T072028Z
LAST-MODIFIED:20160401T072625Z
UID:881-1460284200-1460291400@ilchibrainyoga-tsujido.com
SUMMARY:日曜日にヨガ
DESCRIPTION:日曜日にヨガ \nお休みの日にヨガでリラックスタイムはいかがでしょうか？ \n午前のゆっくりした時間からはじめ、体をほぐした後の午後の時間が有意義になります！ \n１週間がんばってきた自分にご褒美の時間をつくることで、またがんばろうという意欲が出てきます。 \n特にイルチブレインヨガのトレーニングの特徴が横になってポーズをとる時間が長いこと。 \nただ寝ているだけではなく、そのときは呼吸・瞑想をします。 \n時には気持ちが良くて寝てしまう方もいるくらいです。 \nそんな体験をして見ませんか？ \n日常の緊張・ストレス・人間関係の悩みから解き放たれた自分のだけの時間をどうぞ満喫してください。 \nイベントのご予約はこちら
URL:https://ilchibrainyoga-tsujido.com/event/%e6%97%a5%e6%9b%9c%e6%97%a5%e3%81%ab%e3%83%a8%e3%82%ac-2/
LOCATION:イルチブレインヨガ辻堂スタジオ\, 神奈川県茅ヶ崎市浜竹２丁目２−４ 安達ビル2階\, 2530021\, 日本
END:VEVENT
BEGIN:VEVENT
DTSTART;TZID=Asia/Tokyo:20160414T143000
DTEND;TZID=Asia/Tokyo:20160414T163000
DTSTAMP:20260424T145446
CREATED:20160401T065537Z
LAST-MODIFIED:20160401T065630Z
UID:877-1460644200-1460651400@ilchibrainyoga-tsujido.com
SUMMARY:４のつく日はヨガの日
DESCRIPTION:４のつく日はヨガの日。 \nネットから予約いただいた方→体験費が1000円でお得 \nヨガが体と心をつなげるという意味があります。 \n質のよい、呼吸と瞑想でその効果があらわれます。 \nトレーニングでは、体をよくほぐし、内臓までもほぐしていきます。 \nそれで丹田呼吸（下腹が動く呼吸）が自然にできるようにします。 \nイルチブレインヨガでは、脳科学と東洋医学融合した画期的なヨガ。 \nその効果が世界的にも認められています。 飽きずに、健康つくりにも役立つ脳活性ヨガ。 \n日常生活で体のメンテナンスをお考えの方、ぜひこの機会に体験してみてください。 \n  \nイベントのご予約はこちら
URL:https://ilchibrainyoga-tsujido.com/event/%ef%bc%94%e3%81%ae%e3%81%a4%e3%81%8f%e6%97%a5%e3%81%af%e3%83%a8%e3%82%ac%e3%81%ae%e6%97%a5-13/
LOCATION:イルチブレインヨガ辻堂スタジオ\, 神奈川県茅ヶ崎市浜竹２丁目２−４ 安達ビル2階\, 2530021\, 日本
END:VEVENT
BEGIN:VEVENT
DTSTART;TZID=Asia/Tokyo:20160417T103000
DTEND;TZID=Asia/Tokyo:20160417T123000
DTSTAMP:20260424T145446
CREATED:20160401T072543Z
LAST-MODIFIED:20160401T072543Z
UID:883-1460889000-1460896200@ilchibrainyoga-tsujido.com
SUMMARY:日曜日にヨガ
DESCRIPTION:日曜日にヨガ \nお休みの日にヨガでリラックスタイムはいかがでしょうか？ \n午前のゆっくりした時間からはじめ、体をほぐした後の午後の時間が有意義になります！ \n１週間がんばってきた自分にご褒美の時間をつくることで、またがんばろうという意欲が出てきます。 \n特にイルチブレインヨガのトレーニングの特徴が横になってポーズをとる時間が長いこと。 \nただ寝ているだけではなく、そのときは呼吸・瞑想をします。 \n時には気持ちが良くて寝てしまう方もいるくらいです。 \nそんな体験をして見ませんか？ \n日常の緊張・ストレス・人間関係の悩みから解き放たれた自分のだけの時間をどうぞ満喫してください。 \n  \nイベントのご予約はこちら
URL:https://ilchibrainyoga-tsujido.com/event/%e6%97%a5%e6%9b%9c%e6%97%a5%e3%81%ab%e3%83%a8%e3%82%ac-3/
LOCATION:イルチブレインヨガ辻堂スタジオ\, 神奈川県茅ヶ崎市浜竹２丁目２−４ 安達ビル2階\, 2530021\, 日本
END:VEVENT
BEGIN:VEVENT
DTSTART;TZID=Asia/Tokyo:20160420T100000
DTEND;TZID=Asia/Tokyo:20160420T100000
DTSTAMP:20260424T145446
CREATED:20160401T074913Z
LAST-MODIFIED:20160401T074913Z
UID:891-1461146400-1461146400@ilchibrainyoga-tsujido.com
SUMMARY:20日は腸の日
DESCRIPTION:腸が第二の心臓・第二の脳と呼ばれていることはご存知でしょうか？ \n腸の機能がしていることが消化以外であることが最近の研究で明らかになってきています。 \n体を健康にするのと同じように、腸を健康にするための方法は食べ物の以外にされているでしょうか？ \nイルチブレインヨガではすでにこの腸の健康トレーニングを10年以上前から多くの方に伝えています。 \nそれで、腸を健康にすることで、体全体の健康を感じるようになっている方が多いです。 \n肩こり・便秘・腰痛・不眠・倦怠感・疲れやすい　などの改善 \n精神的な安定・対人関係の改善などなどにも効果があります。 \n腸はそれだけ大事な臓器だということですね。 \n  \nイベントのご予約はこちら
URL:https://ilchibrainyoga-tsujido.com/event/20%e6%97%a5%e3%81%af%e8%85%b8%e3%81%ae%e6%97%a5/
LOCATION:イルチブレインヨガ辻堂スタジオ\, 神奈川県茅ヶ崎市浜竹２丁目２−４ 安達ビル2階\, 2530021\, 日本
END:VEVENT
BEGIN:VEVENT
DTSTART;TZID=Asia/Tokyo:20160420T190000
DTEND;TZID=Asia/Tokyo:20160420T210000
DTSTAMP:20260424T145446
CREATED:20160401T075031Z
LAST-MODIFIED:20160401T075031Z
UID:892-1461178800-1461186000@ilchibrainyoga-tsujido.com
SUMMARY:20日は腸の日
DESCRIPTION:腸の機能がしていることが消化以外であることが最近の研究で明らかになってきています。 \n体を健康にするのと同じように、腸を健康にするための方法は食べ物の以外にされているでしょうか？ \nイルチブレインヨガではすでにこの腸の健康トレーニングを10年以上前から多くの方に伝えています。 \nそれで、腸を健康にすることで、体全体の健康を感じるようになっている方が多いです。 \n肩こり・便秘・腰痛・不眠・倦怠感・疲れやすい　などの改善 \n精神的な安定・対人関係の改善などなどにも効果があります。 \n腸はそれだけ大事な臓器だということですね。 \nイベントのご予約はこちら
URL:https://ilchibrainyoga-tsujido.com/event/20%e6%97%a5%e3%81%af%e8%85%b8%e3%81%ae%e6%97%a5-2/
LOCATION:イルチブレインヨガ辻堂スタジオ\, 神奈川県茅ヶ崎市浜竹２丁目２−４ 安達ビル2階\, 2530021\, 日本
END:VEVENT
BEGIN:VEVENT
DTSTART;TZID=Asia/Tokyo:20160424T103000
DTEND;TZID=Asia/Tokyo:20160424T123000
DTSTAMP:20260424T145446
CREATED:20160401T065803Z
LAST-MODIFIED:20160401T075421Z
UID:878-1461493800-1461501000@ilchibrainyoga-tsujido.com
SUMMARY:4日のつく日はヨガの日
DESCRIPTION:4日のつく日はヨガの日 \nネットから予約いただいた方→体験費が1000円でお得 \nヨガが体と心をつなげるという意味があります。 \n質のよい、呼吸と瞑想でその効果があらわれます。 \nトレーニングでは、体をよくほぐし、内臓までもほぐしていきます。 \nそれで丹田呼吸（下腹が動く呼吸）が自然にできるようにします。 \nイルチブレインヨガでは、脳科学と東洋医学融合した画期的なヨガ。 \nその効果が世界的にも認められています。 飽きずに、健康つくりにも役立つ脳活性ヨガ。 \n日常生活で体のメンテナンスをお考えの方、ぜひこの機会に体験してみてください。 \nイベントのご予約はこちら
URL:https://ilchibrainyoga-tsujido.com/event/4%e6%97%a5%e3%81%af%e3%83%a8%e3%82%ac%e3%81%ae%e6%97%a5-13/
LOCATION:イルチブレインヨガ辻堂スタジオ\, 神奈川県茅ヶ崎市浜竹２丁目２−４ 安達ビル2階\, 2530021\, 日本
END:VEVENT
BEGIN:VEVENT
DTSTART;TZID=Asia/Tokyo:20160429T143000
DTEND;TZID=Asia/Tokyo:20160429T163000
DTSTAMP:20260424T145446
CREATED:20160401T081555Z
LAST-MODIFIED:20160407T022709Z
UID:900-1461940200-1461947400@ilchibrainyoga-tsujido.com
SUMMARY:腸活ヨガ体験会
DESCRIPTION:腸の調子は良いですか？ \nその日によってお腹の調子が違ってくるくらい敏感な臓器ではないでしょうか？ \n便秘をはじめ下痢・腹部暴慢感・ガス腹・便秘ではなくても残便感などいろいろな症状があります。 \n最近では、女性の癌で最も多いのは乳がんについで大腸がんだそうです。 \n腸は第2の心臓・第2の脳と呼ばれるくらい腸の機能は私たちの体にかなりの影響を及ぼしています。 \n最近では腸で95％のセロトニンが作られているといいます。 \n肥満の原因も腸内細菌の種類とか、また独自の神経系の機能を持つことや骨を守ることも知られています。 \nこれだけでも、腸がとても大事な臓器だということがわかります。 \nだけど、どのように腸を健康にしたり、鍛えることができるのかを知っている方は少ないと思います。 \nそこで、今回の体験会では腸の健康体操・お腹を自力で温める方法をお教えいたします。 \nこれを、繰り返し続けることで腸が元気になっていきます。 \n誰でもできる内容になっています。 \n腸を健康にしたいという方は、ぜひいらしてください。 \n今回は２日限定で外部での体験会になります。詳しくは下記をご覧ください。 \n5月1日も同じ場所で開催します。 \n※予約は準備のため前日までにお願いします。 \nイベントのご予約はこちら
URL:https://ilchibrainyoga-tsujido.com/event/900/
LOCATION:ベル・フルール\, 茅ヶ崎市旭が丘６－３０
END:VEVENT
END:VCALENDAR