BEGIN:VCALENDAR
VERSION:2.0
PRODID:-//【湘南茅ヶ崎 平塚 藤沢ヨガ】イルチブレインヨガ辻堂スタジオ｜辻堂駅南口より徒歩8分 体と心と脳のヨガ - ECPv6.15.20//NONSGML v1.0//EN
CALSCALE:GREGORIAN
METHOD:PUBLISH
X-WR-CALNAME:【湘南茅ヶ崎 平塚 藤沢ヨガ】イルチブレインヨガ辻堂スタジオ｜辻堂駅南口より徒歩8分 体と心と脳のヨガ
X-ORIGINAL-URL:https://ilchibrainyoga-tsujido.com
X-WR-CALDESC:【湘南茅ヶ崎 平塚 藤沢ヨガ】イルチブレインヨガ辻堂スタジオ｜辻堂駅南口より徒歩8分 体と心と脳のヨガ のイベント
REFRESH-INTERVAL;VALUE=DURATION:PT1H
X-Robots-Tag:noindex
X-PUBLISHED-TTL:PT1H
BEGIN:VTIMEZONE
TZID:Asia/Tokyo
BEGIN:STANDARD
TZOFFSETFROM:+0900
TZOFFSETTO:+0900
TZNAME:JST
DTSTART:20170101T000000
END:STANDARD
END:VTIMEZONE
BEGIN:VEVENT
DTSTART;TZID=Asia/Tokyo:20181014T100000
DTEND;TZID=Asia/Tokyo:20181014T120000
DTSTAMP:20260424T025029
CREATED:20181008T080331Z
LAST-MODIFIED:20181008T080331Z
UID:1701-1539511200-1539518400@ilchibrainyoga-tsujido.com
SUMMARY:4のつく日はヨガの日
DESCRIPTION:4日はヨガの日 \n現代人は、いろいろ便利になってきた分運動不足になりがちです。 \n歩くのもとってもいいのですが、体をまんべんなく動かすことも大事です。 \n今まで動かしていなかったところは脳も眠っているところ。 \n体と脳はつながっています。 \nそういう意味でもイルチブレインヨガは体全体を万言なく動かすことで \nすっきり感、リラックス感、充足感が感じられていきます。 \n日ごろ頑張っているご自分のためにケアーする時間を持つことをお勧めいたします。 \n体験費も1000円とお得です。😄🧘‍♂️ \nイベントのご予約はこちら
URL:https://ilchibrainyoga-tsujido.com/event/4%e3%81%ae%e3%81%a4%e3%81%8f%e6%97%a5%e3%81%af%e3%83%a8%e3%82%ac%e3%81%ae%e6%97%a5-33/
LOCATION:イルチブレインヨガ辻堂スタジオ\, 神奈川県茅ヶ崎市浜竹２丁目２−４ 安達ビル2階\, 2530021\, 日本
CATEGORIES:イルチブレインヨガ体験
END:VEVENT
BEGIN:VEVENT
DTSTART;TZID=Asia/Tokyo:20181015T140000
DTEND;TZID=Asia/Tokyo:20181015T160000
DTSTAMP:20260424T025029
CREATED:20181008T082728Z
LAST-MODIFIED:20181008T083931Z
UID:1707-1539612000-1539619200@ilchibrainyoga-tsujido.com
SUMMARY:毎月15日は地球の日
DESCRIPTION:毎月15日は地球の日のイベントを開催しています。 \n今月は港の見える丘公園で地球気功などをします。 \n一般参加、当日参加も歓迎します。 \n集合場所：みなとみらい線「元町・中華街駅6番出口」\n集合時間：１４時 （解散時間：16時予定）\n内容：ジャンセンウォーキング・地球気功・公園散策\n参加費：無料 \n1015_地球の日p \nイベントのご予約はこちら
URL:https://ilchibrainyoga-tsujido.com/event/%e6%af%8e%e6%9c%8815%e6%97%a5%e3%81%af%e5%9c%b0%e7%90%83%e3%81%ae%e6%97%a5/
LOCATION:港の見える丘公園
END:VEVENT
BEGIN:VEVENT
DTSTART;TZID=Asia/Tokyo:20181020T100000
DTEND;TZID=Asia/Tokyo:20181020T163000
DTSTAMP:20260424T025029
CREATED:20181016T092101Z
LAST-MODIFIED:20181016T092101Z
UID:1723-1540029600-1540053000@ilchibrainyoga-tsujido.com
SUMMARY:脳教育をベースにしたヨガ体験会
DESCRIPTION:教育を変え、平和文化を醸成した\n \n中米エルサルバドルは内戦終結後、教育革命を進めていました。 \n校内で麻薬、暴力、殺人が起こるという教育環境だった2011年、公立学校に脳教育が導入されはじめ、 \n教師と生徒が脳教育によって心身の健康を取り戻しました。 \nまた、全国成績評価が最下位だった学校が脳教育導入後に数学分野で１位になるという成果を出しました。 \n２０１７年末現在で、エルサルバドルの公立学校の約25％にあたる約1\,200校で脳教育が実践されています。 \n脳教育の効果と価値を体験したエルサルバドルの教師約500名が政府に推薦し、 \n学校に平和の分を醸成した功労を認められ、今回エルサルバドルで総理大臣賞受賞となりました。 \n今回脳教育をベースにしたイルチブレインヨガの体験会をいたします。 \n①午前の10:00～12:00 \n②午後の2:30～4:30 \nどちらかお選びください \nイベントのご予約はこちら
URL:https://ilchibrainyoga-tsujido.com/event/%e8%84%b3%e6%95%99%e8%82%b2%e3%82%92%e3%83%99%e3%83%bc%e3%82%b9%e3%81%ab%e3%81%97%e3%81%9f%e3%83%a8%e3%82%ac%e4%bd%93%e9%a8%93%e4%bc%9a/
CATEGORIES:イルチブレインヨガ体験
END:VEVENT
BEGIN:VEVENT
DTSTART;TZID=Asia/Tokyo:20181021T100000
DTEND;TZID=Asia/Tokyo:20181021T163000
DTSTAMP:20260424T025029
CREATED:20181016T092341Z
LAST-MODIFIED:20181016T092341Z
UID:1725-1540116000-1540139400@ilchibrainyoga-tsujido.com
SUMMARY:脳教育をベースにしたヨガ体験会
DESCRIPTION:教育を変え、平和文化を醸成した\n \n中米エルサルバドルは内戦終結後、教育革命を進めていました。 \n校内で麻薬、暴力、殺人が起こるという教育環境だった2011年、公立学校に脳教育が導入されはじめ、 \n教師と生徒が脳教育によって心身の健康を取り戻しました。 \nまた、全国成績評価が最下位だった学校が脳教育導入後に数学分野で１位になるという成果を出しました。 \n２０１７年末現在で、エルサルバドルの公立学校の約25％にあたる約1\,200校で脳教育が実践されています。 \n脳教育の効果と価値を体験したエルサルバドルの教師約500名が政府に推薦し、 \n学校に平和の分を醸成した功労を認められ、今回エルサルバドルで総理大臣賞受賞となりました。 \n今回脳教育をベースにしたイルチブレインヨガの体験会をいたします。 \n①午前の10:00～12:00 \n②午後の2:30～4:30 \nどちらかお選びください \nイベントのご予約はこちら
URL:https://ilchibrainyoga-tsujido.com/event/%e8%84%b3%e6%95%99%e8%82%b2%e3%82%92%e3%83%99%e3%83%bc%e3%82%b9%e3%81%ab%e3%81%97%e3%81%9f%e3%83%a8%e3%82%ac%e4%bd%93%e9%a8%93%e4%bc%9a-2/
LOCATION:イルチブレインヨガ辻堂スタジオ\, 神奈川県茅ヶ崎市浜竹２丁目２−４ 安達ビル2階\, 2530021\, 日本
CATEGORIES:イルチブレインヨガ体験
END:VEVENT
BEGIN:VEVENT
DTSTART;TZID=Asia/Tokyo:20181024T100000
DTEND;TZID=Asia/Tokyo:20181024T120000
DTSTAMP:20260424T025029
CREATED:20181008T080520Z
LAST-MODIFIED:20181008T080520Z
UID:1703-1540375200-1540382400@ilchibrainyoga-tsujido.com
SUMMARY:4のつく日はヨガの日
DESCRIPTION:4日はヨガの日 \n現代人は、いろいろ便利になってきた分運動不足になりがちです。 \n歩くのもとってもいいのですが、体をまんべんなく動かすことも大事です。 \n今まで動かしていなかったところは脳も眠っているところ。 \n体と脳はつながっています。 \nそういう意味でもイルチブレインヨガは体全体を万言なく動かすことで \nすっきり感、リラックス感、充足感が感じられていきます。 \n日ごろ頑張っているご自分のためにケアーする時間を持つことをお勧めいたします。 \n体験費も1000円とお得です。😄🧘‍♂️ \nイベントのご予約はこちら
URL:https://ilchibrainyoga-tsujido.com/event/4%e3%81%ae%e3%81%a4%e3%81%8f%e6%97%a5%e3%81%af%e3%83%a8%e3%82%ac%e3%81%ae%e6%97%a5-34/
LOCATION:イルチブレインヨガ辻堂スタジオ\, 神奈川県茅ヶ崎市浜竹２丁目２−４ 安達ビル2階\, 2530021\, 日本
CATEGORIES:イルチブレインヨガ体験
END:VEVENT
BEGIN:VEVENT
DTSTART;TZID=Asia/Tokyo:20181024T183000
DTEND;TZID=Asia/Tokyo:20181024T203000
DTSTAMP:20260424T025029
CREATED:20181008T080738Z
LAST-MODIFIED:20181008T080738Z
UID:1705-1540405800-1540413000@ilchibrainyoga-tsujido.com
SUMMARY:４のつく日はヨガの日
DESCRIPTION:4日はヨガの日 \n現代人は、いろいろ便利になってきた分運動不足になりがちです。 \n歩くのもとってもいいのですが、体をまんべんなく動かすことも大事です。 \n今まで動かしていなかったところは脳も眠っているところ。 \n体と脳はつながっています。 \nそういう意味でもイルチブレインヨガは体全体を万言なく動かすことで \nすっきり感、リラックス感、充足感が感じられていきます。 \n日ごろ頑張っているご自分のためにケアーする時間を持つことをお勧めいたします。 \n体験費も1000円とお得です。😄🧘‍♂️ \nイベントのご予約はこちら
URL:https://ilchibrainyoga-tsujido.com/event/%ef%bc%94%e3%81%ae%e3%81%a4%e3%81%8f%e6%97%a5%e3%81%af%e3%83%a8%e3%82%ac%e3%81%ae%e6%97%a5-21/
LOCATION:イルチブレインヨガ辻堂スタジオ\, 神奈川県茅ヶ崎市浜竹２丁目２−４ 安達ビル2階\, 2530021\, 日本
CATEGORIES:イルチブレインヨガ体験
END:VEVENT
BEGIN:VEVENT
DTSTART;TZID=Asia/Tokyo:20181028T100000
DTEND;TZID=Asia/Tokyo:20181028T163000
DTSTAMP:20260424T025029
CREATED:20181016T092509Z
LAST-MODIFIED:20181016T092509Z
UID:1727-1540720800-1540744200@ilchibrainyoga-tsujido.com
SUMMARY:脳教育をベースにしたヨガ体験会
DESCRIPTION:教育を変え、平和文化を醸成した\n \n中米エルサルバドルは内戦終結後、教育革命を進めていました。 \n校内で麻薬、暴力、殺人が起こるという教育環境だった2011年、公立学校に脳教育が導入されはじめ、 \n教師と生徒が脳教育によって心身の健康を取り戻しました。 \nまた、全国成績評価が最下位だった学校が脳教育導入後に数学分野で１位になるという成果を出しました。 \n２０１７年末現在で、エルサルバドルの公立学校の約25％にあたる約1\,200校で脳教育が実践されています。 \n脳教育の効果と価値を体験したエルサルバドルの教師約500名が政府に推薦し、 \n学校に平和の分を醸成した功労を認められ、今回エルサルバドルで総理大臣賞受賞となりました。 \n今回脳教育をベースにしたイルチブレインヨガの体験会をいたします。 \n①午前の10:00～12:00 \n②午後の2:30～4:30 \nどちらかお選びください \nイベントのご予約はこちら
URL:https://ilchibrainyoga-tsujido.com/event/%e8%84%b3%e6%95%99%e8%82%b2%e3%82%92%e3%83%99%e3%83%bc%e3%82%b9%e3%81%ab%e3%81%97%e3%81%9f%e3%83%a8%e3%82%ac%e4%bd%93%e9%a8%93%e4%bc%9a-3/
LOCATION:イルチブレインヨガ辻堂スタジオ\, 神奈川県茅ヶ崎市浜竹２丁目２−４ 安達ビル2階\, 2530021\, 日本
CATEGORIES:イルチブレインヨガ体験
END:VEVENT
BEGIN:VEVENT
DTSTART;TZID=Asia/Tokyo:20181104T100000
DTEND;TZID=Asia/Tokyo:20181104T120000
DTSTAMP:20260424T025029
CREATED:20181101T020149Z
LAST-MODIFIED:20181101T020149Z
UID:1747-1541325600-1541332800@ilchibrainyoga-tsujido.com
SUMMARY:4日はヨガの日
DESCRIPTION:4日はヨガの日 \n現代人は、いろいろ便利になってきた分運動不足になりがちです。 \n歩くのもとってもいいのですが、体をまんべんなく動かすことも大事です。 \n今まで動かしていなかったところは脳も眠っているところ。 \n体と脳はつながっています。 \nそういう意味でもイルチブレインヨガは体全体を万言なく動かすことで \nすっきり感、リラックス感、充足感が感じられていきます。 \nこれから寒くなる冷え予防のために体の芯から温めてあげましょう！🧘‍♂️ \n日ごろ頑張っているご自分のためにケアーする時間を持つのもいいのでは。 \n体験費も1000円とお得です。😄🧘‍♂️ \nイベントのご予約はこちら
URL:https://ilchibrainyoga-tsujido.com/event/4%e6%97%a5%e3%81%af%e3%83%a8%e3%82%ac%e3%81%ae%e6%97%a5-27/
LOCATION:イルチブレインヨガ辻堂スタジオ\, 神奈川県茅ヶ崎市浜竹２丁目２−４ 安達ビル2階\, 2530021\, 日本
CATEGORIES:イルチブレインヨガ体験
END:VEVENT
BEGIN:VEVENT
DTSTART;TZID=Asia/Tokyo:20181114T100000
DTEND;TZID=Asia/Tokyo:20181114T120000
DTSTAMP:20260424T025029
CREATED:20181101T020512Z
LAST-MODIFIED:20181101T020512Z
UID:1749-1542189600-1542196800@ilchibrainyoga-tsujido.com
SUMMARY:4日のつく日はヨガの日
DESCRIPTION:4日のつく日はヨガの日 \n現代人は、いろいろ便利になってきた分運動不足になりがちです。 \n歩くのもとってもいいのですが、体をまんべんなく動かすことも大事です。 \n今まで動かしていなかったところは脳も眠っているところ。 \n体と脳はつながっています。 \nそういう意味でもイルチブレインヨガは体全体を万言なく動かすことで \nすっきり感、リラックス感、充足感が感じられていきます。 \nこれから寒くなる冷え予防のために体の芯から温めてあげましょう！🧘‍♂️ \n日ごろ頑張っているご自分のためにケアーする時間を持つのもいいのでは。 \n体験費も1000円とお得です。😄🧘‍♂️ \nイベントのご予約はこちら
URL:https://ilchibrainyoga-tsujido.com/event/4%e6%97%a5%e3%81%ae%e3%81%a4%e3%81%8f%e6%97%a5%e3%81%af%e3%83%a8%e3%82%ac%e3%81%ae%e6%97%a5-5/
LOCATION:イルチブレインヨガ辻堂スタジオ\, 神奈川県茅ヶ崎市浜竹２丁目２−４ 安達ビル2階\, 2530021\, 日本
CATEGORIES:イルチブレインヨガ体験
END:VEVENT
BEGIN:VEVENT
DTSTART;TZID=Asia/Tokyo:20181124T100000
DTEND;TZID=Asia/Tokyo:20181124T120000
DTSTAMP:20260424T025029
CREATED:20181101T020646Z
LAST-MODIFIED:20181101T020646Z
UID:1751-1543053600-1543060800@ilchibrainyoga-tsujido.com
SUMMARY:4日のつく日はヨガの日
DESCRIPTION:4日のつく日はヨガの日 \n現代人は、いろいろ便利になってきた分運動不足になりがちです。 \n歩くのもとってもいいのですが、体をまんべんなく動かすことも大事です。 \n今まで動かしていなかったところは脳も眠っているところ。 \n体と脳はつながっています。 \nそういう意味でもイルチブレインヨガは体全体を万言なく動かすことで \nすっきり感、リラックス感、充足感が感じられていきます。 \nこれから寒くなる冷え予防のために体の芯から温めてあげましょう！🧘‍♂️ \n日ごろ頑張っているご自分のためにケアーする時間を持つのもいいのでは。 \n体験費も1000円とお得です。😄🧘‍♂️ \nイベントのご予約はこちら
URL:https://ilchibrainyoga-tsujido.com/event/4%e6%97%a5%e3%81%ae%e3%81%a4%e3%81%8f%e6%97%a5%e3%81%af%e3%83%a8%e3%82%ac%e3%81%ae%e6%97%a5-6/
CATEGORIES:イルチブレインヨガ体験
END:VEVENT
BEGIN:VEVENT
DTSTART;TZID=Asia/Tokyo:20181202T143000
DTEND;TZID=Asia/Tokyo:20181202T163000
DTSTAMP:20260424T025029
CREATED:20181117T091813Z
LAST-MODIFIED:20181117T092154Z
UID:1766-1543761000-1543768200@ilchibrainyoga-tsujido.com
SUMMARY:ドキュメンタリー映画「change」上映会と引き寄せの法則実践セミナー
DESCRIPTION:ｂドキュメンタリー映画「Change」上映会と引き寄せの法則実践セミナーを開催いたします‼ \n開催場所は、フジサワ名店ビル６階Ｂホールにて行います。 \n参加費1800円 前売り券1500円税込です。 \nドキュメンタリー映画「Change」の映像サイトURLは以下のアドレスです。 \nこのチャンスにぜひ😄 \nこちらから \nイベントのご予約はこちら
URL:https://ilchibrainyoga-tsujido.com/event/%e3%83%89%e3%82%ad%e3%83%a5%e3%83%a1%e3%83%b3%e3%82%bf%e3%83%aa%e3%83%bc%e6%98%a0%e7%94%bb%e3%80%8cchange%e3%80%8d%e4%b8%8a%e6%98%a0%e4%bc%9a%e3%81%a8%e5%bc%95%e3%81%8d%e5%af%84%e3%81%9b%e3%81%ae/
LOCATION:フジサワ名店ビル6ＦＢホール
CATEGORIES:ドキュメンタリー映画「Change」上映会
END:VEVENT
BEGIN:VEVENT
DTSTART;TZID=Asia/Tokyo:20181204T100000
DTEND;TZID=Asia/Tokyo:20181204T120000
DTSTAMP:20260424T025029
CREATED:20181129T070101Z
LAST-MODIFIED:20181129T070119Z
UID:1787-1543917600-1543924800@ilchibrainyoga-tsujido.com
SUMMARY:4日はヨガの日
DESCRIPTION:4日はヨガの日 \n現代人は、いろいろ便利になってきた分運動不足になりがちです。 \n歩くのもとってもいいのですが、体をまんべんなく動かすことも大事です。 \n今まで動かしていなかったところは脳も眠っているところ。 \n体と脳はつながっています。 \nそういう意味でもイルチブレインヨガは体全体を万言なく動かすことで \nすっきり感、リラックス感、充足感が感じられていきます。 \nこれから寒くなる冷え予防のために体の芯から温めてあげましょう！🧘‍♂️ \n日ごろ頑張っているご自分のためにケアーする時間を持つのもいいのでは。 \n体験費も1000円とお得です。😄🧘‍♂️ \nイベントのご予約はこちら
URL:https://ilchibrainyoga-tsujido.com/event/4%e6%97%a5%e3%81%af%e3%83%a8%e3%82%ac%e3%81%ae%e6%97%a5-28/
LOCATION:イルチブレインヨガ辻堂スタジオ\, 神奈川県茅ヶ崎市浜竹２丁目２−４ 安達ビル2階\, 2530021\, 日本
CATEGORIES:イルチブレインヨガ体験
END:VEVENT
BEGIN:VEVENT
DTSTART;TZID=Asia/Tokyo:20181204T143000
DTEND;TZID=Asia/Tokyo:20181204T163000
DTSTAMP:20260424T025029
CREATED:20181129T070257Z
LAST-MODIFIED:20181129T070257Z
UID:1790-1543933800-1543941000@ilchibrainyoga-tsujido.com
SUMMARY:4日はヨガの日
DESCRIPTION:4日はヨガの日 \n現代人は、いろいろ便利になってきた分運動不足になりがちです。 \n歩くのもとってもいいのですが、体をまんべんなく動かすことも大事です。 \n今まで動かしていなかったところは脳も眠っているところ。 \n体と脳はつながっています。 \nそういう意味でもイルチブレインヨガは体全体を万言なく動かすことで \nすっきり感、リラックス感、充足感が感じられていきます。 \nこれから寒くなる冷え予防のために体の芯から温めてあげましょう！🧘‍♂️ \n日ごろ頑張っているご自分のためにケアーする時間を持つのもいいのでは。 \n体験費も1000円とお得です。😄🧘‍♂️ \n 
URL:https://ilchibrainyoga-tsujido.com/event/4%e6%97%a5%e3%81%af%e3%83%a8%e3%82%ac%e3%81%ae%e6%97%a5-29/
LOCATION:イルチブレインヨガ辻堂スタジオ\, 神奈川県茅ヶ崎市浜竹２丁目２−４ 安達ビル2階\, 2530021\, 日本
CATEGORIES:イルチブレインヨガ体験
END:VEVENT
BEGIN:VEVENT
DTSTART;TZID=Asia/Tokyo:20181209T083000
DTEND;TZID=Asia/Tokyo:20181209T200000
DTSTAMP:20260424T025029
CREATED:20181121T123355Z
LAST-MODIFIED:20181121T130052Z
UID:1781-1544344200-1544385600@ilchibrainyoga-tsujido.com
SUMMARY:ilchi4番チャクラトレーニング
DESCRIPTION:あなたは、幸せですか？自分の生きたい生き方をしていますか？ \n\n　この答えに堂々と「YES」と答えられるでしょうか？\n\n　もし、そうでないとしたらもう１度自分を振り返る時間をとってあげてください。\n\n　１人では、なかなかできないことが４番チャクラトレーニングでは１日でその答えが自然と湧き出てきます。\n\n　もう１人の自分。本当の自分に出会える時間。\n\n　自分の価値を見つけ、人生の意欲がわき、自分も幸せで、周りも幸せにできる自分。\n\n　そんな自分にであいたくないですか？\n\n　興味のあるかたはスタジオまでご連絡ください。
URL:https://ilchibrainyoga-tsujido.com/event/ilchi4%e7%95%aa%e3%83%81%e3%83%a3%e3%82%af%e3%83%a9%e3%83%88%e3%83%ac%e3%83%bc%e3%83%8b%e3%83%b3%e3%82%b0/
LOCATION:川崎教育院\, 川崎市川崎区小川町15－13\, 神奈川県
END:VEVENT
BEGIN:VEVENT
DTSTART;TZID=Asia/Tokyo:20181213T140000
DTEND;TZID=Asia/Tokyo:20181213T163000
DTSTAMP:20260424T025029
CREATED:20181228T105357Z
LAST-MODIFIED:20181228T105630Z
UID:1819-1544709600-1544718600@ilchibrainyoga-tsujido.com
SUMMARY:映画『Change(チェンジ)』＆引き寄せの法則実践講座
DESCRIPTION:映画『Change(チェンジ)』＆引き寄せの法則実践講座 \n今変わりたいあなたへ　　なりたい私にチェンジ！ \n「ザ・シークレット」、「引き寄せの法則」など、多くの法則が、健康や幸せ、お金などを手に入れる秘密を明らかにしてきました。\nでもそれを実現するにはいったいどうすればいいのでしょうか？\nその秘密は私たちの脳（意識）とエネルギーの使い方にありました。\nそのヒントを探る、ドキュメンタリ―映画「チェンジ」鑑賞と、生活の中で実践していくための意識チェンジトレーニングを体験する、\n実践セミナーです。今年、本当になりたい私にチェンジします。 \n2019年　①1月 13 日(日）　②1月18日（金）➂1月27日（日） \n時　間： 1４時30分～1６時30分（１４時より受付開始） \n参加費： 各回1\,500円（ペアで2000円） \nイベントのご予約はこちら
URL:https://ilchibrainyoga-tsujido.com/event/%e6%98%a0%e7%94%bb%e3%80%8echange%e3%83%81%e3%82%a7%e3%83%b3%e3%82%b8%e3%80%8f%ef%bc%86%e5%bc%95%e3%81%8d%e5%af%84%e3%81%9b%e3%81%ae%e6%b3%95%e5%89%87%e5%ae%9f%e8%b7%b5%e8%ac%9b%e5%ba%a7-2/
LOCATION:イルチブレインヨガ辻堂スタジオ\, 神奈川県茅ヶ崎市浜竹２丁目２−４ 安達ビル2階\, 2530021\, 日本
CATEGORIES:ドキュメンタリー映画「Change」上映会
END:VEVENT
BEGIN:VEVENT
DTSTART;TZID=Asia/Tokyo:20181214T080000
DTEND;TZID=Asia/Tokyo:20181214T170000
DTSTAMP:20260424T025029
CREATED:20181129T070610Z
LAST-MODIFIED:20181129T070610Z
UID:1792-1544774400-1544806800@ilchibrainyoga-tsujido.com
SUMMARY:4日のつく日はヨガの日
DESCRIPTION:4日のつく日はヨガの日 \n現代人は、いろいろ便利になってきた分運動不足になりがちです。 \n歩くのもとってもいいのですが、体をまんべんなく動かすことも大事です。 \n今まで動かしていなかったところは脳も眠っているところ。 \n体と脳はつながっています。 \nそういう意味でもイルチブレインヨガは体全体を万言なく動かすことで \nすっきり感、リラックス感、充足感が感じられていきます。 \nこれから寒くなる冷え予防のために体の芯から温めてあげましょう！🧘‍♂️ \n日ごろ頑張っているご自分のためにケアーする時間を持つのもいいのでは。 \n体験費も1000円とお得です。😄🧘‍♂️
URL:https://ilchibrainyoga-tsujido.com/event/4%e6%97%a5%e3%81%ae%e3%81%a4%e3%81%8f%e6%97%a5%e3%81%af%e3%83%a8%e3%82%ac%e3%81%ae%e6%97%a5-7/
LOCATION:イルチブレインヨガ辻堂スタジオ\, 神奈川県茅ヶ崎市浜竹２丁目２−４ 安達ビル2階\, 2530021\, 日本
CATEGORIES:イルチブレインヨガ体験
END:VEVENT
BEGIN:VEVENT
DTSTART;TZID=Asia/Tokyo:20181214T143000
DTEND;TZID=Asia/Tokyo:20181214T163000
DTSTAMP:20260424T025029
CREATED:20181129T070808Z
LAST-MODIFIED:20181129T070808Z
UID:1794-1544797800-1544805000@ilchibrainyoga-tsujido.com
SUMMARY:4日のつく日はヨガの日
DESCRIPTION:4日のつく日はヨガの日 \n現代人は、いろいろ便利になってきた分運動不足になりがちです。 \n歩くのもとってもいいのですが、体をまんべんなく動かすことも大事です。 \n今まで動かしていなかったところは脳も眠っているところ。 \n体と脳はつながっています。 \nそういう意味でもイルチブレインヨガは体全体を万言なく動かすことで \nすっきり感、リラックス感、充足感が感じられていきます。 \nこれから寒くなる冷え予防のために体の芯から温めてあげましょう！🧘‍♂️ \n日ごろ頑張っているご自分のためにケアーする時間を持つのもいいのでは。 \n体験費も1000円とお得です。😄🧘‍♂️
URL:https://ilchibrainyoga-tsujido.com/event/4%e6%97%a5%e3%81%ae%e3%81%a4%e3%81%8f%e6%97%a5%e3%81%af%e3%83%a8%e3%82%ac%e3%81%ae%e6%97%a5-8/
LOCATION:イルチブレインヨガ辻堂スタジオ\, 神奈川県茅ヶ崎市浜竹２丁目２−４ 安達ビル2階\, 2530021\, 日本
CATEGORIES:イルチブレインヨガ体験
END:VEVENT
BEGIN:VEVENT
DTSTART;TZID=Asia/Tokyo:20181221T143000
DTEND;TZID=Asia/Tokyo:20181221T163000
DTSTAMP:20260424T025029
CREATED:20181206T130114Z
LAST-MODIFIED:20181206T130217Z
UID:1802-1545402600-1545409800@ilchibrainyoga-tsujido.com
SUMMARY:映画『Change(チェンジ)』
DESCRIPTION:映画『Change(チェンジ)』＆引き寄せの法則実践講座 \n今変わりたいあなたへ　　なりたい私にチェンジ！ \n「ザ・シークレット」、「引き寄せの法則」など、多くの法則が、健康や幸せ、お金などを手に入れる秘密を明らかにしてきました。\nでもそれを実現するにはいったいどうすればいいのでしょうか？\nその秘密は私たちの脳（意識）とエネルギーの使い方にありました。\nそのヒントを探る、ドキュメンタリ―映画「チェンジ」鑑賞と、生活の中で実践していくための意識チェンジトレーニングを体験する、\n実践セミナーです。今年、本当になりたい私にチェンジします。 \n2018年　①12月 21 日(金)　②12月23日（日・祝） \n時　間： 1４時30分～1６時30分（１４時より受付開始） \n参加費： 各回1\,500円（ペアで2000円） \nイベントのご予約はこちら
URL:https://ilchibrainyoga-tsujido.com/event/%e6%98%a0%e7%94%bb%e3%80%8echange%e3%83%81%e3%82%a7%e3%83%b3%e3%82%b8%e3%80%8f/
LOCATION:イルチブレインヨガ辻堂スタジオ\, 神奈川県茅ヶ崎市浜竹２丁目２−４ 安達ビル2階\, 2530021\, 日本
CATEGORIES:ドキュメンタリー映画「Change」上映会
END:VEVENT
BEGIN:VEVENT
DTSTART;TZID=Asia/Tokyo:20181223T143000
DTEND;TZID=Asia/Tokyo:20181223T163000
DTSTAMP:20260424T025029
CREATED:20181206T130341Z
LAST-MODIFIED:20181214T002656Z
UID:1805-1545575400-1545582600@ilchibrainyoga-tsujido.com
SUMMARY:映画『Change(チェンジ)』＆引き寄せの法則実践講座
DESCRIPTION:映画『Change(チェンジ)』＆引き寄せの法則実践講座 \n今変わりたいあなたへ　　なりたい私にチェンジ！ \n「ザ・シークレット」、「引き寄せの法則」など、多くの法則が、健康や幸せ、お金などを手に入れる秘密を明らかにしてきました。\nでもそれを実現するにはいったいどうすればいいのでしょうか？\nその秘密は私たちの脳（意識）とエネルギーの使い方にありました。\nそのヒントを探る、ドキュメンタリ―映画「チェンジ」鑑賞と、生活の中で実践していくための意識チェンジトレーニングを体験する、\n実践セミナーです。今年、本当になりたい私にチェンジします。 \n2018年　①12月 21 日(金)　②12月23日（日・祝） \n時　間： 1４時30分～1６時30分（１４時より受付開始） \n参加費： 各回1\,500円（ペアで2000円） \nイベントのご予約はこちら
URL:https://ilchibrainyoga-tsujido.com/event/%e6%98%a0%e7%94%bb%e3%80%8echange%e3%83%81%e3%82%a7%e3%83%b3%e3%82%b8%e3%80%8f%ef%bc%86%e5%bc%95%e3%81%8d%e5%af%84%e3%81%9b%e3%81%ae%e6%b3%95%e5%89%87%e5%ae%9f%e8%b7%b5%e8%ac%9b%e5%ba%a7/
LOCATION:イルチブレインヨガ辻堂スタジオ\, 神奈川県茅ヶ崎市浜竹２丁目２−４ 安達ビル2階\, 2530021\, 日本
CATEGORIES:ドキュメンタリー映画「Change」上映会
END:VEVENT
BEGIN:VEVENT
DTSTART;TZID=Asia/Tokyo:20190104T100000
DTEND;TZID=Asia/Tokyo:20190104T120000
DTSTAMP:20260424T025029
CREATED:20181228T110715Z
LAST-MODIFIED:20181228T110715Z
UID:1827-1546596000-1546603200@ilchibrainyoga-tsujido.com
SUMMARY:4日のつく日はヨガの日
DESCRIPTION:4日のつく日はヨガの日 \n現代人は、いろいろ便利になってきた分運動不足になりがちです。 \n歩くのもとってもいいのですが、体をまんべんなく動かすことも大事です。 \n今まで動かしていなかったところは脳も眠っているところ。 \n体と脳はつながっています。 \nそういう意味でもイルチブレインヨガは体全体を万言なく動かすことで \nすっきり感、リラックス感、充足感が感じられていきます。 \nこれから寒くなる冷え予防のために体の芯から温めてあげましょう！🧘‍♂️ \n日ごろ頑張っているご自分のためにケアーする時間を持つのもいいのでは。 \n体験費も1000円とお得です。😄🧘‍♂️ \nイベントのご予約はこちら
URL:https://ilchibrainyoga-tsujido.com/event/4%e6%97%a5%e3%81%ae%e3%81%a4%e3%81%8f%e6%97%a5%e3%81%af%e3%83%a8%e3%82%ac%e3%81%ae%e6%97%a5-9/
LOCATION:イルチブレインヨガ辻堂スタジオ\, 神奈川県茅ヶ崎市浜竹２丁目２−４ 安達ビル2階\, 2530021\, 日本
CATEGORIES:イルチブレインヨガ体験,腸ヨガ
END:VEVENT
BEGIN:VEVENT
DTSTART;TZID=Asia/Tokyo:20190113T143000
DTEND;TZID=Asia/Tokyo:20190113T163000
DTSTAMP:20260424T025029
CREATED:20181228T110412Z
LAST-MODIFIED:20181228T110412Z
UID:1825-1547389800-1547397000@ilchibrainyoga-tsujido.com
SUMMARY:映画『Change(チェンジ)』＆引き寄せの法則実践講座
DESCRIPTION:映画『Change(チェンジ)』＆引き寄せの法則実践講座 \n今変わりたいあなたへ　　なりたい私にチェンジ！ \n「ザ・シークレット」、「引き寄せの法則」など、多くの法則が、健康や幸せ、お金などを手に入れる秘密を明らかにしてきました。\nでもそれを実現するにはいったいどうすればいいのでしょうか？\nその秘密は私たちの脳（意識）とエネルギーの使い方にありました。\nそのヒントを探る、ドキュメンタリ―映画「チェンジ」鑑賞と、生活の中で実践していくための意識チェンジトレーニングを体験する、\n実践セミナーです。今年、本当になりたい私にチェンジします。 \n2019年　①1月 13 日(日）　②1月18日（金）➂1月27日（日） \n時　間： 1４時30分～1６時30分（１４時より受付開始） \n参加費： 各回1\,500円（ペアで2000円） \nイベントのご予約はこちら
URL:https://ilchibrainyoga-tsujido.com/event/%e6%98%a0%e7%94%bb%e3%80%8echange%e3%83%81%e3%82%a7%e3%83%b3%e3%82%b8%e3%80%8f%ef%bc%86%e5%bc%95%e3%81%8d%e5%af%84%e3%81%9b%e3%81%ae%e6%b3%95%e5%89%87%e5%ae%9f%e8%b7%b5%e8%ac%9b%e5%ba%a7-5/
LOCATION:イルチブレインヨガ辻堂スタジオ\, 神奈川県茅ヶ崎市浜竹２丁目２−４ 安達ビル2階\, 2530021\, 日本
CATEGORIES:ドキュメンタリー映画「Change」上映会
END:VEVENT
BEGIN:VEVENT
DTSTART;TZID=Asia/Tokyo:20190118T143000
DTEND;TZID=Asia/Tokyo:20190118T163000
DTSTAMP:20260424T025029
CREATED:20181228T105950Z
LAST-MODIFIED:20181228T105950Z
UID:1821-1547821800-1547829000@ilchibrainyoga-tsujido.com
SUMMARY:映画『Change(チェンジ)』＆引き寄せの法則実践講座
DESCRIPTION:映画『Change(チェンジ)』＆引き寄せの法則実践講座 \n今変わりたいあなたへ　　なりたい私にチェンジ！ \n「ザ・シークレット」、「引き寄せの法則」など、多くの法則が、健康や幸せ、お金などを手に入れる秘密を明らかにしてきました。\nでもそれを実現するにはいったいどうすればいいのでしょうか？\nその秘密は私たちの脳（意識）とエネルギーの使い方にありました。\nそのヒントを探る、ドキュメンタリ―映画「チェンジ」鑑賞と、生活の中で実践していくための意識チェンジトレーニングを体験する、\n実践セミナーです。今年、本当になりたい私にチェンジします。 \n2019年　①1月 13 日(日）　②1月18日（金）➂1月27日（日） \n時　間： 1４時30分～1６時30分（１４時より受付開始） \n参加費： 各回1\,500円（ペアで2000円） \nイベントのご予約はこちら
URL:https://ilchibrainyoga-tsujido.com/event/%e6%98%a0%e7%94%bb%e3%80%8echange%e3%83%81%e3%82%a7%e3%83%b3%e3%82%b8%e3%80%8f%ef%bc%86%e5%bc%95%e3%81%8d%e5%af%84%e3%81%9b%e3%81%ae%e6%b3%95%e5%89%87%e5%ae%9f%e8%b7%b5%e8%ac%9b%e5%ba%a7-3/
LOCATION:イルチブレインヨガ辻堂スタジオ\, 神奈川県茅ヶ崎市浜竹２丁目２−４ 安達ビル2階\, 2530021\, 日本
CATEGORIES:ドキュメンタリー映画「Change」上映会
END:VEVENT
BEGIN:VEVENT
DTSTART;TZID=Asia/Tokyo:20190120T100000
DTEND;TZID=Asia/Tokyo:20190120T160000
DTSTAMP:20260424T025029
CREATED:20181228T114452Z
LAST-MODIFIED:20181228T114452Z
UID:1838-1547978400-1548000000@ilchibrainyoga-tsujido.com
SUMMARY:第15回茅ヶ崎マルシェ出店します
DESCRIPTION:第15回茅ヶ崎マルシェ今回もオーラ撮影で出店します。 \n当日はオーラ撮影のみ500円 \nオーラ撮影＆説明　1000円 \n飲食系、アクセサリーや雑貨の物販、クラフトやワークショップ系、ヒーリング系やアロマ系など \n他の出店もあります。ちがらじ主催のチャリティーライブも開催されるようです。 \n●開催場所 \n茅ヶ崎市浜見平 BRANCH茅ヶ崎2\n（屋内、1階スーパーたまやさん前の、催事スペース） \n⚫︎開催日時 \n1月20日（日） \n10:00〜16:00
URL:https://ilchibrainyoga-tsujido.com/event/%e7%ac%ac15%e5%9b%9e%e8%8c%85%e3%83%b6%e5%b4%8e%e3%83%9e%e3%83%ab%e3%82%b7%e3%82%a7%e5%87%ba%e5%ba%97%e3%81%97%e3%81%be%e3%81%99/
END:VEVENT
BEGIN:VEVENT
DTSTART;TZID=Asia/Tokyo:20190124T100000
DTEND;TZID=Asia/Tokyo:20190124T120000
DTSTAMP:20260424T025029
CREATED:20181228T110859Z
LAST-MODIFIED:20181228T110859Z
UID:1829-1548324000-1548331200@ilchibrainyoga-tsujido.com
SUMMARY:4日はヨガの日
DESCRIPTION:4日はヨガの日 \n現代人は、いろいろ便利になってきた分運動不足になりがちです。 \n歩くのもとってもいいのですが、体をまんべんなく動かすことも大事です。 \n今まで動かしていなかったところは脳も眠っているところ。 \n体と脳はつながっています。 \nそういう意味でもイルチブレインヨガは体全体を万言なく動かすことで \nすっきり感、リラックス感、充足感が感じられていきます。 \nこれから寒くなる冷え予防のために体の芯から温めてあげましょう！🧘‍♂️ \n日ごろ頑張っているご自分のためにケアーする時間を持つのもいいのでは。 \n体験費も1000円とお得です。😄🧘‍♂️ \nイベントのご予約はこちら
URL:https://ilchibrainyoga-tsujido.com/event/4%e6%97%a5%e3%81%af%e3%83%a8%e3%82%ac%e3%81%ae%e6%97%a5-30/
LOCATION:イルチブレインヨガ辻堂スタジオ\, 神奈川県茅ヶ崎市浜竹２丁目２−４ 安達ビル2階\, 2530021\, 日本
CATEGORIES:イルチブレインヨガ体験,腸ヨガ
END:VEVENT
BEGIN:VEVENT
DTSTART;TZID=Asia/Tokyo:20190126T140000
DTEND;TZID=Asia/Tokyo:20190126T160000
DTSTAMP:20260424T025029
CREATED:20181228T112422Z
LAST-MODIFIED:20190111T005425Z
UID:1831-1548511200-1548518400@ilchibrainyoga-tsujido.com
SUMMARY:BHP体験セミナー
DESCRIPTION:BHP（brain education healing point)とは→ \nHialing Myself\n  \nご自身のヒーリングポイントを見つけるBHPトレーニングと、 \n独自の呼吸瞑想で心身をリラクゼーションへと導きます。 \n日々の健康管理、メンタルヘルス、ストレスケアに最適です！！ \n  \n日時：1月26日（土）　14時～16時 \n場所：神奈川公会堂　1号会議室 \n参加費：前売り1000円（当日1500円） \nイベントのご予約はこちら\n \n  \n  \n  \n  \n  \n  \n  \n  \n  \n  \n  \n  \n  \n  \n 
URL:https://ilchibrainyoga-tsujido.com/event/bhp%e4%bd%93%e9%a8%93%e3%82%bb%e3%83%9f%e3%83%8a%e3%83%bc/
LOCATION:神奈川公会堂　1号会議室\, 横浜市\, 神奈川区富家1－3\, 神奈川県\, Japan
END:VEVENT
BEGIN:VEVENT
DTSTART;TZID=Asia/Tokyo:20190127T143000
DTEND;TZID=Asia/Tokyo:20190127T163000
DTSTAMP:20260424T025029
CREATED:20181228T110118Z
LAST-MODIFIED:20190111T005943Z
UID:1823-1548599400-1548606600@ilchibrainyoga-tsujido.com
SUMMARY:映画『Change(チェンジ)』＆引き寄せの法則実践講座
DESCRIPTION:映画『Change(チェンジ)』＆引き寄せの法則実践講座 \n今変わりたいあなたへ　　なりたい私にチェンジ！ \n「ザ・シークレット」、「引き寄せの法則」など、多くの法則が、健康や幸せ、お金などを手に入れる秘密を明らかにしてきました。\nでもそれを実現するにはいったいどうすればいいのでしょうか？\nその秘密は私たちの脳（意識）とエネルギーの使い方にありました。\nそのヒントを探る、ドキュメンタリ―映画「チェンジ」鑑賞と、生活の中で実践していくための意識チェンジトレーニングを体験する、\n実践セミナーです。今年、本当になりたい私にチェンジします。 \n2019年　①1月 13 日(日）　②1月18日（金）➂1月27日（日） \n時　間： 1４時30分～1６時30分（１４時より受付開始） \n参加費： 各回1\,500円（ペアで2000円） \nこちらからご予約できます→
URL:https://ilchibrainyoga-tsujido.com/event/%e6%98%a0%e7%94%bb%e3%80%8echange%e3%83%81%e3%82%a7%e3%83%b3%e3%82%b8%e3%80%8f%ef%bc%86%e5%bc%95%e3%81%8d%e5%af%84%e3%81%9b%e3%81%ae%e6%b3%95%e5%89%87%e5%ae%9f%e8%b7%b5%e8%ac%9b%e5%ba%a7-4/
LOCATION:イルチブレインヨガ辻堂スタジオ\, 神奈川県茅ヶ崎市浜竹２丁目２−４ 安達ビル2階\, 2530021\, 日本
CATEGORIES:ドキュメンタリー映画「Change」上映会
END:VEVENT
BEGIN:VEVENT
DTSTART;TZID=Asia/Tokyo:20190208T143000
DTEND;TZID=Asia/Tokyo:20190208T163000
DTSTAMP:20260424T025029
CREATED:20190131T084005Z
LAST-MODIFIED:20190131T084005Z
UID:1896-1549636200-1549643400@ilchibrainyoga-tsujido.com
SUMMARY:BHP～自分で見つける ヒーリングポイント講座～
DESCRIPTION:BHPとはイルチブレインヨガで「セルフケア」 \n現代人はさまざまな体のトラブルを抱えています。その一方で、メンタル面でも様々なストレスにさらされ、「やる気」「集中力」「安定感」などが失われがちです。 \nこうした心身のトラブルが悪化するまえに、ふだんから自らのセルフケアをしっかり行いたいところ。それは、現代的な生活のなかで弱くなった自然治癒力を呼び覚まし、強くしていくためのプロセスでもあります。日常の中で自分自身をヒーリングする方法がわかれば、毎日のストレスを軽減し、イキイキとした日々を送ることができます。 \n今、新しいセルフケアの方法として注目されているのが、BHP（Brain education Healing Pint）です。BHPは頭と手足から自分のヒーリングポイントを見つけ、指で押すなどしてケアするセルフヒーリング法。人間の脳には、自分自身をヒーリングできる力がもともと備わっています。そして、その脳に信号を送るスイッチが頭と手と足にあります。 \n  \n当ワークショップでは、簡単なエクササイズや \n呼吸瞑想と、頭や手足を押す簡単なセルフヒーリングを体験していただきます。 \nストレスなどで崩れた心身のバランスを取り戻せる \nヒーリングポイントがきっと見つかるはず！💡 \nご自分の身体のヒーリングポイントの探し方をご案内します。老若男女どなたでもOｋ \n  \nこんな方におススメです。🧡💡 \n冷えやすい／疲れが残る \nお通じがスッキリしない／眠りが浅い \nストレスをためてしまう／元気になりたい \n集中力をつけたい☘ \n  \nお気軽にお問い合わせください！ \nイベントのご予約はこちら
URL:https://ilchibrainyoga-tsujido.com/event/bhp%ef%bd%9e%e8%87%aa%e5%88%86%e3%81%a7%e8%a6%8b%e3%81%a4%e3%81%91%e3%82%8b-%e3%83%92%e3%83%bc%e3%83%aa%e3%83%b3%e3%82%b0%e3%83%9d%e3%82%a4%e3%83%b3%e3%83%88%e8%ac%9b%e5%ba%a7%ef%bd%9e/
LOCATION:イルチブレインヨガ辻堂スタジオ\, 神奈川県茅ヶ崎市浜竹２丁目２−４ 安達ビル2階\, 2530021\, 日本
CATEGORIES:BHP講座,イルチブレインヨガ体験
END:VEVENT
BEGIN:VEVENT
DTSTART;TZID=Asia/Tokyo:20190209T163000
DTEND;TZID=Asia/Tokyo:20190209T183000
DTSTAMP:20260424T025029
CREATED:20190131T081738Z
LAST-MODIFIED:20190131T082435Z
UID:1886-1549729800-1549737000@ilchibrainyoga-tsujido.com
SUMMARY:映画『Change(チェンジ)』＆引き寄せの法則実践講座
DESCRIPTION:映画『Change(チェンジ)』＆引き寄せの法則実践講座 \n今変わりたいあなたへ　　なりたい私にチェンジ！ \n「ザ・シークレット」、「引き寄せの法則」など、多くの法則が、健康や幸せ、お金などを手に入れる秘密を明らかにしてきました。\nでもそれを実現するにはいったいどうすればいいのでしょうか？\nその秘密は私たちの脳（意識）とエネルギーの使い方にありました。\nそのヒントを探る、ドキュメンタリ―映画「チェンジ」鑑賞と、生活の中で実践していくための意識チェンジトレーニングを体験する、\n実践セミナーです。今年、本当になりたい私にチェンジします。 \n2019年　①2月 9 日(土）　②２月15日（金）➂2月16日（土） \n時　間： 1４時30分～1６時30分（１４時より受付開始） \n参加費： 各回1\,500円（ペアで2000円） \nイベントのご予約はこちら
URL:https://ilchibrainyoga-tsujido.com/event/%e6%98%a0%e7%94%bb%e3%80%8echange%e3%83%81%e3%82%a7%e3%83%b3%e3%82%b8%e3%80%8f%ef%bc%86%e5%bc%95%e3%81%8d%e5%af%84%e3%81%9b%e3%81%ae%e6%b3%95%e5%89%87%e5%ae%9f%e8%b7%b5%e8%ac%9b%e5%ba%a7-6/
LOCATION:イルチブレインヨガ辻堂スタジオ\, 神奈川県茅ヶ崎市浜竹２丁目２−４ 安達ビル2階\, 2530021\, 日本
CATEGORIES:ドキュメンタリー映画「Change」上映会
END:VEVENT
BEGIN:VEVENT
DTSTART;TZID=Asia/Tokyo:20190210T083000
DTEND;TZID=Asia/Tokyo:20190210T190000
DTSTAMP:20260424T025029
CREATED:20190120T085952Z
LAST-MODIFIED:20190120T085952Z
UID:1868-1549787400-1549825200@ilchibrainyoga-tsujido.com
SUMMARY:ILCHI4番チャクラトレーニング
DESCRIPTION:あなたは、幸せですか？自分の生きたい生き方をしていますか？ \nこの答えに堂々と「YES」と答えられるでしょうか？ \nもし、そうでないとしたらもう１度自分を振り返る時間をとってあげてください。 \n１人では、なかなかできないことが４番チャクラトレーニングでは１日でその答えが自然と湧き出てきます。 \nもう１人の自分。本当の自分に出会える時間。 \n自分の価値を見つけ、人生の意欲がわき、自分も幸せで、周りも幸せにできる自分。 \nそんな自分にであいたくないですか？ \n興味のあるかたはスタジオまでご連絡ください。
URL:https://ilchibrainyoga-tsujido.com/event/ilchi4%e7%95%aa%e3%83%81%e3%83%a3%e3%82%af%e3%83%a9%e3%83%88%e3%83%ac%e3%83%bc%e3%83%8b%e3%83%b3%e3%82%b0-2/
LOCATION:川崎教育院\, 川崎市川崎区小川町15－13\, 神奈川県
CATEGORIES:4番チャクラトレーニング
END:VEVENT
BEGIN:VEVENT
DTSTART;TZID=Asia/Tokyo:20190212T143000
DTEND;TZID=Asia/Tokyo:20190212T163000
DTSTAMP:20260424T025029
CREATED:20190131T084239Z
LAST-MODIFIED:20190131T084239Z
UID:1899-1549981800-1549989000@ilchibrainyoga-tsujido.com
SUMMARY:BHP～自分で見つける ヒーリングポイント講座～
DESCRIPTION:BHPとはイルチブレインヨガで「セルフケア」 \n現代人はさまざまな体のトラブルを抱えています。その一方で、メンタル面でも様々なストレスにさらされ、「やる気」「集中力」「安定感」などが失われがちです。 \nこうした心身のトラブルが悪化するまえに、ふだんから自らのセルフケアをしっかり行いたいところ。それは、現代的な生活のなかで弱くなった自然治癒力を呼び覚まし、強くしていくためのプロセスでもあります。日常の中で自分自身をヒーリングする方法がわかれば、毎日のストレスを軽減し、イキイキとした日々を送ることができます。 \n今、新しいセルフケアの方法として注目されているのが、BHP（Brain education Healing Pint）です。BHPは頭と手足から自分のヒーリングポイントを見つけ、指で押すなどしてケアするセルフヒーリング法。人間の脳には、自分自身をヒーリングできる力がもともと備わっています。そして、その脳に信号を送るスイッチが頭と手と足にあります。 \n  \n当ワークショップでは、簡単なエクササイズや \n呼吸瞑想と、頭や手足を押す簡単なセルフヒーリングを体験していただきます。 \nストレスなどで崩れた心身のバランスを取り戻せる \nヒーリングポイントがきっと見つかるはず！💡 \nご自分の身体のヒーリングポイントの探し方をご案内します。老若男女どなたでもOｋ \n  \nこんな方におススメです。🧡💡 \n冷えやすい／疲れが残る \nお通じがスッキリしない／眠りが浅い \nストレスをためてしまう／元気になりたい \n集中力をつけたい☘ \n  \nお気軽にお問い合わせください！ \nイベントのご予約はこちら
URL:https://ilchibrainyoga-tsujido.com/event/bhp%ef%bd%9e%e8%87%aa%e5%88%86%e3%81%a7%e8%a6%8b%e3%81%a4%e3%81%91%e3%82%8b-%e3%83%92%e3%83%bc%e3%83%aa%e3%83%b3%e3%82%b0%e3%83%9d%e3%82%a4%e3%83%b3%e3%83%88%e8%ac%9b%e5%ba%a7%ef%bd%9e-2/
CATEGORIES:BHP講座
END:VEVENT
END:VCALENDAR