BEGIN:VCALENDAR
VERSION:2.0
PRODID:-//【湘南茅ヶ崎 平塚 藤沢ヨガ】イルチブレインヨガ辻堂スタジオ｜辻堂駅南口より徒歩8分 体と心と脳のヨガ - ECPv6.15.20//NONSGML v1.0//EN
CALSCALE:GREGORIAN
METHOD:PUBLISH
X-ORIGINAL-URL:https://ilchibrainyoga-tsujido.com
X-WR-CALDESC:【湘南茅ヶ崎 平塚 藤沢ヨガ】イルチブレインヨガ辻堂スタジオ｜辻堂駅南口より徒歩8分 体と心と脳のヨガ のイベント
REFRESH-INTERVAL;VALUE=DURATION:PT1H
X-Robots-Tag:noindex
X-PUBLISHED-TTL:PT1H
BEGIN:VTIMEZONE
TZID:Asia/Tokyo
BEGIN:STANDARD
TZOFFSETFROM:+0900
TZOFFSETTO:+0900
TZNAME:JST
DTSTART:20130101T000000
END:STANDARD
END:VTIMEZONE
BEGIN:VEVENT
DTSTART;TZID=Asia/Tokyo:20140904T143000
DTEND;TZID=Asia/Tokyo:20140904T163000
DTSTAMP:20260425T115106
CREATED:20140902T043306Z
LAST-MODIFIED:20140902T043945Z
UID:148-1409841000-1409848200@ilchibrainyoga-tsujido.com
SUMMARY:9月4日はヨガの日
DESCRIPTION:4日はヨガの日 \nクラス体験が、通常3000円→500円 \nオーラ撮影したい方は、＋500円でお撮りします。 \n  \nevent-button
URL:https://ilchibrainyoga-tsujido.com/event/9%e6%9c%884%e6%97%a5%e3%81%af%e3%83%a8%e3%82%ac%e3%81%ae%e6%97%a5/
LOCATION:イルチブレインヨガ辻堂スタジオ\, 神奈川県茅ヶ崎市浜竹２丁目２−４ 安達ビル2階\, 2530021\, 日本
END:VEVENT
BEGIN:VEVENT
DTSTART;TZID=Asia/Tokyo:20140904T190000
DTEND;TZID=Asia/Tokyo:20140904T210000
DTSTAMP:20260425T115106
CREATED:20140902T043425Z
LAST-MODIFIED:20140902T043758Z
UID:149-1409857200-1409864400@ilchibrainyoga-tsujido.com
SUMMARY:9月4日はヨガの日
DESCRIPTION:4日はヨガの日 \nクラス体験が、通常3000円→500円 \nオーラ撮影したい方は、＋500円でお撮りします。 \nevent-button
URL:https://ilchibrainyoga-tsujido.com/event/9%e6%9c%884%e6%97%a5%e3%81%af%e3%83%a8%e3%82%ac%e3%81%ae%e6%97%a5-2/
LOCATION:イルチブレインヨガ辻堂スタジオ\, 神奈川県茅ヶ崎市浜竹２丁目２−４ 安達ビル2階\, 2530021\, 日本
END:VEVENT
BEGIN:VEVENT
DTSTART;TZID=Asia/Tokyo:20140924T143000
DTEND;TZID=Asia/Tokyo:20140924T163000
DTSTAMP:20260425T115106
CREATED:20140923T001459Z
LAST-MODIFIED:20140923T001607Z
UID:164-1411569000-1411576200@ilchibrainyoga-tsujido.com
SUMMARY:4日のつく日はヨガの日
DESCRIPTION:4日のつく日はヨガの日 \nクラス体験が、通常3000円→1000円 \n  \n  \n  \nイベントのご予約はこちら
URL:https://ilchibrainyoga-tsujido.com/event/4%e6%97%a5%e3%81%ae%e3%81%a4%e3%81%8f%e6%97%a5%e3%81%af%e3%83%a8%e3%82%ac%e3%81%ae%e6%97%a5/
LOCATION:イルチブレインヨガ辻堂スタジオ\, 神奈川県茅ヶ崎市浜竹２丁目２−４ 安達ビル2階\, 2530021\, 日本
END:VEVENT
BEGIN:VEVENT
DTSTART;TZID=Asia/Tokyo:20140927T143000
DTEND;TZID=Asia/Tokyo:20140927T163000
DTSTAMP:20260425T115106
CREATED:20140908T070606Z
LAST-MODIFIED:20140912T224929Z
UID:155-1411828200-1411835400@ilchibrainyoga-tsujido.com
SUMMARY:きっと大丈夫セミナー
DESCRIPTION:＊きっと大丈夫セミナー＊\n～ツボを開くOpen Heartトレーニング～ \n私たちの体には365個ものツボがあるのをご存知ですか？\nツボが開けば心と体が元気になります！ご自分のための癒しの時間を過ごしませんか？ \n内容：・心と体が元気になる原理の説明\n・ツボを開く簡単トレーニング\n・エッセンシャルオイルを使ってセルフヒーリング\nイベントのご予約はこちら
URL:https://ilchibrainyoga-tsujido.com/event/%e3%81%8d%e3%81%a3%e3%81%a8%e5%a4%a7%e4%b8%88%e5%a4%ab%e3%82%bb%e3%83%9f%e3%83%8a%e3%83%bc/
LOCATION:イルチブレインヨガ辻堂スタジオ\, 神奈川県茅ヶ崎市浜竹２丁目２−４ 安達ビル2階\, 2530021\, 日本
END:VEVENT
BEGIN:VEVENT
DTSTART;TZID=Asia/Tokyo:20141004T103000
DTEND;TZID=Asia/Tokyo:20141004T103000
DTSTAMP:20260425T115106
CREATED:20140927T053922Z
LAST-MODIFIED:20140927T053922Z
UID:171-1412418600-1412418600@ilchibrainyoga-tsujido.com
SUMMARY:4のつく日はヨガの日
DESCRIPTION:４のつく日はヨガの日 \n体験してみたいけれどなかなか一歩が踏み出せないという方おすすめ。 \n4日・14日・24日はヨガの日。 \nヨガ体験が通常3000円が1000円でできます。 \nお気軽に体験してみてください。 \n普通のヨガとは違う思ったよりハードと、体験された方から声が多いですが \n体の効果・心の効果を求めるのでしたらブレインヨガが良いです。 \n終わった後のすっきり感・軽い感じを味わってみてください。 \n  \nイベントのご予約はこちら\n  \n 
URL:https://ilchibrainyoga-tsujido.com/event/4%e3%81%ae%e3%81%a4%e3%81%8f%e6%97%a5%e3%81%af%e3%83%a8%e3%82%ac%e3%81%ae%e6%97%a5/
LOCATION:イルチブレインヨガ辻堂スタジオ\, 神奈川県茅ヶ崎市浜竹２丁目２−４ 安達ビル2階\, 2530021\, 日本
END:VEVENT
BEGIN:VEVENT
DTSTART;TZID=Asia/Tokyo:20141008T140000
DTEND;TZID=Asia/Tokyo:20141008T160000
DTSTAMP:20260425T115106
CREATED:20141003T082802Z
LAST-MODIFIED:20141003T082802Z
UID:187-1412776800-1412784000@ilchibrainyoga-tsujido.com
SUMMARY:アロマヨガ
DESCRIPTION:アロマヨガ \n夏が終わり、思った以上に溜まっていることが多い体の疲れ。夏の間にクーラーや冷たい食べ物で冷えてしまっている体には、手厚いケアが必要かもしれません。とくに、ダメージの大きさが心配なのが腸です。夏バテとともに、便秘が長引いているという方は、腸内環境が悪化している可能性が大！ 血のめぐりを良くして、下腹をポカポカと温めて、腸を活性化させたいところです。 \n腸を癒し、デトックスする方法として注目されているのが、「アロマヨガ」です。アロマヨガは、ヨガとアロマテラピーを組み合わせたヒーリング法。アロマの力で体内を内側からリフレッシュして、全身のデトックスを導きます。身体の負担が少なく、代謝アップや老廃物の排出を促し、インナービューティーにもうれしい効果が期待できます。 \n７つのチャクラ全てに作用するアロマオイル「Bird of the Soul」使ったヨガが体験できます。体を内側から癒やし、香りで脳内のストレスを解消。ダイエット、リラックス、ストレス解消、脳疲労解消、冷え改善などの効果が期待できます。 \nアロマに興味がある方はもちろん、デトックスしたい方、老若男女どなたでもご参加いただけます。ご希望の方にはレッスンで使用したアロマオイルもご購入いただけます。 \n  \nイベントのご予約はこちら
URL:https://ilchibrainyoga-tsujido.com/event/%e3%82%a2%e3%83%ad%e3%83%9e%e3%83%a8%e3%82%ac-3/
LOCATION:イルチブレインヨガ辻堂スタジオ\, 神奈川県茅ヶ崎市浜竹２丁目２−４ 安達ビル2階\, 2530021\, 日本
END:VEVENT
BEGIN:VEVENT
DTSTART;TZID=Asia/Tokyo:20141010T140000
DTEND;TZID=Asia/Tokyo:20141010T160000
DTSTAMP:20260425T115106
CREATED:20141003T083930Z
LAST-MODIFIED:20141003T084536Z
UID:190-1412949600-1412956800@ilchibrainyoga-tsujido.com
SUMMARY:お皿回し体操体験会
DESCRIPTION:  \nすべての関節を動かす画期的な全身運動 \n話題の「皿回しエクササイズ」いつでもどこでもできて楽しいのに効果的。肩・首・腕・腰・足を動かしながら多様な曲線・渦巻きを描いていきます。それによって関節のコリがほぐれ全身のゆがみの改善へとつながります。 \n＜皿まわしの効果＞\n関節がほぐれる / 気血循環がよくなる / 体が柔軟になる / 脳が柔軟になる / 右脳と左脳の連結がよくなる\n自律神経のバランスが整う / 肩こり、腰痛の改善 / 冷え解消 / 内臓機能の向上 / 心が楽になる\nエネルギーを感じやすくなる / 新陳代謝がよくなり、ダイエットに効果的 \nイベントのご予約はこちら
URL:https://ilchibrainyoga-tsujido.com/event/%e3%81%8a%e7%9a%bf%e5%9b%9e%e3%81%97%e4%bd%93%e6%93%8d%e4%bd%93%e9%a8%93%e4%bc%9a/
LOCATION:イルチブレインヨガ辻堂スタジオ\, 神奈川県茅ヶ崎市浜竹２丁目２−４ 安達ビル2階\, 2530021\, 日本
END:VEVENT
BEGIN:VEVENT
DTSTART;TZID=Asia/Tokyo:20141014T143000
DTEND;TZID=Asia/Tokyo:20141014T163000
DTSTAMP:20260425T115106
CREATED:20140927T054156Z
LAST-MODIFIED:20140927T054156Z
UID:173-1413297000-1413304200@ilchibrainyoga-tsujido.com
SUMMARY:４のつく日はヨガの日
DESCRIPTION:４のつく日はヨガの日 \n体験してみたいけれどなかなか一歩が踏み出せないという方おすすめ。 \n4日・14日・24日はヨガの日。 \nヨガ体験が通常3000円が1000円でできます。 \nお気軽に体験してみてください。 \n普通のヨガとは違う思ったよりハードと、体験された方から声が多いですが \n体の効果・心の効果を求めるのでしたらブレインヨガが良いです。 \n終わった後のすっきり感・軽い感じを味わってみてください。 \n  \nイベントのご予約はこちら
URL:https://ilchibrainyoga-tsujido.com/event/%ef%bc%94%e3%81%ae%e3%81%a4%e3%81%8f%e6%97%a5%e3%81%af%e3%83%a8%e3%82%ac%e3%81%ae%e6%97%a5/
LOCATION:イルチブレインヨガ辻堂スタジオ\, 神奈川県茅ヶ崎市浜竹２丁目２−４ 安達ビル2階\, 2530021\, 日本
END:VEVENT
BEGIN:VEVENT
DTSTART;TZID=Asia/Tokyo:20141014T190000
DTEND;TZID=Asia/Tokyo:20141014T210000
DTSTAMP:20260425T115106
CREATED:20140927T054404Z
LAST-MODIFIED:20140927T054404Z
UID:175-1413313200-1413320400@ilchibrainyoga-tsujido.com
SUMMARY:４のつく日はヨガの日
DESCRIPTION:４のつく日はヨガの日 \n体験してみたいけれどなかなか一歩が踏み出せないという方おすすめ。 \n4日・14日・24日はヨガの日。 \nヨガ体験が通常3000円が1000円でできます。 \nお気軽に体験してみてください。 \n普通のヨガとは違う思ったよりハードと、体験された方から声が多いですが \n体の効果・心の効果を求めるのでしたらブレインヨガが良いです。 \n終わった後のすっきり感・軽い感じを味わってみてください。 \n  \nイベントのご予約はこちら\n 
URL:https://ilchibrainyoga-tsujido.com/event/%ef%bc%94%e3%81%ae%e3%81%a4%e3%81%8f%e6%97%a5%e3%81%af%e3%83%a8%e3%82%ac%e3%81%ae%e6%97%a5-2/
LOCATION:イルチブレインヨガ辻堂スタジオ\, 神奈川県茅ヶ崎市浜竹２丁目２−４ 安達ビル2階\, 2530021\, 日本
END:VEVENT
BEGIN:VEVENT
DTSTART;TZID=Asia/Tokyo:20141015T143000
DTEND;TZID=Asia/Tokyo:20141015T163000
DTSTAMP:20260425T115106
CREATED:20140926T041534Z
LAST-MODIFIED:20141003T082545Z
UID:169-1413383400-1413390600@ilchibrainyoga-tsujido.com
SUMMARY:アロマヨガ
DESCRIPTION:アロマヨガ \n夏が終わり、思った以上に溜まっていることが多い体の疲れ。夏の間にクーラーや冷たい食べ物で冷えてしまっている体には、手厚いケアが必要かもしれません。とくに、ダメージの大きさが心配なのが腸です。夏バテとともに、便秘が長引いているという方は、腸内環境が悪化している可能性が大！ 血のめぐりを良くして、下腹をポカポカと温めて、腸を活性化させたいところです。 \n腸を癒し、デトックスする方法として注目されているのが、「アロマヨガ」です。アロマヨガは、ヨガとアロマテラピーを組み合わせたヒーリング法。アロマの力で体内を内側からリフレッシュして、全身のデトックスを導きます。身体の負担が少なく、代謝アップや老廃物の排出を促し、インナービューティーにもうれしい効果が期待できます。 \n７つのチャクラ全てに作用するアロマオイル「Bird of the Soul」使ったヨガが体験できます。体を内側から癒やし、香りで脳内のストレスを解消。ダイエット、リラックス、ストレス解消、脳疲労解消、冷え改善などの効果が期待できます。 \nアロマに興味がある方はもちろん、デトックスしたい方、老若男女どなたでもご参加いただけます。ご希望の方にはレッスンで使用したアロマオイルもご購入いただけます。 \n  \nイベントのご予約はこちら
URL:https://ilchibrainyoga-tsujido.com/event/%e3%82%a2%e3%83%ad%e3%83%9e%e3%83%a8%e3%82%ac/
LOCATION:イルチブレインヨガ辻堂スタジオ\, 神奈川県茅ヶ崎市浜竹２丁目２−４ 安達ビル2階\, 2530021\, 日本
END:VEVENT
BEGIN:VEVENT
DTSTART;TZID=Asia/Tokyo:20141017T140000
DTEND;TZID=Asia/Tokyo:20141017T160000
DTSTAMP:20260425T115106
CREATED:20141003T084046Z
LAST-MODIFIED:20141003T084448Z
UID:191-1413554400-1413561600@ilchibrainyoga-tsujido.com
SUMMARY:お皿回し体操体験会
DESCRIPTION:すべての関節を動かす画期的な全身運動 \n話題の「皿回しエクササイズ」いつでもどこでもできて楽しいのに効果的。肩・首・腕・腰・足を動かしながら多様な曲線・渦巻きを描いていきます。それによって関節のコリがほぐれ全身のゆがみの改善へとつながります。 \n＜皿まわしの効果＞\n関節がほぐれる / 気血循環がよくなる / 体が柔軟になる / 脳が柔軟になる / 右脳と左脳の連結がよくなる\n自律神経のバランスが整う / 肩こり、腰痛の改善 / 冷え解消 / 内臓機能の向上 / 心が楽になる\nエネルギーを感じやすくなる / 新陳代謝がよくなり、ダイエットに効果的 \nイベントのご予約はこちら
URL:https://ilchibrainyoga-tsujido.com/event/%e3%81%8a%e7%9a%bf%e5%9b%9e%e3%81%97%e4%bd%93%e6%93%8d%e4%bd%93%e9%a8%93%e4%bc%9a-2/
LOCATION:イルチブレインヨガ辻堂スタジオ\, 神奈川県茅ヶ崎市浜竹２丁目２−４ 安達ビル2階\, 2530021\, 日本
END:VEVENT
BEGIN:VEVENT
DTSTART;TZID=Asia/Tokyo:20141019T024000
DTEND;TZID=Asia/Tokyo:20141019T041000
DTSTAMP:20260425T115106
CREATED:20141003T085224Z
LAST-MODIFIED:20141003T085607Z
UID:194-1413686400-1413691800@ilchibrainyoga-tsujido.com
SUMMARY:お皿回しエクササイズ～やってみよう脳体操～
DESCRIPTION:やってみよう！カンタン脳体操 \n～ 嬉しい効果が続出「皿まわし」エクササイズ ～ \n  \n「皿まわし」エクササイズは、手のひらの上にお皿が乗っているとイメージし、それを落とさないようにして腕を大きく動かす脳トレエクササイズです。 \n全身の関節がほぐれ、血液とエネルギーの循環がよくなります。 \n＜皿まわしの効果＞関節がほぐれる / 気血循環がよくなる / 体が柔軟になる / 脳が柔軟になる / 右脳と左脳の連結がよくなる\n自律神経のバランスが整う / 肩こり、腰痛の改善 / 冷え解消 / 内臓機能の向上 / 心が楽になるエネルギーを感じやすくなる / 新陳代謝がよくなり、ダイエットに効果的 \nイベントのご予約はこちら
URL:https://ilchibrainyoga-tsujido.com/event/%e3%81%8a%e7%9a%bf%e5%9b%9e%e3%81%97%e3%82%a8%e3%82%af%e3%82%b5%e3%82%b5%e3%82%a4%e3%82%ba%ef%bd%9e%e3%82%84%e3%81%a3%e3%81%a6%e3%81%bf%e3%82%88%e3%81%86%e8%84%b3%e4%bd%93%e6%93%8d%ef%bd%9e/
LOCATION:ベル・フルール\, 茅ヶ崎市旭が丘６－３０
END:VEVENT
BEGIN:VEVENT
DTSTART;TZID=Asia/Tokyo:20141022T140000
DTEND;TZID=Asia/Tokyo:20141022T160000
DTSTAMP:20260425T115106
CREATED:20141003T082922Z
LAST-MODIFIED:20141003T082922Z
UID:188-1413986400-1413993600@ilchibrainyoga-tsujido.com
SUMMARY:アロマヨガ
DESCRIPTION:アロマヨガ \n夏が終わり、思った以上に溜まっていることが多い体の疲れ。夏の間にクーラーや冷たい食べ物で冷えてしまっている体には、手厚いケアが必要かもしれません。とくに、ダメージの大きさが心配なのが腸です。夏バテとともに、便秘が長引いているという方は、腸内環境が悪化している可能性が大！ 血のめぐりを良くして、下腹をポカポカと温めて、腸を活性化させたいところです。 \n腸を癒し、デトックスする方法として注目されているのが、「アロマヨガ」です。アロマヨガは、ヨガとアロマテラピーを組み合わせたヒーリング法。アロマの力で体内を内側からリフレッシュして、全身のデトックスを導きます。身体の負担が少なく、代謝アップや老廃物の排出を促し、インナービューティーにもうれしい効果が期待できます。 \n７つのチャクラ全てに作用するアロマオイル「Bird of the Soul」使ったヨガが体験できます。体を内側から癒やし、香りで脳内のストレスを解消。ダイエット、リラックス、ストレス解消、脳疲労解消、冷え改善などの効果が期待できます。 \nアロマに興味がある方はもちろん、デトックスしたい方、老若男女どなたでもご参加いただけます。ご希望の方にはレッスンで使用したアロマオイルもご購入いただけます。 \n  \nイベントのご予約はこちら\n 
URL:https://ilchibrainyoga-tsujido.com/event/%e3%82%a2%e3%83%ad%e3%83%9e%e3%83%a8%e3%82%ac-4/
LOCATION:イルチブレインヨガ辻堂スタジオ\, 神奈川県茅ヶ崎市浜竹２丁目２−４ 安達ビル2階\, 2530021\, 日本
END:VEVENT
BEGIN:VEVENT
DTSTART;TZID=Asia/Tokyo:20141024T100000
DTEND;TZID=Asia/Tokyo:20141024T100000
DTSTAMP:20260425T115106
CREATED:20140927T054521Z
LAST-MODIFIED:20140927T054521Z
UID:176-1414144800-1414144800@ilchibrainyoga-tsujido.com
SUMMARY:４のつく日はヨガの日
DESCRIPTION:４のつく日はヨガの日 \n体験してみたいけれどなかなか一歩が踏み出せないという方おすすめ。 \n4日・14日・24日はヨガの日。 \nヨガ体験が通常3000円が1000円でできます。 \nお気軽に体験してみてください。 \n普通のヨガとは違う思ったよりハードと、体験された方から声が多いですが \n体の効果・心の効果を求めるのでしたらブレインヨガが良いです。 \n終わった後のすっきり感・軽い感じを味わってみてください。 \n  \nイベントのご予約はこちら
URL:https://ilchibrainyoga-tsujido.com/event/%ef%bc%94%e3%81%ae%e3%81%a4%e3%81%8f%e6%97%a5%e3%81%af%e3%83%a8%e3%82%ac%e3%81%ae%e6%97%a5-3/
LOCATION:イルチブレインヨガ辻堂スタジオ\, 神奈川県茅ヶ崎市浜竹２丁目２−４ 安達ビル2階\, 2530021\, 日本
END:VEVENT
BEGIN:VEVENT
DTSTART;TZID=Asia/Tokyo:20141024T140000
DTEND;TZID=Asia/Tokyo:20141024T160000
DTSTAMP:20260425T115106
CREATED:20141003T084207Z
LAST-MODIFIED:20141003T084207Z
UID:192-1414159200-1414166400@ilchibrainyoga-tsujido.com
SUMMARY:お皿回し体操体験会
DESCRIPTION:すべての関節を動かす画期的な全身運動 \n話題の「皿回しエクササイズ」いつでもどこでもできて楽しいのに効果的。肩・首・腕・腰・足を動かしながら多様な曲線・渦巻きを描いていきます。それによって関節のコリがほぐれ全身のゆがみの改善へとつながります。 \n＜皿まわしの効果＞\n関節がほぐれる / 気血循環がよくなる / 体が柔軟になる / 脳が柔軟になる / 右脳と左脳の連結がよくなる\n自律神経のバランスが整う / 肩こり、腰痛の改善 / 冷え解消 / 内臓機能の向上 / 心が楽になる\nエネルギーを感じやすくなる / 新陳代謝がよくなり、ダイエットに効果的 \nイベントのご予約はこちら
URL:https://ilchibrainyoga-tsujido.com/event/%e3%81%8a%e7%9a%bf%e5%9b%9e%e3%81%97%e4%bd%93%e6%93%8d%e4%bd%93%e9%a8%93%e4%bc%9a-3/
LOCATION:イルチブレインヨガ辻堂スタジオ\, 神奈川県茅ヶ崎市浜竹２丁目２−４ 安達ビル2階\, 2530021\, 日本
END:VEVENT
BEGIN:VEVENT
DTSTART;TZID=Asia/Tokyo:20141024T190000
DTEND;TZID=Asia/Tokyo:20141024T210000
DTSTAMP:20260425T115106
CREATED:20140927T054631Z
LAST-MODIFIED:20140927T054631Z
UID:177-1414177200-1414184400@ilchibrainyoga-tsujido.com
SUMMARY:４のつく日はヨガの日
DESCRIPTION:４のつく日はヨガの日 \n体験してみたいけれどなかなか一歩が踏み出せないという方おすすめ。 \n4日・14日・24日はヨガの日。 \nヨガ体験が通常3000円が1000円でできます。 \nお気軽に体験してみてください。 \n普通のヨガとは違う思ったよりハードと、体験された方から声が多いですが \n体の効果・心の効果を求めるのでしたらブレインヨガが良いです。 \n終わった後のすっきり感・軽い感じを味わってみてください。 \n  \nイベントのご予約はこちら
URL:https://ilchibrainyoga-tsujido.com/event/%ef%bc%94%e3%81%ae%e3%81%a4%e3%81%8f%e6%97%a5%e3%81%af%e3%83%a8%e3%82%ac%e3%81%ae%e6%97%a5-4/
LOCATION:イルチブレインヨガ辻堂スタジオ\, 神奈川県茅ヶ崎市浜竹２丁目２−４ 安達ビル2階\, 2530021\, 日本
END:VEVENT
BEGIN:VEVENT
DTSTART;TZID=Asia/Tokyo:20141029T140000
DTEND;TZID=Asia/Tokyo:20141029T160000
DTSTAMP:20260425T115106
CREATED:20141003T083100Z
LAST-MODIFIED:20141003T083100Z
UID:189-1414591200-1414598400@ilchibrainyoga-tsujido.com
SUMMARY:アロマヨガ
DESCRIPTION:アロマヨガ \n夏が終わり、思った以上に溜まっていることが多い体の疲れ。夏の間にクーラーや冷たい食べ物で冷えてしまっている体には、手厚いケアが必要かもしれません。とくに、ダメージの大きさが心配なのが腸です。夏バテとともに、便秘が長引いているという方は、腸内環境が悪化している可能性が大！ 血のめぐりを良くして、下腹をポカポカと温めて、腸を活性化させたいところです。 \n腸を癒し、デトックスする方法として注目されているのが、「アロマヨガ」です。アロマヨガは、ヨガとアロマテラピーを組み合わせたヒーリング法。アロマの力で体内を内側からリフレッシュして、全身のデトックスを導きます。身体の負担が少なく、代謝アップや老廃物の排出を促し、インナービューティーにもうれしい効果が期待できます。 \n７つのチャクラ全てに作用するアロマオイル「Bird of the Soul」使ったヨガが体験できます。体を内側から癒やし、香りで脳内のストレスを解消。ダイエット、リラックス、ストレス解消、脳疲労解消、冷え改善などの効果が期待できます。 \nアロマに興味がある方はもちろん、デトックスしたい方、老若男女どなたでもご参加いただけます。ご希望の方にはレッスンで使用したアロマオイルもご購入いただけます。 \n  \nイベントのご予約はこちら
URL:https://ilchibrainyoga-tsujido.com/event/%e3%82%a2%e3%83%ad%e3%83%9e%e3%83%a8%e3%82%ac-5/
LOCATION:イルチブレインヨガ辻堂スタジオ\, 神奈川県茅ヶ崎市浜竹２丁目２−４ 安達ビル2階\, 2530021\, 日本
END:VEVENT
BEGIN:VEVENT
DTSTART;TZID=Asia/Tokyo:20141031T140000
DTEND;TZID=Asia/Tokyo:20141031T160000
DTSTAMP:20260425T115106
CREATED:20141003T084309Z
LAST-MODIFIED:20141003T084309Z
UID:193-1414764000-1414771200@ilchibrainyoga-tsujido.com
SUMMARY:お皿回し体操体験会
DESCRIPTION:すべての関節を動かす画期的な全身運動 \n話題の「皿回しエクササイズ」いつでもどこでもできて楽しいのに効果的。肩・首・腕・腰・足を動かしながら多様な曲線・渦巻きを描いていきます。それによって関節のコリがほぐれ全身のゆがみの改善へとつながります。 \n＜皿まわしの効果＞\n関節がほぐれる / 気血循環がよくなる / 体が柔軟になる / 脳が柔軟になる / 右脳と左脳の連結がよくなる\n自律神経のバランスが整う / 肩こり、腰痛の改善 / 冷え解消 / 内臓機能の向上 / 心が楽になる\nエネルギーを感じやすくなる / 新陳代謝がよくなり、ダイエットに効果的 \nイベントのご予約はこちら
URL:https://ilchibrainyoga-tsujido.com/event/%e3%81%8a%e7%9a%bf%e5%9b%9e%e3%81%97%e4%bd%93%e6%93%8d%e4%bd%93%e9%a8%93%e4%bc%9a-4/
LOCATION:イルチブレインヨガ辻堂スタジオ\, 神奈川県茅ヶ崎市浜竹２丁目２−４ 安達ビル2階\, 2530021\, 日本
END:VEVENT
BEGIN:VEVENT
DTSTART;TZID=Asia/Tokyo:20141104T143000
DTEND;TZID=Asia/Tokyo:20141104T163000
DTSTAMP:20260425T115106
CREATED:20141023T021939Z
LAST-MODIFIED:20141023T024614Z
UID:199-1415111400-1415118600@ilchibrainyoga-tsujido.com
SUMMARY:４・８のつく日はヨガの日
DESCRIPTION:４・８のつく日はヨガの日 \n体験してみたいけれどなかなか一歩が踏み出せないという方おすすめ。 \n4日・8日・14日・18日・24日・28日はヨガの日。 \nヨガ体験が通常3000円が1000円でできます。 \nお気軽に体験してみてください。 \n普通のヨガとは違う思ったよりハードと、体験された方からの声が多いですが \nなぜか、終わった後のすっきり感・軽い感じは他では味わえないです。 \n今まで何も運動もしてこなかったという方が、 \nもっと早くここに来ていればよかったという方もいらっしゃいます。 \nまずは、考えるよりも行動を起こしてみましょう。強要はいたしませんので・・・＾＾。 \nイベントのご予約はこちら
URL:https://ilchibrainyoga-tsujido.com/event/%ef%bc%94%e3%83%bb%ef%bc%98%e3%81%ae%e3%81%a4%e3%81%8f%e6%97%a5%e3%81%af%e3%83%a8%e3%82%ac%e3%81%ae%e6%97%a5/
LOCATION:イルチブレインヨガ辻堂スタジオ\, 神奈川県茅ヶ崎市浜竹２丁目２−４ 安達ビル2階\, 2530021\, 日本
END:VEVENT
BEGIN:VEVENT
DTSTART;TZID=Asia/Tokyo:20141104T190000
DTEND;TZID=Asia/Tokyo:20141104T210000
DTSTAMP:20260425T115106
CREATED:20141023T022049Z
LAST-MODIFIED:20141023T024522Z
UID:200-1415127600-1415134800@ilchibrainyoga-tsujido.com
SUMMARY:４・８のつく日はヨガの日
DESCRIPTION:４・８のつく日はヨガの日 \n体験してみたいけれどなかなか一歩が踏み出せないという方おすすめ。 \n4日・8日・14日・18日・24日・28日はヨガの日。 \nヨガ体験が通常3000円が1000円でできます。 \nお気軽に体験してみてください。 \n普通のヨガとは違う思ったよりハードと、体験された方からの声が多いですが \nなぜか、終わった後のすっきり感・軽い感じは他では味わえないです。 \n今まで何も運動もしてこなかったという方が、 \nもっと早くここに来ていればよかったという方もいらっしゃいます。 \nまずは、考えるよりも行動を起こしてみませんか。強要はいたしませんので・・・＾＾。 \nイベントのご予約はこちら
URL:https://ilchibrainyoga-tsujido.com/event/%ef%bc%94%e3%83%bb%ef%bc%98%e3%81%ae%e3%81%a4%e3%81%8f%e6%97%a5%e3%81%af%e3%83%a8%e3%82%ac%e3%81%ae%e6%97%a5-2/
LOCATION:イルチブレインヨガ辻堂スタジオ\, 神奈川県茅ヶ崎市浜竹２丁目２−４ 安達ビル2階\, 2530021\, 日本
END:VEVENT
BEGIN:VEVENT
DTSTART;TZID=Asia/Tokyo:20141108T103000
DTEND;TZID=Asia/Tokyo:20141108T123000
DTSTAMP:20260425T115106
CREATED:20141023T023050Z
LAST-MODIFIED:20141023T030335Z
UID:205-1415442600-1415449800@ilchibrainyoga-tsujido.com
SUMMARY:４・８のつく日はヨガの日
DESCRIPTION:４・８のつく日はヨガの日 \n体験してみたいけれどなかなか一歩が踏み出せないという方おすすめ。 \n4日・8日・14日・18日・24日・28日はヨガの日。 \nヨガ体験が通常3000円が1000円でできます。 \nお気軽に体験してみてください。 \n普通のヨガとは違う思ったよりハードと、体験された方からの声が多いですが \nなぜか、終わった後のすっきり感・軽い感じは他では味わえないです。 \n今まで何も運動もしてこなかったという方が、 \nもっと早くここに来ていればよかったという方もいらっしゃいます。 \nまずは、考えるよりも行動を起こしてみませんか。強要はいたしませんので・・・＾＾。 \nイベントのご予約はこちら
URL:https://ilchibrainyoga-tsujido.com/event/%ef%bc%94%e3%83%bb%ef%bc%98%e3%81%ae%e3%81%a4%e3%81%8f%e6%97%a5%e3%81%af%e3%83%a8%e3%82%ac%e3%81%ae%e6%97%a5-3/
LOCATION:イルチブレインヨガ辻堂スタジオ\, 神奈川県茅ヶ崎市浜竹２丁目２−４ 安達ビル2階\, 2530021\, 日本
END:VEVENT
BEGIN:VEVENT
DTSTART;TZID=Asia/Tokyo:20141114T100000
DTEND;TZID=Asia/Tokyo:20141114T120000
DTSTAMP:20260425T115106
CREATED:20141023T024125Z
LAST-MODIFIED:20141023T024125Z
UID:208-1415959200-1415966400@ilchibrainyoga-tsujido.com
SUMMARY:４・８のつく日はヨガの日
DESCRIPTION:４・８のつく日はヨガの日 \n体験してみたいけれどなかなか一歩が踏み出せないという方おすすめ。 \n4日・8日・14日・18日・24日・28日はヨガの日。 \nヨガ体験が通常3000円が1000円でできます。 \nお気軽に体験してみてください。 \n普通のヨガとは違う思ったよりハードと、体験された方からの声が多いですが \nなぜか、終わった後のすっきり感・軽い感じは他では味わえないです。 \n今まで何も運動もしてこなかったという方が、 \nもっと早くここに来ていればよかったという方もいらっしゃいます。 \nまずは、考えるよりも行動を起こしてみませんか。強要はいたしませんので・・・＾＾。 \nイベントのご予約はこちら
URL:https://ilchibrainyoga-tsujido.com/event/%ef%bc%94%e3%83%bb%ef%bc%98%e3%81%ae%e3%81%a4%e3%81%8f%e6%97%a5%e3%81%af%e3%83%a8%e3%82%ac%e3%81%ae%e6%97%a5-4/
LOCATION:イルチブレインヨガ辻堂スタジオ\, 神奈川県茅ヶ崎市浜竹２丁目２−４ 安達ビル2階\, 2530021\, 日本
END:VEVENT
BEGIN:VEVENT
DTSTART;TZID=Asia/Tokyo:20141114T190000
DTEND;TZID=Asia/Tokyo:20141114T210000
DTSTAMP:20260425T115106
CREATED:20141023T024314Z
LAST-MODIFIED:20141023T024314Z
UID:209-1415991600-1415998800@ilchibrainyoga-tsujido.com
SUMMARY:４・８のつく日はヨガの日
DESCRIPTION:４・８のつく日はヨガの日 \n体験してみたいけれどなかなか一歩が踏み出せないという方おすすめ。 \n4日・8日・14日・18日・24日・28日はヨガの日。 \nヨガ体験が通常3000円が1000円でできます。 \nお気軽に体験してみてください。 \n普通のヨガとは違う思ったよりハードと、体験された方からの声が多いですが \nなぜか、終わった後のすっきり感・軽い感じは他では味わえないです。 \n今まで何も運動もしてこなかったという方が、 \nもっと早くここに来ていればよかったという方もいらっしゃいます。 \nまずは、考えるよりも行動を起こしてみませんか。強要はいたしませんので・・・＾＾。 \nイベントのご予約はこちら
URL:https://ilchibrainyoga-tsujido.com/event/%ef%bc%94%e3%83%bb%ef%bc%98%e3%81%ae%e3%81%a4%e3%81%8f%e6%97%a5%e3%81%af%e3%83%a8%e3%82%ac%e3%81%ae%e6%97%a5-5/
LOCATION:イルチブレインヨガ辻堂スタジオ\, 神奈川県茅ヶ崎市浜竹２丁目２−４ 安達ビル2階\, 2530021\, 日本
END:VEVENT
BEGIN:VEVENT
DTSTART;TZID=Asia/Tokyo:20141118T143000
DTEND;TZID=Asia/Tokyo:20141118T163000
DTSTAMP:20260425T115106
CREATED:20141023T050247Z
LAST-MODIFIED:20141023T050247Z
UID:211-1416321000-1416328200@ilchibrainyoga-tsujido.com
SUMMARY:４・８のつく日はヨガの日
DESCRIPTION:４・８のつく日はヨガの日 \n体験してみたいけれどなかなか一歩が踏み出せないという方おすすめ。 \n4日・8日・14日・18日・24日・28日はヨガの日。 \nヨガ体験が通常3000円が1000円でできます。 \nお気軽に体験してみてください。 \n普通のヨガとは違う思ったよりハードと、体験された方からの声が多いですが \nなぜか、終わった後のすっきり感・軽い感じは他では味わえないです。 \n今まで何も運動もしてこなかったという方が、 \nもっと早くここに来ていればよかったという方もいらっしゃいます。 \nまずは、考えるよりも行動を起こしてみませんか。強要はいたしませんので・・・＾＾。 \nイベントのご予約はこちら
URL:https://ilchibrainyoga-tsujido.com/event/%ef%bc%94%e3%83%bb%ef%bc%98%e3%81%ae%e3%81%a4%e3%81%8f%e6%97%a5%e3%81%af%e3%83%a8%e3%82%ac%e3%81%ae%e6%97%a5-6/
LOCATION:イルチブレインヨガ辻堂スタジオ\, 神奈川県茅ヶ崎市浜竹２丁目２−４ 安達ビル2階\, 2530021\, 日本
END:VEVENT
BEGIN:VEVENT
DTSTART;TZID=Asia/Tokyo:20141118T190000
DTEND;TZID=Asia/Tokyo:20141118T210000
DTSTAMP:20260425T115106
CREATED:20141023T050408Z
LAST-MODIFIED:20141023T050408Z
UID:212-1416337200-1416344400@ilchibrainyoga-tsujido.com
SUMMARY:４・８のつく日はヨガの日
DESCRIPTION:４・８のつく日はヨガの日 \n体験してみたいけれどなかなか一歩が踏み出せないという方おすすめ。 \n4日・8日・14日・18日・24日・28日はヨガの日。 \nヨガ体験が通常3000円が1000円でできます。 \nお気軽に体験してみてください。 \n普通のヨガとは違う思ったよりハードと、体験された方からの声が多いですが \nなぜか、終わった後のすっきり感・軽い感じは他では味わえないです。 \n今まで何も運動もしてこなかったという方が、 \nもっと早くここに来ていればよかったという方もいらっしゃいます。 \nまずは、考えるよりも行動を起こしてみませんか。強要はいたしませんので・・・＾＾。 \nイベントのご予約はこちら
URL:https://ilchibrainyoga-tsujido.com/event/%ef%bc%94%e3%83%bb%ef%bc%98%e3%81%ae%e3%81%a4%e3%81%8f%e6%97%a5%e3%81%af%e3%83%a8%e3%82%ac%e3%81%ae%e6%97%a5-7/
LOCATION:イルチブレインヨガ辻堂スタジオ\, 神奈川県茅ヶ崎市浜竹２丁目２−４ 安達ビル2階\, 2530021\, 日本
END:VEVENT
BEGIN:VEVENT
DTSTART;TZID=Asia/Tokyo:20141128T100000
DTEND;TZID=Asia/Tokyo:20141128T120000
DTSTAMP:20260425T115106
CREATED:20141023T050604Z
LAST-MODIFIED:20141023T050604Z
UID:214-1417168800-1417176000@ilchibrainyoga-tsujido.com
SUMMARY:４・８のつく日はヨガの日
DESCRIPTION:４・８のつく日はヨガの日 \n体験してみたいけれどなかなか一歩が踏み出せないという方おすすめ。 \n4日・8日・14日・18日・24日・28日はヨガの日。 \nヨガ体験が通常3000円が1000円でできます。 \nお気軽に体験してみてください。 \n普通のヨガとは違う思ったよりハードと、体験された方からの声が多いですが \nなぜか、終わった後のすっきり感・軽い感じは他では味わえないです。 \n今まで何も運動もしてこなかったという方が、 \nもっと早くここに来ていればよかったという方もいらっしゃいます。 \nまずは、考えるよりも行動を起こしてみませんか。強要はいたしませんので・・・＾＾。 \nイベントのご予約はこちら
URL:https://ilchibrainyoga-tsujido.com/event/%ef%bc%94%e3%83%bb%ef%bc%98%e3%81%ae%e3%81%a4%e3%81%8f%e6%97%a5%e3%81%af%e3%83%a8%e3%82%ac%e3%81%ae%e6%97%a5-8/
LOCATION:イルチブレインヨガ辻堂スタジオ\, 神奈川県茅ヶ崎市浜竹２丁目２−４ 安達ビル2階\, 2530021\, 日本
END:VEVENT
BEGIN:VEVENT
DTSTART;TZID=Asia/Tokyo:20141128T190000
DTEND;TZID=Asia/Tokyo:20141128T210000
DTSTAMP:20260425T115106
CREATED:20141023T050724Z
LAST-MODIFIED:20141023T050724Z
UID:215-1417201200-1417208400@ilchibrainyoga-tsujido.com
SUMMARY:４・８のつく日はヨガの日
DESCRIPTION:４・８のつく日はヨガの日 \n体験してみたいけれどなかなか一歩が踏み出せないという方おすすめ。 \n4日・8日・14日・18日・24日・28日はヨガの日。 \nヨガ体験が通常3000円が1000円でできます。 \nお気軽に体験してみてください。 \n普通のヨガとは違う思ったよりハードと、体験された方からの声が多いですが \nなぜか、終わった後のすっきり感・軽い感じは他では味わえないです。 \n今まで何も運動もしてこなかったという方が、 \nもっと早くここに来ていればよかったという方もいらっしゃいます。 \nまずは、考えるよりも行動を起こしてみませんか。強要はいたしませんので・・・＾＾。 \nイベントのご予約はこちら
URL:https://ilchibrainyoga-tsujido.com/event/%ef%bc%94%e3%83%bb%ef%bc%98%e3%81%ae%e3%81%a4%e3%81%8f%e6%97%a5%e3%81%af%e3%83%a8%e3%82%ac%e3%81%ae%e6%97%a5-9/
LOCATION:イルチブレインヨガ辻堂スタジオ\, 神奈川県茅ヶ崎市浜竹２丁目２−４ 安達ビル2階\, 2530021\, 日本
END:VEVENT
BEGIN:VEVENT
DTSTART;TZID=Asia/Tokyo:20141207T143000
DTEND;TZID=Asia/Tokyo:20141207T163000
DTSTAMP:20260425T115106
CREATED:20141125T053622Z
LAST-MODIFIED:20141125T053749Z
UID:226-1417962600-1417969800@ilchibrainyoga-tsujido.com
SUMMARY:これからも私らしく生きていくためにＹＯＧＡで体も心も美しく
DESCRIPTION:これからも私らしく生きていくためにＹＯＧＡで体も心も美しく \n～いくつになっても自分をあきらめない人、応援します～ \n最近、体力・心力がおちているなと感じている方。 \n大丈夫です。このヨガをすることで体の中心の体幹が鍛えられ \n無理なくなりたい自分を創造的に創っていきます。 \n仕事や趣味で充実したい方。いつまでも輝いていたい方。人生の質をよくしたい方。 \n今月、１日限定体験会です。お気軽にお越しください。 \nイベントのご予約はこちら
URL:https://ilchibrainyoga-tsujido.com/event/%e3%81%93%e3%82%8c%e3%81%8b%e3%82%89%e3%82%82%e7%a7%81%e3%82%89%e3%81%97%e3%81%8f%e7%94%9f%e3%81%8d%e3%81%a6%e3%81%84%e3%81%8f%e3%81%9f%e3%82%81%e3%81%ab%ef%bd%99%ef%bd%8f%ef%bd%87%ef%bd%81%e3%81%a7/
LOCATION:イルチブレインヨガ辻堂スタジオ\, 神奈川県茅ヶ崎市浜竹２丁目２−４ 安達ビル2階\, 2530021\, 日本
END:VEVENT
BEGIN:VEVENT
DTSTART;TZID=Asia/Tokyo:20150114T100000
DTEND;TZID=Asia/Tokyo:20150114T100000
DTSTAMP:20260425T115106
CREATED:20150113T015147Z
LAST-MODIFIED:20150114T010931Z
UID:235-1421229600-1421229600@ilchibrainyoga-tsujido.com
SUMMARY:4・８のつく日はヨガの日
DESCRIPTION:４・８のつく日はヨガの日 \n４と８のつく日はクラス体験が１０００円になります。 \nヨガに興味がある方、健康つくりにやってみたい方。 \n一緒に楽しい時間を過ごしませんか？ \nそなたでも歓迎いたします。 \nイベントのご予約はこちら
URL:https://ilchibrainyoga-tsujido.com/event/4%e3%83%bb%ef%bc%98%e3%81%ae%e3%81%a4%e3%81%8f%e6%97%a5%e3%81%af%e3%83%a8%e3%82%ac%e3%81%ae%e6%97%a5/
LOCATION:イルチブレインヨガ辻堂スタジオ\, 神奈川県茅ヶ崎市浜竹２丁目２−４ 安達ビル2階\, 2530021\, 日本
END:VEVENT
BEGIN:VEVENT
DTSTART;TZID=Asia/Tokyo:20150114T143000
DTEND;TZID=Asia/Tokyo:20150114T163000
DTSTAMP:20260425T115106
CREATED:20150113T015433Z
LAST-MODIFIED:20150114T095017Z
UID:236-1421245800-1421253000@ilchibrainyoga-tsujido.com
SUMMARY:４・８のつく日はヨガの日
DESCRIPTION:４・８のつく日はヨガの日 \n４と８のつく日はクラス体験が１０００円になります。 \n一緒に楽しい時間を過ごしませんか？ \nヨガに興味がある方、健康つくりにやってみたい方。 \nそなたでも歓迎いたします。 \nイベントのご予約はこちら
URL:https://ilchibrainyoga-tsujido.com/event/%ef%bc%94%e3%83%bb%ef%bc%98%e3%81%ae%e3%81%a4%e3%81%8f%e6%97%a5%e3%81%af%e3%83%a8%e3%82%ac%e3%81%ae%e6%97%a5-10/
LOCATION:イルチブレインヨガ辻堂スタジオ\, 神奈川県茅ヶ崎市浜竹２丁目２−４ 安達ビル2階\, 2530021\, 日本
END:VEVENT
END:VCALENDAR