BEGIN:VCALENDAR
VERSION:2.0
PRODID:-//【湘南茅ヶ崎 平塚 藤沢ヨガ】イルチブレインヨガ辻堂スタジオ｜辻堂駅南口より徒歩8分 体と心と脳のヨガ - ECPv6.15.20//NONSGML v1.0//EN
CALSCALE:GREGORIAN
METHOD:PUBLISH
X-ORIGINAL-URL:https://ilchibrainyoga-tsujido.com
X-WR-CALDESC:【湘南茅ヶ崎 平塚 藤沢ヨガ】イルチブレインヨガ辻堂スタジオ｜辻堂駅南口より徒歩8分 体と心と脳のヨガ のイベント
REFRESH-INTERVAL;VALUE=DURATION:PT1H
X-Robots-Tag:noindex
X-PUBLISHED-TTL:PT1H
BEGIN:VTIMEZONE
TZID:Asia/Tokyo
BEGIN:STANDARD
TZOFFSETFROM:+0900
TZOFFSETTO:+0900
TZNAME:JST
DTSTART:20160101T000000
END:STANDARD
END:VTIMEZONE
BEGIN:VEVENT
DTSTART;TZID=Asia/Tokyo:20171014T103000
DTEND;TZID=Asia/Tokyo:20171014T123000
DTSTAMP:20260423T142147
CREATED:20171013T065242Z
LAST-MODIFIED:20171013T065242Z
UID:1307-1507977000-1507984200@ilchibrainyoga-tsujido.com
SUMMARY:週末のヨガ体験
DESCRIPTION:平日の疲れた心身をいやすためにヨガの体験はいかがですか？ \n休日は、とにかく休んでいたいという方。2時間のヨガの時間で月曜日からの仕事の質が変わります。 \n現代人に多い、肩こり、腰痛、冷え、便秘、むくみ、不眠などはほっておくと慢性化しています。 \nまずは自分の体に感謝すること。自分を愛することから変わっていきます。 \n私たち人間も自然のいちぶ。自然に戻ることで体も心も癒されていきます。 \n現代に生まれた私たちにできることを最大限生かしませんか？ \nイルチブレインヨガはご自分の持っている本来の生命力を引き出します。 \nトレーナーが体と心のアドバイスもします。 \nお気軽に予約されてください。 \nイベントのご予約はこちら
URL:https://ilchibrainyoga-tsujido.com/event/%e9%80%b1%e6%9c%ab%e3%81%ae%e3%83%a8%e3%82%ac%e4%bd%93%e9%a8%93/
CATEGORIES:イルチブレインヨガ体験,腸ヨガ
END:VEVENT
BEGIN:VEVENT
DTSTART;TZID=Asia/Tokyo:20171015T103000
DTEND;TZID=Asia/Tokyo:20171015T123000
DTSTAMP:20260423T142147
CREATED:20171013T070245Z
LAST-MODIFIED:20171013T070245Z
UID:1315-1508063400-1508070600@ilchibrainyoga-tsujido.com
SUMMARY:週末のヨガ体験
DESCRIPTION:平日の疲れた心身をいやすためにヨガの体験はいかがですか？ \n休日は、とにかく休んでいたいという方。2時間のヨガの時間で月曜日からの仕事の質が変わります。 \n現代人に多い、肩こり、腰痛、冷え、便秘、むくみ、不眠などはほっておくと慢性化しています。 \nまずは自分の体に感謝すること。自分を愛することから変わっていきます。 \n私たち人間も自然のいちぶ。自然に戻ることで体も心も癒されていきます。 \n現代に生まれた私たちにできることを最大限生かしませんか？ \nイルチブレインヨガはご自分の持っている本来の生命力を引き出します。 \nトレーナーが体と心のアドバイスもします。 \nお気軽に予約されてください。 \nイベントのご予約はこちら
URL:https://ilchibrainyoga-tsujido.com/event/%e9%80%b1%e6%9c%ab%e3%81%ae%e3%83%a8%e3%82%ac%e4%bd%93%e9%a8%93-2/
LOCATION:イルチブレインヨガ辻堂スタジオ\, 神奈川県茅ヶ崎市浜竹２丁目２−４ 安達ビル2階\, 2530021\, 日本
CATEGORIES:イルチブレインヨガ体験,腸ヨガ
END:VEVENT
BEGIN:VEVENT
DTSTART;TZID=Asia/Tokyo:20171016T123000
DTEND;TZID=Asia/Tokyo:20171016T170000
DTSTAMP:20260423T142147
CREATED:20171006T133229Z
LAST-MODIFIED:20171006T133229Z
UID:1301-1508157000-1508173200@ilchibrainyoga-tsujido.com
SUMMARY:ミニスマイルフェスタつじどう
DESCRIPTION:「ミニスマイルフェスタつじどう」を開催いたします！\n入場料無料です。\n\n10月16日（月）　12:30～17:00\n場所：長谷川書店6Ｆ…\n茅ヶ崎市元町１－１\n茅ヶ崎駅徒歩北口徒歩1分\nオーラ撮影、へそヒーリング、アロハタロット、数秘、レイキヒーリング、湘南平塚の有機野菜販売など、健康・癒しに関するイベントです。\n各ブースは、1\,000円から楽しめる内容になっています。\nお買い物ついでに、お気軽にお越しください。
URL:https://ilchibrainyoga-tsujido.com/event/%e3%83%9f%e3%83%8b%e3%82%b9%e3%83%9e%e3%82%a4%e3%83%ab%e3%83%95%e3%82%a7%e3%82%b9%e3%82%bf%e3%81%a4%e3%81%98%e3%81%a9%e3%81%86-2/
CATEGORIES:オーラ,へそヒーリング
END:VEVENT
BEGIN:VEVENT
DTSTART;TZID=Asia/Tokyo:20171028T103000
DTEND;TZID=Asia/Tokyo:20171028T123000
DTSTAMP:20260423T142147
CREATED:20171013T065736Z
LAST-MODIFIED:20171013T065736Z
UID:1311-1509186600-1509193800@ilchibrainyoga-tsujido.com
SUMMARY:週末のヨガ体験
DESCRIPTION:平日の疲れた心身をいやすためにヨガの体験はいかがですか？ \n休日は、とにかく休んでいたいという方。2時間のヨガの時間で月曜日からの仕事の質が変わります。 \n現代人に多い、肩こり、腰痛、冷え、便秘、むくみ、不眠などはほっておくと慢性化しています。 \nまずは自分の体に感謝すること。自分を愛することから変わっていきます。 \n私たち人間も自然のいちぶ。自然に戻ることで体も心も癒されていきます。 \n現代に生まれた私たちにできることを最大限生かしませんか？ \nイルチブレインヨガはご自分の持っている本来の生命力を引き出します。 \nトレーナーが体と心のアドバイスもします。 \nお気軽に予約されてください。 \nイベントのご予約はこちら
URL:https://ilchibrainyoga-tsujido.com/event/%e9%80%b1%e6%9c%ab%e3%81%ae%e3%83%a8%e3%82%ac%e4%bd%93%e9%a8%93-3/
CATEGORIES:イルチブレインヨガ体験,腸ヨガ
END:VEVENT
BEGIN:VEVENT
DTSTART;TZID=Asia/Tokyo:20171029T103000
DTEND;TZID=Asia/Tokyo:20171029T123000
DTSTAMP:20260423T142147
CREATED:20171013T065916Z
LAST-MODIFIED:20171013T065916Z
UID:1313-1509273000-1509280200@ilchibrainyoga-tsujido.com
SUMMARY:週末のヨガ体験
DESCRIPTION:平日の疲れた心身をいやすためにヨガの体験はいかがですか？ \n休日は、とにかく休んでいたいという方。2時間のヨガの時間で月曜日からの仕事の質が変わります。 \n現代人に多い、肩こり、腰痛、冷え、便秘、むくみ、不眠などはほっておくと慢性化しています。 \nまずは自分の体に感謝すること。自分を愛することから変わっていきます。 \n私たち人間も自然のいちぶ。自然に戻ることで体も心も癒されていきます。 \n現代に生まれた私たちにできることを最大限生かしませんか？ \nイルチブレインヨガはご自分の持っている本来の生命力を引き出します。 \nトレーナーが体と心のアドバイスもします。 \nお気軽に予約されてください。 \nイベントのご予約はこちら
URL:https://ilchibrainyoga-tsujido.com/event/%e9%80%b1%e6%9c%ab%e3%81%ae%e3%83%a8%e3%82%ac%e4%bd%93%e9%a8%93-4/
LOCATION:イルチブレインヨガ辻堂スタジオ\, 神奈川県茅ヶ崎市浜竹２丁目２−４ 安達ビル2階\, 2530021\, 日本
CATEGORIES:イルチブレインヨガ体験,腸ヨガ
END:VEVENT
BEGIN:VEVENT
DTSTART;TZID=Asia/Tokyo:20171119T140000
DTEND;TZID=Asia/Tokyo:20171119T150000
DTSTAMP:20260423T142147
CREATED:20171031T113934Z
LAST-MODIFIED:20171031T114047Z
UID:1323-1511100000-1511103600@ilchibrainyoga-tsujido.com
SUMMARY:スタジオ見学＋オーラ撮影＋へそヒーリング
DESCRIPTION:ヨガ以外にもオーラ撮影やへそヒーリングなどもしています。 \nヨガの体験をする前に、スタジオの雰囲気なども見学できます。 \n今回は特別セット価格でオーラ撮影とへそヒーリングをいたします。 \n体の健康チェックをした後にへそヒーリングで癒されます。 \n１時間くらいお時間いただきますのでチャットした息抜きに来てください。 \n後日ヨガ体験が格安でできます。 \nイベントのご予約はこちら
URL:https://ilchibrainyoga-tsujido.com/event/%e3%82%b9%e3%82%bf%e3%82%b8%e3%82%aa%e8%a6%8b%e5%ad%a6%ef%bc%8b%e3%82%aa%e3%83%bc%e3%83%a9%e6%92%ae%e5%bd%b1%ef%bc%8b%e3%81%b8%e3%81%9d%e3%83%92%e3%83%bc%e3%83%aa%e3%83%b3%e3%82%b0/
CATEGORIES:オーラ,へそヒーリング
END:VEVENT
BEGIN:VEVENT
DTSTART;TZID=Asia/Tokyo:20171119T150000
DTEND;TZID=Asia/Tokyo:20171119T160000
DTSTAMP:20260423T142147
CREATED:20171031T114413Z
LAST-MODIFIED:20171031T120103Z
UID:1327-1511103600-1511107200@ilchibrainyoga-tsujido.com
SUMMARY:スタジオ見学＋オーラ撮影＋へそヒーリング
DESCRIPTION:ヨガ以外にもオーラ撮影やへそヒーリングなどもしています。 \nヨガの体験をする前に、スタジオの雰囲気なども見学できます。 \n今回は特別セット価格でオーラ撮影とへそヒーリングをいたします。 \n体の健康チェックをした後にへそヒーリングで癒されます。 \n１時間くらいお時間いただきますのでチャットした息抜きに来てください。 \n後日ヨガ体験が格安でできます。 \nイベントのご予約はこちら
URL:https://ilchibrainyoga-tsujido.com/event/%e3%82%bf%e3%82%b8%e3%82%aa%e8%a6%8b%e5%ad%a6%ef%bc%8b%e3%82%aa%e3%83%bc%e3%83%a9%e6%92%ae%e5%bd%b1%ef%bc%8b%e3%81%b8%e3%81%9d%e3%83%92%e3%83%bc%e3%83%aa%e3%83%b3%e3%82%b0/
END:VEVENT
BEGIN:VEVENT
DTSTART;TZID=Asia/Tokyo:20171125T030000
DTEND;TZID=Asia/Tokyo:20171125T160000
DTSTAMP:20260423T142147
CREATED:20171031T115032Z
LAST-MODIFIED:20171031T115032Z
UID:1332-1511578800-1511625600@ilchibrainyoga-tsujido.com
SUMMARY:スタジオ見学＋オーラ撮影＋へそヒーリング
DESCRIPTION:ヨガ以外にもオーラ撮影やへそヒーリングなどもしています。 \n ヨガの体験をする前に、スタジオの雰囲気なども見学できます。 \n 今回は特別セット価格でオーラ撮影とへそヒーリングをいたします。 \n 体の健康チェックをした後にへそヒーリングで癒されます。 \n１時間くらいお時間いただきますのでチャットした息抜きに来てください。 \n 後日ヨガ体験が格安でできます。 \n イベントのご予約はこちら
URL:https://ilchibrainyoga-tsujido.com/event/%e3%82%b9%e3%82%bf%e3%82%b8%e3%82%aa%e8%a6%8b%e5%ad%a6%ef%bc%8b%e3%82%aa%e3%83%bc%e3%83%a9%e6%92%ae%e5%bd%b1%ef%bc%8b%e3%81%b8%e3%81%9d%e3%83%92%e3%83%bc%e3%83%aa%e3%83%b3%e3%82%b0-3/
CATEGORIES:オーラ,へそヒーリング
END:VEVENT
BEGIN:VEVENT
DTSTART;TZID=Asia/Tokyo:20171125T140000
DTEND;TZID=Asia/Tokyo:20171125T150000
DTSTAMP:20260423T142147
CREATED:20171031T114557Z
LAST-MODIFIED:20171031T114557Z
UID:1329-1511618400-1511622000@ilchibrainyoga-tsujido.com
SUMMARY:スタジオ見学＋オーラ撮影＋へそヒーリング
DESCRIPTION:ヨガ以外にもオーラ撮影やへそヒーリングなどもしています。 \n ヨガの体験をする前に、スタジオの雰囲気なども見学できます。 \n 今回は特別セット価格でオーラ撮影とへそヒーリングをいたします。 \n 体の健康チェックをした後にへそヒーリングで癒されます。 \n１時間くらいお時間いただきますのでチャットした息抜きに来てください。 \n 後日ヨガ体験が格安でできます。 \n イベントのご予約はこちら
URL:https://ilchibrainyoga-tsujido.com/event/%e3%82%b9%e3%82%bf%e3%82%b8%e3%82%aa%e8%a6%8b%e5%ad%a6%ef%bc%8b%e3%82%aa%e3%83%bc%e3%83%a9%e6%92%ae%e5%bd%b1%ef%bc%8b%e3%81%b8%e3%81%9d%e3%83%92%e3%83%bc%e3%83%aa%e3%83%b3%e3%82%b0-2/
CATEGORIES:オーラ,へそヒーリング
END:VEVENT
BEGIN:VEVENT
DTSTART;TZID=Asia/Tokyo:20171126T140000
DTEND;TZID=Asia/Tokyo:20171126T150000
DTSTAMP:20260423T142147
CREATED:20171031T121141Z
LAST-MODIFIED:20171031T121224Z
UID:1338-1511704800-1511708400@ilchibrainyoga-tsujido.com
SUMMARY:スタジオ見学＋オーラ撮影＋へそヒーリング
DESCRIPTION:ヨガ以外にもオーラ撮影やへそヒーリングなどもしています。 \n ヨガの体験をする前に、スタジオの雰囲気なども見学できます。 \n 今回は特別セット価格でオーラ撮影とへそヒーリングをいたします。 \n 体の健康チェックをした後にへそヒーリングで癒されます。 \n１時間くらいお時間いただきますのでチョットした息抜きに来てください。 \n 後日ヨガ体験が格安でできます。 \nイベントのご予約はこちら
URL:https://ilchibrainyoga-tsujido.com/event/%e3%82%b9%e3%82%bf%e3%82%b8%e3%82%aa%e8%a6%8b%e5%ad%a6%ef%bc%8b%e3%82%aa%e3%83%bc%e3%83%a9%e6%92%ae%e5%bd%b1%ef%bc%8b%e3%81%b8%e3%81%9d%e3%83%92%e3%83%bc%e3%83%aa%e3%83%b3%e3%82%b0-4/
CATEGORIES:オーラ,へそヒーリング
END:VEVENT
BEGIN:VEVENT
DTSTART;TZID=Asia/Tokyo:20171126T150000
DTEND;TZID=Asia/Tokyo:20171126T160000
DTSTAMP:20260423T142147
CREATED:20171031T121356Z
LAST-MODIFIED:20171031T121356Z
UID:1342-1511708400-1511712000@ilchibrainyoga-tsujido.com
SUMMARY:スタジオ見学＋オーラ撮影＋へそヒーリング
DESCRIPTION:ヨガ以外にもオーラ撮影やへそヒーリングなどもしています。 \n ヨガの体験をする前に、スタジオの雰囲気なども見学できます。 \n 今回は特別セット価格でオーラ撮影とへそヒーリングをいたします。 \n 体の健康チェックをした後にへそヒーリングで癒されます。 \n１時間くらいお時間いただきますのでチョットした息抜きに来てください。 \n 後日ヨガ体験が格安でできます。 \nイベントのご予約はこちら
URL:https://ilchibrainyoga-tsujido.com/event/%e3%82%b9%e3%82%bf%e3%82%b8%e3%82%aa%e8%a6%8b%e5%ad%a6%ef%bc%8b%e3%82%aa%e3%83%bc%e3%83%a9%e6%92%ae%e5%bd%b1%ef%bc%8b%e3%81%b8%e3%81%9d%e3%83%92%e3%83%bc%e3%83%aa%e3%83%b3%e3%82%b0-5/
CATEGORIES:オーラ,へそヒーリング
END:VEVENT
BEGIN:VEVENT
DTSTART;TZID=Asia/Tokyo:20171224T140000
DTEND;TZID=Asia/Tokyo:20171224T150000
DTSTAMP:20260423T142147
CREATED:20171203T125128Z
LAST-MODIFIED:20171203T125128Z
UID:1365-1514124000-1514127600@ilchibrainyoga-tsujido.com
SUMMARY:スタジオ見学＋オーラ撮影＋へそヒーリング
DESCRIPTION:ヨガ以外にもオーラ撮影やへそヒーリングなどもしています。 \n ヨガの体験をする前に、スタジオの雰囲気なども見学できます。 \n 今回は特別セット価格でオーラ撮影とへそヒーリングをいたします。 \n 体の健康チェックをした後にへそヒーリングで癒されます。 \n１時間くらいお時間いただきますのでチョットした息抜きに来てください。🎄 \n 後日ヨガ体験が格安でできます。 \nイベントのご予約はこちら
URL:https://ilchibrainyoga-tsujido.com/event/%e3%82%b9%e3%82%bf%e3%82%b8%e3%82%aa%e8%a6%8b%e5%ad%a6%ef%bc%8b%e3%82%aa%e3%83%bc%e3%83%a9%e6%92%ae%e5%bd%b1%ef%bc%8b%e3%81%b8%e3%81%9d%e3%83%92%e3%83%bc%e3%83%aa%e3%83%b3%e3%82%b0-6/
CATEGORIES:オーラ,へそヒーリング
END:VEVENT
BEGIN:VEVENT
DTSTART;TZID=Asia/Tokyo:20171224T150000
DTEND;TZID=Asia/Tokyo:20171224T160000
DTSTAMP:20260423T142147
CREATED:20171203T125428Z
LAST-MODIFIED:20171203T125428Z
UID:1367-1514127600-1514131200@ilchibrainyoga-tsujido.com
SUMMARY:スタジオ見学＋オーラ撮影＋へそヒーリング
DESCRIPTION:ヨガ以外にもオーラ撮影やへそヒーリングなどもしています。 \n ヨガの体験をする前に、スタジオの雰囲気なども見学できます。 \n 今回は特別セット価格でオーラ撮影とへそヒーリングをいたします。 \n 体の健康チェックをした後にへそヒーリングで癒されます。 \n１時間くらいお時間いただきますのでチョットした息抜きに来てください。 \n 後日ヨガ体験が格安でできます。 \nイベントのご予約はこちら
URL:https://ilchibrainyoga-tsujido.com/event/%e3%82%b9%e3%82%bf%e3%82%b8%e3%82%aa%e8%a6%8b%e5%ad%a6%ef%bc%8b%e3%82%aa%e3%83%bc%e3%83%a9%e6%92%ae%e5%bd%b1%ef%bc%8b%e3%81%b8%e3%81%9d%e3%83%92%e3%83%bc%e3%83%aa%e3%83%b3%e3%82%b0-7/
END:VEVENT
BEGIN:VEVENT
DTSTART;TZID=Asia/Tokyo:20180107T100000
DTEND;TZID=Asia/Tokyo:20180107T120000
DTSTAMP:20260423T142147
CREATED:20180104T072057Z
LAST-MODIFIED:20180104T072057Z
UID:1379-1515319200-1515326400@ilchibrainyoga-tsujido.com
SUMMARY:2018年ビギナーズのための腸ぽかぽかヨガ
DESCRIPTION:新しい年を迎え、何か始めたい方に腸ヨガがおすすめ。 \n腸は第2の心臓・第2の脳といわれているくらいその機能は消化だけではないことは \n最近の研究で知られているようになりました。 \n腸からホルモンが作られることやほかの臓器に信号をおくり体を正常にする働きがあります。 \nなので腸は、私たちの感情や体の健康にも影響を与えているということです。 \nそして、 \n私たちの（パワー）を支えているのが気エネルギー \nその気が集まる場所が丹田（下腹）です。 \n丹田を活性化すると体も心も健康になります。 \n最近、 \n腸の調子が・・・。 \n感情のコントロールが・・・・。 \n体に不調があるけど検査してもどこも悪くない・・・。とか \nそんな方は、1度体験に来てみてください。 \n1回で感じる方も多いいです。 \nほか、呼吸や瞑想、意識の持ち方も変化していきます。 \nご予約はお気軽に。相談していただければお役に立つ範囲でアドバイスいたします。 \nイベントのご予約はこちら
URL:https://ilchibrainyoga-tsujido.com/event/2018%e5%b9%b4%e3%83%93%e3%82%ae%e3%83%8a%e3%83%bc%e3%82%ba%e3%81%ae%e3%81%9f%e3%82%81%e3%81%ae%e8%85%b8%e3%81%bd%e3%81%8b%e3%81%bd%e3%81%8b%e3%83%a8%e3%82%ac/
CATEGORIES:イルチブレインヨガ体験,腸ヨガ
END:VEVENT
BEGIN:VEVENT
DTSTART;TZID=Asia/Tokyo:20180107T143000
DTEND;TZID=Asia/Tokyo:20180107T163000
DTSTAMP:20260423T142147
CREATED:20180104T072506Z
LAST-MODIFIED:20180104T125024Z
UID:1381-1515335400-1515342600@ilchibrainyoga-tsujido.com
SUMMARY:2018年ビギナーズのための腸ぽかぽかヨガ
DESCRIPTION:スタジオ見学＋腸ヨガ体験\n新しい年を迎え、何か始めたい方に腸ヨガがおすすめ。 \n腸は第2の心臓・第2の脳といわれているくらいその機能は消化だけではないことは \n最近の研究で知られているようになりました。 \n腸からホルモンが作られることやほかの臓器に信号をおくり体を正常にする働きがあります。 \nなので腸は、私たちの感情や体の健康にも影響を与えているということです。 \nそして、 \n私たちの（パワー）を支えているのが気エネルギー \nその気が集まる場所が丹田（下腹）です。 \n丹田を活性化すると体も心も健康になります。 \n最近、 \n腸の調子が・・・。 \n感情のコントロールが・・・・。 \n体に不調があるけど検査してもどこも悪くない・・・。とか \nそんな方は、1度体験に来てみてください。 \n1回で感じる方も多いいです。 \nほか、呼吸や瞑想、意識の持ち方も変化していきます。 \nご予約はお気軽に。相談していただければお役に立つ範囲でアドバイスいたします。 \nイベントのご予約はこちら
URL:https://ilchibrainyoga-tsujido.com/event/2018%e5%b9%b4%e3%83%93%e3%82%ae%e3%83%8a%e3%83%bc%e3%82%ba%e3%81%ae%e3%81%9f%e3%82%81%e3%81%ae%e8%85%b8%e3%81%bd%e3%81%8b%e3%81%bd%e3%81%8b%e3%83%a8%e3%82%ac-2/
LOCATION:イルチブレインヨガ辻堂スタジオ\, 神奈川県茅ヶ崎市浜竹２丁目２−４ 安達ビル2階\, 2530021\, 日本
CATEGORIES:イルチブレインヨガ体験,腸ヨガ
END:VEVENT
BEGIN:VEVENT
DTSTART;TZID=Asia/Tokyo:20180109T100000
DTEND;TZID=Asia/Tokyo:20180109T120000
DTSTAMP:20260423T142147
CREATED:20180104T072924Z
LAST-MODIFIED:20180104T072924Z
UID:1384-1515492000-1515499200@ilchibrainyoga-tsujido.com
SUMMARY:2018年ビギナーズのための腸ぽかぽかヨガ
DESCRIPTION:スタジオ見学＋腸ヨガ体験\n  \n新しい年を迎え、何か始めたい方に腸ヨガがおすすめ。 \n腸は第2の心臓・第2の脳といわれているくらいその機能は消化だけではないことは \n最近の研究で知られているようになりました。 \n腸からホルモンが作られることやほかの臓器に信号をおくり体を正常にする働きがあります。 \nなので腸は、私たちの感情や体の健康にも影響を与えているということです。 \nそして、 \n私たちの（パワー）を支えているのが気エネルギー \nその気が集まる場所が丹田（下腹）です。 \n丹田を活性化すると体も心も健康になります。 \n最近、 \n腸の調子が・・・。 \n感情のコントロールが・・・・。 \n体に不調があるけど検査してもどこも悪くない・・・。とか \nそんな方は、1度体験に来てみてください。 \n1回で感じる方も多いいです。 \nほか、呼吸や瞑想、意識の持ち方も変化していきます。 \nご予約はお気軽に。相談していただければお役に立つ範囲でアドバイスいたします。 \nイベントのご予約はこちら\n 
URL:https://ilchibrainyoga-tsujido.com/event/2018%e5%b9%b4%e3%83%93%e3%82%ae%e3%83%8a%e3%83%bc%e3%82%ba%e3%81%ae%e3%81%9f%e3%82%81%e3%81%ae%e8%85%b8%e3%81%bd%e3%81%8b%e3%81%bd%e3%81%8b%e3%83%a8%e3%82%ac-3/
LOCATION:イルチブレインヨガ辻堂スタジオ\, 神奈川県茅ヶ崎市浜竹２丁目２−４ 安達ビル2階\, 2530021\, 日本
CATEGORIES:イルチブレインヨガ体験,腸ヨガ
END:VEVENT
BEGIN:VEVENT
DTSTART;TZID=Asia/Tokyo:20180109T143000
DTEND;TZID=Asia/Tokyo:20180109T163000
DTSTAMP:20260423T142147
CREATED:20180104T073108Z
LAST-MODIFIED:20180104T073108Z
UID:1386-1515508200-1515515400@ilchibrainyoga-tsujido.com
SUMMARY:2018年ビギナーズのための腸ぽかぽかヨガ
DESCRIPTION:スタジオ見学＋腸ヨガ体験\n  \n新しい年を迎え、何か始めたい方に腸ヨガがおすすめ。 \n腸は第2の心臓・第2の脳といわれているくらいその機能は消化だけではないことは \n最近の研究で知られているようになりました。 \n腸からホルモンが作られることやほかの臓器に信号をおくり体を正常にする働きがあります。 \nなので腸は、私たちの感情や体の健康にも影響を与えているということです。 \nそして、 \n私たちの（パワー）を支えているのが気エネルギー \nその気が集まる場所が丹田（下腹）です。 \n丹田を活性化すると体も心も健康になります。 \n最近、 \n腸の調子が・・・。 \n感情のコントロールが・・・・。 \n体に不調があるけど検査してもどこも悪くない・・・。とか \nそんな方は、1度体験に来てみてください。 \n1回で感じる方も多いいです。 \nほか、呼吸や瞑想、意識の持ち方も変化していきます。 \nご予約はお気軽に。相談していただければお役に立つ範囲でアドバイスいたします。 \nイベントのご予約はこちら\n 
URL:https://ilchibrainyoga-tsujido.com/event/2018%e5%b9%b4%e3%83%93%e3%82%ae%e3%83%8a%e3%83%bc%e3%82%ba%e3%81%ae%e3%81%9f%e3%82%81%e3%81%ae%e8%85%b8%e3%81%bd%e3%81%8b%e3%81%bd%e3%81%8b%e3%83%a8%e3%82%ac-4/
LOCATION:イルチブレインヨガ辻堂スタジオ\, 神奈川県茅ヶ崎市浜竹２丁目２−４ 安達ビル2階\, 2530021\, 日本
CATEGORIES:イルチブレインヨガ体験,腸ヨガ
END:VEVENT
BEGIN:VEVENT
DTSTART;TZID=Asia/Tokyo:20180112T100000
DTEND;TZID=Asia/Tokyo:20180112T120000
DTSTAMP:20260423T142147
CREATED:20180104T073856Z
LAST-MODIFIED:20180104T073914Z
UID:1389-1515751200-1515758400@ilchibrainyoga-tsujido.com
SUMMARY:2018年ビギナーズのための腸ぽかぽかヨガ
DESCRIPTION:スタジオ見学＋腸ヨガ体験\n新しい年を迎え、何か始めたい方に腸ヨガがおすすめ。 \n腸は第2の心臓・第2の脳といわれているくらいその機能は消化だけではないことは \n最近の研究で知られているようになりました。 \n腸からホルモンが作られることやほかの臓器に信号をおくり体を正常にする働きがあります。 \nなので腸は、私たちの感情や体の健康にも影響を与えているということです。 \nそして、 \n私たちの（パワー）を支えているのが気エネルギー \nその気が集まる場所が丹田（下腹）です。 \n丹田を活性化すると体も心も健康になります。 \n最近、 \n腸の調子が・・・。 \n感情のコントロールが・・・・。 \n体に不調があるけど検査してもどこも悪くない・・・。とか \nそんな方は、1度体験に来てみてください。 \n1回で感じる方も多いいです。 \nほか、呼吸や瞑想、意識の持ち方も変化していきます。 \nご予約はお気軽に。相談していただければお役に立つ範囲でアドバイスいたします。 \nイベントのご予約はこちら\n 
URL:https://ilchibrainyoga-tsujido.com/event/2018%e5%b9%b4%e3%83%93%e3%82%ae%e3%83%8a%e3%83%bc%e3%82%ba%e3%81%ae%e3%81%9f%e3%82%81%e3%81%ae%e8%85%b8%e3%81%bd%e3%81%8b%e3%81%bd%e3%81%8b%e3%83%a8%e3%82%ac-5/
LOCATION:イルチブレインヨガ辻堂スタジオ\, 神奈川県茅ヶ崎市浜竹２丁目２−４ 安達ビル2階\, 2530021\, 日本
CATEGORIES:イルチブレインヨガ体験,腸ヨガ
END:VEVENT
BEGIN:VEVENT
DTSTART;TZID=Asia/Tokyo:20180112T143000
DTEND;TZID=Asia/Tokyo:20180112T163000
DTSTAMP:20260423T142147
CREATED:20180104T074037Z
LAST-MODIFIED:20180104T124843Z
UID:1392-1515767400-1515774600@ilchibrainyoga-tsujido.com
SUMMARY:2018年ビギナーズのための腸ぽかぽかヨガ
DESCRIPTION:スタジオ見学＋腸ヨガ体験\n新しい年を迎え、何か始めたい方に腸ヨガがおすすめ。 \n腸は第2の心臓・第2の脳といわれているくらいその機能は消化だけではないことは \n最近の研究で知られているようになりました。 \n腸からホルモンが作られることやほかの臓器に信号をおくり体を正常にする働きがあります。 \nなので腸は、私たちの感情や体の健康にも影響を与えているということです。 \nそして、 \n私たちの（パワー）を支えているのが気エネルギー \nその気が集まる場所が丹田（下腹）です。 \n丹田を活性化すると体も心も健康になります。 \n最近、 \n腸の調子が・・・。 \n感情のコントロールが・・・・。 \n体に不調があるけど検査してもどこも悪くない・・・。とか \nそんな方は、1度体験に来てみてください。 \n1回で感じる方も多いいです。 \nほか、呼吸や瞑想、意識の持ち方も変化していきます。 \nご予約はお気軽に。相談していただければお役に立つ範囲でアドバイスいたします。 \nイベントのご予約はこちら
URL:https://ilchibrainyoga-tsujido.com/event/2018%e5%b9%b4%e3%83%93%e3%82%ae%e3%83%8a%e3%83%bc%e3%82%ba%e3%81%ae%e3%81%9f%e3%82%81%e3%81%ae%e8%85%b8%e3%81%bd%e3%81%8b%e3%81%bd%e3%81%8b%e3%83%a8%e3%82%ac-6/
LOCATION:イルチブレインヨガ辻堂スタジオ\, 神奈川県茅ヶ崎市浜竹２丁目２−４ 安達ビル2階\, 2530021\, 日本
CATEGORIES:イルチブレインヨガ体験,腸ヨガ
END:VEVENT
BEGIN:VEVENT
DTSTART;TZID=Asia/Tokyo:20180114T100000
DTEND;TZID=Asia/Tokyo:20180114T120000
DTSTAMP:20260423T142147
CREATED:20180104T074242Z
LAST-MODIFIED:20180104T074343Z
UID:1394-1515924000-1515931200@ilchibrainyoga-tsujido.com
SUMMARY:2018年ビギナーズのための腸ぽかぽかヨガ
DESCRIPTION:スタジオ見学＋腸ヨガ体験\n新しい年を迎え、何か始めたい方に腸ヨガがおすすめ。 \n腸は第2の心臓・第2の脳といわれているくらいその機能は消化だけではないことは \n最近の研究で知られているようになりました。 \n腸からホルモンが作られることやほかの臓器に信号をおくり体を正常にする働きがあります。 \nなので腸は、私たちの感情や体の健康にも影響を与えているということです。 \nそして、 \n私たちの（パワー）を支えているのが気エネルギー \nその気が集まる場所が丹田（下腹）です。 \n丹田を活性化すると体も心も健康になります。 \n最近、 \n腸の調子が・・・。 \n感情のコントロールが・・・・。 \n体に不調があるけど検査してもどこも悪くない・・・。とか \nそんな方は、1度体験に来てみてください。 \n1回で感じる方も多いいです。 \nほか、呼吸や瞑想、意識の持ち方も変化していきます。 \nご予約はお気軽に。相談していただければお役に立つ範囲でアドバイスいたします。 \nイベントのご予約はこちら
URL:https://ilchibrainyoga-tsujido.com/event/2018%e5%b9%b4%e3%83%93%e3%82%ae%e3%83%8a%e3%83%bc%e3%82%ba%e3%81%ae%e3%81%9f%e3%82%81%e3%81%ae%e8%85%b8%e3%81%bd%e3%81%8b%e3%81%bd%e3%81%8b%e3%83%a8%e3%82%ac-7/
LOCATION:イルチブレインヨガ辻堂スタジオ\, 神奈川県茅ヶ崎市浜竹２丁目２−４ 安達ビル2階\, 2530021\, 日本
CATEGORIES:イルチブレインヨガ体験,腸ヨガ
END:VEVENT
BEGIN:VEVENT
DTSTART;TZID=Asia/Tokyo:20180114T143000
DTEND;TZID=Asia/Tokyo:20180114T163000
DTSTAMP:20260423T142147
CREATED:20180104T124717Z
LAST-MODIFIED:20180104T124717Z
UID:1405-1515940200-1515947400@ilchibrainyoga-tsujido.com
SUMMARY:2018年ビギナーズのための腸ぽかぽかヨガ
DESCRIPTION:スタジオ見学＋腸ヨガ体験 \n新しい年を迎え、何か始めたい方に腸ヨガがおすすめ。 \n腸は第2の心臓・第2の脳といわれているくらいその機能は消化だけではないことは \n最近の研究で知られているようになりました。 \n腸からホルモンが作られることやほかの臓器に信号をおくり体を正常にする働きがあります。 \nなので腸は、私たちの感情や体の健康にも影響を与えているということです。 \nそして、 \n私たちの（パワー）を支えているのが気エネルギー！ \nその気が集まる場所が丹田（下腹）です。 \n丹田を活性化すると体も心も健康になります。 \n最近、 \n腸の調子が・・・。 \n感情のコントロールが・・・・。 \n体に不調があるけど検査してもどこも悪くない・・・。とか \nそんな方は、1度体験に来てみてください。 \n1回で感じる方も多いいです。 \nほか、呼吸や瞑想、意識の持ち方も変化していきます。 \nご予約はお気軽に。相談していただければお役に立つ範囲でアドバイスいたします。 \nイベントのご予約はこちら
URL:https://ilchibrainyoga-tsujido.com/event/2018%e5%b9%b4%e3%83%93%e3%82%ae%e3%83%8a%e3%83%bc%e3%82%ba%e3%81%ae%e3%81%9f%e3%82%81%e3%81%ae%e8%85%b8%e3%81%bd%e3%81%8b%e3%81%bd%e3%81%8b%e3%83%a8%e3%82%ac-8/
LOCATION:イルチブレインヨガ辻堂スタジオ\, 神奈川県茅ヶ崎市浜竹２丁目２−４ 安達ビル2階\, 2530021\, 日本
CATEGORIES:イルチブレインヨガ体験,腸ヨガ
END:VEVENT
BEGIN:VEVENT
DTSTART;TZID=Asia/Tokyo:20180117T100000
DTEND;TZID=Asia/Tokyo:20180117T120000
DTSTAMP:20260423T142148
CREATED:20180104T125310Z
LAST-MODIFIED:20180104T125531Z
UID:1407-1516183200-1516190400@ilchibrainyoga-tsujido.com
SUMMARY:ビギナーズのための腸ぽかぽかヨガ
DESCRIPTION:スタジオ見学＋腸ヨガ体験\n新しい年を迎え、何か始めたい方に腸ヨガがおすすめ。 \n腸は第2の心臓・第2の脳といわれているくらいその機能は消化だけではないことは \n最近の研究で知られているようになりました。 \n腸からホルモンが作られることやほかの臓器に信号をおくり体を正常にする働きがあります。 \nなので腸は、私たちの感情や体の健康にも影響を与えているということです。 \nそして、 \n私たちの（パワー）を支えているのが気エネルギー \nその気が集まる場所が丹田（下腹）です。 \n丹田を活性化すると体も心も健康になります。 \n最近、 \n腸の調子が・・・。 \n感情のコントロールが・・・・。 \n体に不調があるけど検査してもどこも悪くない・・・。とか \nそんな方は、1度体験に来てみてください。 \n1回で感じる方も多いいです。\nほか、呼吸や瞑想、意識の持ち方も変化していきます。 \nご予約はお気軽に。相談していただければお役に立つ範囲でアドバイスいたします。 \nイベントのご予約はこちら
URL:https://ilchibrainyoga-tsujido.com/event/%e3%83%93%e3%82%ae%e3%83%8a%e3%83%bc%e3%82%ba%e3%81%ae%e3%81%9f%e3%82%81%e3%81%ae%e8%85%b8%e3%81%bd%e3%81%8b%e3%81%bd%e3%81%8b%e3%83%a8%e3%82%ac/
LOCATION:イルチブレインヨガ辻堂スタジオ\, 神奈川県茅ヶ崎市浜竹２丁目２−４ 安達ビル2階\, 2530021\, 日本
CATEGORIES:イルチブレインヨガ体験,腸ヨガ
END:VEVENT
BEGIN:VEVENT
DTSTART;TZID=Asia/Tokyo:20180117T143000
DTEND;TZID=Asia/Tokyo:20180117T163000
DTSTAMP:20260423T142148
CREATED:20180104T125445Z
LAST-MODIFIED:20180104T125445Z
UID:1409-1516199400-1516206600@ilchibrainyoga-tsujido.com
SUMMARY:ビギナーズのための腸ぽかぽかヨガ
DESCRIPTION:スタジオ見学＋腸ヨガ体験\n新しい年を迎え、何か始めたい方に腸ヨガがおすすめ。 \n腸は第2の心臓・第2の脳といわれているくらいその機能は消化だけではないことは \n最近の研究で知られているようになりました。 \n腸からホルモンが作られることやほかの臓器に信号をおくり体を正常にする働きがあります。 \nなので腸は、私たちの感情や体の健康にも影響を与えているということです。 \nそして、 \n私たちの（パワー）を支えているのが気エネルギー \nその気が集まる場所が丹田（下腹）です。 \n丹田を活性化すると体も心も健康になります。 \n最近、 \n腸の調子が・・・。 \n感情のコントロールが・・・・。 \n体に不調があるけど検査してもどこも悪くない・・・。とか \nそんな方は、1度体験に来てみてください。 \n1回で感じる方も多いいです。 \nほか、呼吸や瞑想、意識の持ち方も変化していきます。 \nご予約はお気軽に。相談していただければお役に立つ範囲でアドバイスいたします。 \nイベントのご予約はこちら
URL:https://ilchibrainyoga-tsujido.com/event/%e3%83%93%e3%82%ae%e3%83%8a%e3%83%bc%e3%82%ba%e3%81%ae%e3%81%9f%e3%82%81%e3%81%ae%e8%85%b8%e3%81%bd%e3%81%8b%e3%81%bd%e3%81%8b%e3%83%a8%e3%82%ac-2/
LOCATION:イルチブレインヨガ辻堂スタジオ\, 神奈川県茅ヶ崎市浜竹２丁目２−４ 安達ビル2階\, 2530021\, 日本
END:VEVENT
BEGIN:VEVENT
DTSTART;TZID=Asia/Tokyo:20180215T023000
DTEND;TZID=Asia/Tokyo:20180215T163000
DTSTAMP:20260423T142148
CREATED:20180214T115247Z
LAST-MODIFIED:20180214T115247Z
UID:1431-1518661800-1518712200@ilchibrainyoga-tsujido.com
SUMMARY:腸と脳のヨガ　ビギナーズ体験講座　～呼吸・瞑想～
DESCRIPTION:腸と脳は密接な関係でつながっています。 \n腸を健康にすると脳が元気になり、脳が元気になると腸も元気になります。 \n腸と脳のヨガではこんな効果があります。 \n　5つの特徴\n１、腸がほぐれ活性化 \n２、腹式呼吸でリラックス \n３、体温上がって免疫力アップ \n４、体が硬くてもできる \n５、年齢性別関係ありません
URL:https://ilchibrainyoga-tsujido.com/event/%e8%85%b8%e3%81%a8%e8%84%b3%e3%81%ae%e3%83%a8%e3%82%ac%e3%80%80%e3%83%93%e3%82%ae%e3%83%8a%e3%83%bc%e3%82%ba%e4%bd%93%e9%a8%93%e8%ac%9b%e5%ba%a7%e3%80%80%ef%bd%9e%e5%91%bc%e5%90%b8%e3%83%bb%e7%9e%91/
LOCATION:イルチブレインヨガ辻堂スタジオ\, 神奈川県茅ヶ崎市浜竹２丁目２−４ 安達ビル2階\, 2530021\, 日本
CATEGORIES:イルチブレインヨガ体験,腸ヨガ
END:VEVENT
BEGIN:VEVENT
DTSTART;TZID=Asia/Tokyo:20180217T100000
DTEND;TZID=Asia/Tokyo:20180217T120000
DTSTAMP:20260423T142148
CREATED:20180214T115604Z
LAST-MODIFIED:20180214T115604Z
UID:1433-1518861600-1518868800@ilchibrainyoga-tsujido.com
SUMMARY:腸と脳のヨガ　ビギナーズ体験講座　～呼吸・瞑想～
DESCRIPTION:腸と脳は密接な関係でつながっています。 \n腸を健康にすると脳が元気になり、脳が元気になると腸も元気になります。 \n腸と脳のヨガではこんな効果があります。 \n　5つの特徴 \n１、腸がほぐれ活性化 \n２、腹式呼吸でリラックス \n３、体温上がって免疫力アップ \n４、体が硬くてもできる \n５、年齢性別関係ありません \nイベントのご予約はこちら
URL:https://ilchibrainyoga-tsujido.com/event/%e8%85%b8%e3%81%a8%e8%84%b3%e3%81%ae%e3%83%a8%e3%82%ac%e3%80%80%e3%83%93%e3%82%ae%e3%83%8a%e3%83%bc%e3%82%ba%e4%bd%93%e9%a8%93%e8%ac%9b%e5%ba%a7%e3%80%80%ef%bd%9e%e5%91%bc%e5%90%b8%e3%83%bb%e7%9e%91-2/
LOCATION:イルチブレインヨガ辻堂スタジオ\, 神奈川県茅ヶ崎市浜竹２丁目２−４ 安達ビル2階\, 2530021\, 日本
CATEGORIES:イルチブレインヨガ体験,腸ヨガ
END:VEVENT
BEGIN:VEVENT
DTSTART;TZID=Asia/Tokyo:20180220T143000
DTEND;TZID=Asia/Tokyo:20180220T163000
DTSTAMP:20260423T142148
CREATED:20180214T115732Z
LAST-MODIFIED:20180214T115745Z
UID:1435-1519137000-1519144200@ilchibrainyoga-tsujido.com
SUMMARY:腸と脳のヨガ　ビギナーズ体験講座　～呼吸・瞑想～
DESCRIPTION:腸と脳は密接な関係でつながっています。 \n腸を健康にすると脳が元気になり、脳が元気になると腸も元気になります。 \n腸と脳のヨガではこんな効果があります。 \n　5つの特徴 \n１、腸がほぐれ活性化 \n２、腹式呼吸でリラックス \n３、体温上がって免疫力アップ \n４、体が硬くてもできる \n５、年齢性別関係ありません \nイベントのご予約はこちら
URL:https://ilchibrainyoga-tsujido.com/event/%e8%85%b8%e3%81%a8%e8%84%b3%e3%81%ae%e3%83%a8%e3%82%ac%e3%80%80%e3%83%93%e3%82%ae%e3%83%8a%e3%83%bc%e3%82%ba%e4%bd%93%e9%a8%93%e8%ac%9b%e5%ba%a7%e3%80%80%ef%bd%9e%e5%91%bc%e5%90%b8%e3%83%bb%e7%9e%91-3/
LOCATION:イルチブレインヨガ辻堂スタジオ\, 神奈川県茅ヶ崎市浜竹２丁目２−４ 安達ビル2階\, 2530021\, 日本
CATEGORIES:イルチブレインヨガ体験,腸ヨガ
END:VEVENT
BEGIN:VEVENT
DTSTART;TZID=Asia/Tokyo:20180221T100000
DTEND;TZID=Asia/Tokyo:20180221T120000
DTSTAMP:20260423T142148
CREATED:20180214T120050Z
LAST-MODIFIED:20180214T120050Z
UID:1438-1519207200-1519214400@ilchibrainyoga-tsujido.com
SUMMARY:腸と脳のヨガ　ビギナーズ体験講座　～呼吸・瞑想～
DESCRIPTION:腸と脳は密接な関係でつながっています。 \n腸を健康にすると脳が元気になり、脳が元気になると腸も元気になります。 \n腸と脳のヨガではこんな効果があります。 \n　5つの特徴 \n１、腸がほぐれ活性化 \n２、腹式呼吸でリラックス \n３、体温上がって免疫力アップ \n４、体が硬くてもできる \n５、年齢性別関係ありません \nイベントのご予約はこちら
URL:https://ilchibrainyoga-tsujido.com/event/%e8%85%b8%e3%81%a8%e8%84%b3%e3%81%ae%e3%83%a8%e3%82%ac%e3%80%80%e3%83%93%e3%82%ae%e3%83%8a%e3%83%bc%e3%82%ba%e4%bd%93%e9%a8%93%e8%ac%9b%e5%ba%a7%e3%80%80%ef%bd%9e%e5%91%bc%e5%90%b8%e3%83%bb%e7%9e%91-4/
LOCATION:イルチブレインヨガ辻堂スタジオ\, 神奈川県茅ヶ崎市浜竹２丁目２−４ 安達ビル2階\, 2530021\, 日本
CATEGORIES:イルチブレインヨガ体験,腸ヨガ
END:VEVENT
BEGIN:VEVENT
DTSTART;TZID=Asia/Tokyo:20180222T143000
DTEND;TZID=Asia/Tokyo:20180222T163000
DTSTAMP:20260423T142148
CREATED:20180214T120221Z
LAST-MODIFIED:20180214T120240Z
UID:1440-1519309800-1519317000@ilchibrainyoga-tsujido.com
SUMMARY:腸と脳のヨガ　ビギナーズ体験講座　～呼吸・瞑想～
DESCRIPTION:腸と脳は密接な関係でつながっています。 \n腸を健康にすると脳が元気になり、脳が元気になると腸も元気になります。 \n腸と脳のヨガではこんな効果があります。 \n　5つの特徴 \n１、腸がほぐれ活性化 \n２、腹式呼吸でリラックス \n３、体温上がって免疫力アップ \n４、体が硬くてもできる \n５、年齢性別関係ありません \nイベントのご予約はこちら
URL:https://ilchibrainyoga-tsujido.com/event/%e8%85%b8%e3%81%a8%e8%84%b3%e3%81%ae%e3%83%a8%e3%82%ac%e3%80%80%e3%83%93%e3%82%ae%e3%83%8a%e3%83%bc%e3%82%ba%e4%bd%93%e9%a8%93%e8%ac%9b%e5%ba%a7%e3%80%80%ef%bd%9e%e5%91%bc%e5%90%b8%e3%83%bb%e7%9e%91-5/
LOCATION:イルチブレインヨガ辻堂スタジオ\, 神奈川県茅ヶ崎市浜竹２丁目２−４ 安達ビル2階\, 2530021\, 日本
CATEGORIES:イルチブレインヨガ体験,腸ヨガ
END:VEVENT
BEGIN:VEVENT
DTSTART;TZID=Asia/Tokyo:20180225T100000
DTEND;TZID=Asia/Tokyo:20180225T120000
DTSTAMP:20260423T142148
CREATED:20180214T120436Z
LAST-MODIFIED:20180214T120436Z
UID:1443-1519552800-1519560000@ilchibrainyoga-tsujido.com
SUMMARY:腸と脳のヨガ　ビギナーズ体験講座　～呼吸・瞑想～
DESCRIPTION:腸と脳は密接な関係でつながっています。 \n腸を健康にすると脳が元気になり、脳が元気になると腸も元気になります。 \n腸と脳のヨガではこんな効果があります。 \n　5つの特徴 \n１、腸がほぐれ活性化 \n２、腹式呼吸でリラックス \n３、体温上がって免疫力アップ \n４、体が硬くてもできる \n５、年齢性別関係ありません \nイベントのご予約はこちら
URL:https://ilchibrainyoga-tsujido.com/event/%e8%85%b8%e3%81%a8%e8%84%b3%e3%81%ae%e3%83%a8%e3%82%ac%e3%80%80%e3%83%93%e3%82%ae%e3%83%8a%e3%83%bc%e3%82%ba%e4%bd%93%e9%a8%93%e8%ac%9b%e5%ba%a7%e3%80%80%ef%bd%9e%e5%91%bc%e5%90%b8%e3%83%bb%e7%9e%91-6/
LOCATION:イルチブレインヨガ辻堂スタジオ\, 神奈川県茅ヶ崎市浜竹２丁目２−４ 安達ビル2階\, 2530021\, 日本
CATEGORIES:イルチブレインヨガ体験,腸ヨガ
END:VEVENT
BEGIN:VEVENT
DTSTART;TZID=Asia/Tokyo:20180227T143000
DTEND;TZID=Asia/Tokyo:20180227T163000
DTSTAMP:20260423T142148
CREATED:20180214T120603Z
LAST-MODIFIED:20180214T120603Z
UID:1445-1519741800-1519749000@ilchibrainyoga-tsujido.com
SUMMARY:腸と脳のヨガ　ビギナーズ体験講座　～呼吸・瞑想～
DESCRIPTION:腸と脳は密接な関係でつながっています。 \n腸を健康にすると脳が元気になり、脳が元気になると腸も元気になります。 \n腸と脳のヨガではこんな効果があります。 \n　5つの特徴 \n１、腸がほぐれ活性化 \n２、腹式呼吸でリラックス \n３、体温上がって免疫力アップ \n４、体が硬くてもできる \n５、年齢性別関係ありません \nイベントのご予約はこちら
URL:https://ilchibrainyoga-tsujido.com/event/%e8%85%b8%e3%81%a8%e8%84%b3%e3%81%ae%e3%83%a8%e3%82%ac%e3%80%80%e3%83%93%e3%82%ae%e3%83%8a%e3%83%bc%e3%82%ba%e4%bd%93%e9%a8%93%e8%ac%9b%e5%ba%a7%e3%80%80%ef%bd%9e%e5%91%bc%e5%90%b8%e3%83%bb%e7%9e%91-7/
LOCATION:イルチブレインヨガ辻堂スタジオ\, 神奈川県茅ヶ崎市浜竹２丁目２−４ 安達ビル2階\, 2530021\, 日本
CATEGORIES:イルチブレインヨガ体験,腸ヨガ
END:VEVENT
END:VCALENDAR