BEGIN:VCALENDAR
VERSION:2.0
PRODID:-//【湘南茅ヶ崎 平塚 藤沢ヨガ】イルチブレインヨガ辻堂スタジオ｜辻堂駅南口より徒歩8分 体と心と脳のヨガ - ECPv6.15.20//NONSGML v1.0//EN
CALSCALE:GREGORIAN
METHOD:PUBLISH
X-ORIGINAL-URL:https://ilchibrainyoga-tsujido.com
X-WR-CALDESC:【湘南茅ヶ崎 平塚 藤沢ヨガ】イルチブレインヨガ辻堂スタジオ｜辻堂駅南口より徒歩8分 体と心と脳のヨガ のイベント
REFRESH-INTERVAL;VALUE=DURATION:PT1H
X-Robots-Tag:noindex
X-PUBLISHED-TTL:PT1H
BEGIN:VTIMEZONE
TZID:Asia/Tokyo
BEGIN:STANDARD
TZOFFSETFROM:+0900
TZOFFSETTO:+0900
TZNAME:JST
DTSTART:20130101T000000
END:STANDARD
END:VTIMEZONE
BEGIN:VEVENT
DTSTART;TZID=Asia/Tokyo:20140904T143000
DTEND;TZID=Asia/Tokyo:20140904T163000
DTSTAMP:20260425T104345
CREATED:20140902T043306Z
LAST-MODIFIED:20140902T043945Z
UID:148-1409841000-1409848200@ilchibrainyoga-tsujido.com
SUMMARY:9月4日はヨガの日
DESCRIPTION:4日はヨガの日 \nクラス体験が、通常3000円→500円 \nオーラ撮影したい方は、＋500円でお撮りします。 \n  \nevent-button
URL:https://ilchibrainyoga-tsujido.com/event/9%e6%9c%884%e6%97%a5%e3%81%af%e3%83%a8%e3%82%ac%e3%81%ae%e6%97%a5/
LOCATION:イルチブレインヨガ辻堂スタジオ\, 神奈川県茅ヶ崎市浜竹２丁目２−４ 安達ビル2階\, 2530021\, 日本
END:VEVENT
BEGIN:VEVENT
DTSTART;TZID=Asia/Tokyo:20140904T190000
DTEND;TZID=Asia/Tokyo:20140904T210000
DTSTAMP:20260425T104345
CREATED:20140902T043425Z
LAST-MODIFIED:20140902T043758Z
UID:149-1409857200-1409864400@ilchibrainyoga-tsujido.com
SUMMARY:9月4日はヨガの日
DESCRIPTION:4日はヨガの日 \nクラス体験が、通常3000円→500円 \nオーラ撮影したい方は、＋500円でお撮りします。 \nevent-button
URL:https://ilchibrainyoga-tsujido.com/event/9%e6%9c%884%e6%97%a5%e3%81%af%e3%83%a8%e3%82%ac%e3%81%ae%e6%97%a5-2/
LOCATION:イルチブレインヨガ辻堂スタジオ\, 神奈川県茅ヶ崎市浜竹２丁目２−４ 安達ビル2階\, 2530021\, 日本
END:VEVENT
BEGIN:VEVENT
DTSTART;TZID=Asia/Tokyo:20140924T143000
DTEND;TZID=Asia/Tokyo:20140924T163000
DTSTAMP:20260425T104345
CREATED:20140923T001459Z
LAST-MODIFIED:20140923T001607Z
UID:164-1411569000-1411576200@ilchibrainyoga-tsujido.com
SUMMARY:4日のつく日はヨガの日
DESCRIPTION:4日のつく日はヨガの日 \nクラス体験が、通常3000円→1000円 \n  \n  \n  \nイベントのご予約はこちら
URL:https://ilchibrainyoga-tsujido.com/event/4%e6%97%a5%e3%81%ae%e3%81%a4%e3%81%8f%e6%97%a5%e3%81%af%e3%83%a8%e3%82%ac%e3%81%ae%e6%97%a5/
LOCATION:イルチブレインヨガ辻堂スタジオ\, 神奈川県茅ヶ崎市浜竹２丁目２−４ 安達ビル2階\, 2530021\, 日本
END:VEVENT
BEGIN:VEVENT
DTSTART;TZID=Asia/Tokyo:20140927T143000
DTEND;TZID=Asia/Tokyo:20140927T163000
DTSTAMP:20260425T104345
CREATED:20140908T070606Z
LAST-MODIFIED:20140912T224929Z
UID:155-1411828200-1411835400@ilchibrainyoga-tsujido.com
SUMMARY:きっと大丈夫セミナー
DESCRIPTION:＊きっと大丈夫セミナー＊\n～ツボを開くOpen Heartトレーニング～ \n私たちの体には365個ものツボがあるのをご存知ですか？\nツボが開けば心と体が元気になります！ご自分のための癒しの時間を過ごしませんか？ \n内容：・心と体が元気になる原理の説明\n・ツボを開く簡単トレーニング\n・エッセンシャルオイルを使ってセルフヒーリング\nイベントのご予約はこちら
URL:https://ilchibrainyoga-tsujido.com/event/%e3%81%8d%e3%81%a3%e3%81%a8%e5%a4%a7%e4%b8%88%e5%a4%ab%e3%82%bb%e3%83%9f%e3%83%8a%e3%83%bc/
LOCATION:イルチブレインヨガ辻堂スタジオ\, 神奈川県茅ヶ崎市浜竹２丁目２−４ 安達ビル2階\, 2530021\, 日本
END:VEVENT
END:VCALENDAR