BEGIN:VCALENDAR
VERSION:2.0
PRODID:-//【湘南茅ヶ崎 平塚 藤沢ヨガ】イルチブレインヨガ辻堂スタジオ｜辻堂駅南口より徒歩8分 体と心と脳のヨガ - ECPv6.15.20//NONSGML v1.0//EN
CALSCALE:GREGORIAN
METHOD:PUBLISH
X-ORIGINAL-URL:https://ilchibrainyoga-tsujido.com
X-WR-CALDESC:【湘南茅ヶ崎 平塚 藤沢ヨガ】イルチブレインヨガ辻堂スタジオ｜辻堂駅南口より徒歩8分 体と心と脳のヨガ のイベント
REFRESH-INTERVAL;VALUE=DURATION:PT1H
X-Robots-Tag:noindex
X-PUBLISHED-TTL:PT1H
BEGIN:VTIMEZONE
TZID:Asia/Tokyo
BEGIN:STANDARD
TZOFFSETFROM:+0900
TZOFFSETTO:+0900
TZNAME:JST
DTSTART:20140101T000000
END:STANDARD
END:VTIMEZONE
BEGIN:VEVENT
DTSTART;TZID=Asia/Tokyo:20150201T140000
DTEND;TZID=Asia/Tokyo:20150201T160000
DTSTAMP:20260425T041851
CREATED:20150126T072842Z
LAST-MODIFIED:20150126T072842Z
UID:302-1422799200-1422806400@ilchibrainyoga-tsujido.com
SUMMARY:超すっきり！腸デトックス運動体験会
DESCRIPTION:あなたのぽっこりお腹、それ…脂肪ではなく腸のガスかもしれません！腸を動かす１０のポーズで手足の先までぽかぽか温かくなる体験をしてみませんか？腸に位置する「丹田」は元気の源。腸が元気になると、腰痛改善、むくみスッキリ、冷え改善、お肌つやつや、メンタル強化にも！腸は健康のバロメーターです。 \nチンして何度でも！赤外線でじんわり温か♥体験会当日のご入会で黄土パック（2\,000円相当）プレゼント \nイベントのご予約はこちら
URL:https://ilchibrainyoga-tsujido.com/event/%e8%b6%85%e3%81%99%e3%81%a3%e3%81%8d%e3%82%8a%ef%bc%81%e8%85%b8%e3%83%87%e3%83%88%e3%83%83%e3%82%af%e3%82%b9%e9%81%8b%e5%8b%95%e4%bd%93%e9%a8%93%e4%bc%9a-5/
LOCATION:イルチブレインヨガ辻堂スタジオ\, 神奈川県茅ヶ崎市浜竹２丁目２−４ 安達ビル2階\, 2530021\, 日本
END:VEVENT
BEGIN:VEVENT
DTSTART;TZID=Asia/Tokyo:20150201T170000
DTEND;TZID=Asia/Tokyo:20150201T190000
DTSTAMP:20260425T041851
CREATED:20150126T073155Z
LAST-MODIFIED:20150126T073155Z
UID:304-1422810000-1422817200@ilchibrainyoga-tsujido.com
SUMMARY:超すっきり！腸デトックス運動体験会
DESCRIPTION:あなたのぽっこりお腹、それ…脂肪ではなく腸のガスかもしれません！腸を動かす１０のポーズで手足の先までぽかぽか温かくなる体験をしてみませんか？腸に位置する「丹田」は元気の源。腸が元気になると、腰痛改善、むくみスッキリ、冷え改善、お肌つやつや、メンタル強化にも！腸は健康のバロメーターです。 \nチンして何度でも！赤外線でじんわり温か♥体験会当日のご入会で黄土パック（2\,000円相当）プレゼント \nイベントのご予約はこちら\n 
URL:https://ilchibrainyoga-tsujido.com/event/%e8%b6%85%e3%81%99%e3%81%a3%e3%81%8d%e3%82%8a%ef%bc%81%e8%85%b8%e3%83%87%e3%83%88%e3%83%83%e3%82%af%e3%82%b9%e9%81%8b%e5%8b%95%e4%bd%93%e9%a8%93%e4%bc%9a-6/
LOCATION:イルチブレインヨガ辻堂スタジオ\, 神奈川県茅ヶ崎市浜竹２丁目２−４ 安達ビル2階\, 2530021\, 日本
END:VEVENT
BEGIN:VEVENT
DTSTART;TZID=Asia/Tokyo:20150204T100000
DTEND;TZID=Asia/Tokyo:20150204T120000
DTSTAMP:20260425T041851
CREATED:20150126T075400Z
LAST-MODIFIED:20150126T075400Z
UID:307-1423044000-1423051200@ilchibrainyoga-tsujido.com
SUMMARY:４・８のつく日はヨガの日
DESCRIPTION:ヨガが体と心をつなげるという意味があります。 \n質のよい、呼吸と瞑想でその効果があらわれます。 \nトレーニングでは、体をよくほぐしてあげて、複式呼吸が自然にできるようにします。 \nイルチブレインヨガでは、脳科学と東洋医学融合した画期的なヨガ。 \nその効果が世界的にも認められています。 \n飽きずに、健康つくりにも役立つ脳活性ヨガ。 \n体験費がお安いに日体験してみませんか？ \nイベントのご予約はこちら\n  \n  \n  \n  \n  \n  \n 
URL:https://ilchibrainyoga-tsujido.com/event/%ef%bc%94%e3%83%bb%ef%bc%98%e3%81%ae%e3%81%a4%e3%81%8f%e6%97%a5%e3%81%af%e3%83%a8%e3%82%ac%e3%81%ae%e6%97%a5-15/
LOCATION:イルチブレインヨガ辻堂スタジオ\, 神奈川県茅ヶ崎市浜竹２丁目２−４ 安達ビル2階\, 2530021\, 日本
END:VEVENT
BEGIN:VEVENT
DTSTART;TZID=Asia/Tokyo:20150204T143000
DTEND;TZID=Asia/Tokyo:20150204T163000
DTSTAMP:20260425T041851
CREATED:20150126T073359Z
LAST-MODIFIED:20150126T073359Z
UID:305-1423060200-1423067400@ilchibrainyoga-tsujido.com
SUMMARY:超すっきり！腸デトックス運動体験会
DESCRIPTION:あなたのぽっこりお腹、それ…脂肪ではなく腸のガスかもしれません！腸を動かす１０のポーズで手足の先までぽかぽか温かくなる体験をしてみませんか？腸に位置する「丹田」は元気の源。腸が元気になると、腰痛改善、むくみスッキリ、冷え改善、お肌つやつや、メンタル強化にも！腸は健康のバロメーターです。 \nチンして何度でも！赤外線でじんわり温か♥体験会当日のご入会で黄土パック（2\,000円相当）プレゼント \nイベントのご予約はこちら\n 
URL:https://ilchibrainyoga-tsujido.com/event/%e8%b6%85%e3%81%99%e3%81%a3%e3%81%8d%e3%82%8a%ef%bc%81%e8%85%b8%e3%83%87%e3%83%88%e3%83%83%e3%82%af%e3%82%b9%e9%81%8b%e5%8b%95%e4%bd%93%e9%a8%93%e4%bc%9a-7/
LOCATION:イルチブレインヨガ辻堂スタジオ\, 神奈川県茅ヶ崎市浜竹２丁目２−４ 安達ビル2階\, 2530021\, 日本
END:VEVENT
BEGIN:VEVENT
DTSTART;TZID=Asia/Tokyo:20150204T190000
DTEND;TZID=Asia/Tokyo:20150204T210000
DTSTAMP:20260425T041851
CREATED:20150126T073612Z
LAST-MODIFIED:20150126T073612Z
UID:306-1423076400-1423083600@ilchibrainyoga-tsujido.com
SUMMARY:超すっきり！腸デトックス運動体験会
DESCRIPTION:あなたのぽっこりお腹、それ…脂肪ではなく腸のガスかもしれません！腸を動かす１０のポーズで手足の先までぽかぽか温かくなる体験をしてみませんか？腸に位置する「丹田」は元気の源。腸が元気になると、腰痛改善、むくみスッキリ、冷え改善、お肌つやつや、メンタル強化にも！腸は健康のバロメーターです。 \nチンして何度でも！赤外線でじんわり温か♥体験会当日のご入会で黄土パック（2\,000円相当）プレゼント \nイベントのご予約はこちら\n 
URL:https://ilchibrainyoga-tsujido.com/event/%e8%b6%85%e3%81%99%e3%81%a3%e3%81%8d%e3%82%8a%ef%bc%81%e8%85%b8%e3%83%87%e3%83%88%e3%83%83%e3%82%af%e3%82%b9%e9%81%8b%e5%8b%95%e4%bd%93%e9%a8%93%e4%bc%9a-8/
LOCATION:イルチブレインヨガ辻堂スタジオ\, 神奈川県茅ヶ崎市浜竹２丁目２−４ 安達ビル2階\, 2530021\, 日本
END:VEVENT
BEGIN:VEVENT
DTSTART;TZID=Asia/Tokyo:20150207T140000
DTEND;TZID=Asia/Tokyo:20150207T180000
DTSTAMP:20260425T041851
CREATED:20150131T131454Z
LAST-MODIFIED:20150203T054556Z
UID:311-1423317600-1423332000@ilchibrainyoga-tsujido.com
SUMMARY:ぽかぽかワークショップ
DESCRIPTION:健康のカギは「体温」だった！体温が１℃上がると免疫力が３０％もアップすると言われています。季節の変わり目の今だからこそ「温活」始めてみませんか？ \nなぜ「冷え」は体に毒なのか？役立つ健康原理をお話しながら、テレビで紹介されて話題の冷えに効く体操を体験できます。美味しい健康茶もご用意してお待ちしています。体がぽかぽか♪心ほぐれる♪お気軽にご参加ください。 \n参加者特典 \nスタジオ体験１回プレゼント（1回3\,000円相当）＋腸セラピー（1回3\,000円相当） \n\n画像をクリックするとPDFファイルが開きます。 \nイベントのご予約はこちら
URL:https://ilchibrainyoga-tsujido.com/event/%e3%81%bd%e3%81%8b%e3%81%bd%e3%81%8b%e3%83%af%e3%83%bc%e3%82%af%e3%82%b7%e3%83%a7%e3%83%83%e3%83%97/
LOCATION:イルチブレインヨガ辻堂スタジオ\, 神奈川県茅ヶ崎市浜竹２丁目２−４ 安達ビル2階\, 2530021\, 日本
END:VEVENT
BEGIN:VEVENT
DTSTART;TZID=Asia/Tokyo:20150208T103000
DTEND;TZID=Asia/Tokyo:20150208T123000
DTSTAMP:20260425T041851
CREATED:20150126T075708Z
LAST-MODIFIED:20150126T075708Z
UID:309-1423391400-1423398600@ilchibrainyoga-tsujido.com
SUMMARY:4・8のつく日はヨガの日
DESCRIPTION:  \nヨガが体と心をつなげるという意味があります。 \n質のよい、呼吸と瞑想でその効果があらわれます。 \nトレーニングでは、体をよくほぐしてあげて、複式呼吸が自然にできるようにします。 \nイルチブレインヨガでは、脳科学と東洋医学融合した画期的なヨガ。 \nその効果が世界的にも認められています。 \n飽きずに、健康つくりにも役立つ脳活性ヨガ。 \n体験費がお安いに日体験してみませんか？ \nイベントのご予約はこちら\n 
URL:https://ilchibrainyoga-tsujido.com/event/4%e3%83%bb8%e3%81%ae%e3%81%a4%e3%81%8f%e6%97%a5%e3%81%af%e3%83%a8%e3%82%ac%e3%81%ae%e6%97%a5/
LOCATION:イルチブレインヨガ辻堂スタジオ\, 神奈川県茅ヶ崎市浜竹２丁目２−４ 安達ビル2階\, 2530021\, 日本
END:VEVENT
BEGIN:VEVENT
DTSTART;TZID=Asia/Tokyo:20150214T103000
DTEND;TZID=Asia/Tokyo:20150214T123000
DTSTAMP:20260425T041851
CREATED:20150126T075927Z
LAST-MODIFIED:20150126T080508Z
UID:310-1423909800-1423917000@ilchibrainyoga-tsujido.com
SUMMARY:４・８のつく日はヨガの日
DESCRIPTION:ヨガが体と心をつなげるという意味があります。 \n質のよい、呼吸と瞑想でその効果があらわれます。 \nトレーニングでは、体をよくほぐしてあげて、複式呼吸が自然にできるようにします。 \nイルチブレインヨガでは、脳科学と東洋医学融合した画期的なヨガ。 \nその効果が世界的にも認められています。 \n飽きずに、健康つくりにも役立つ脳活性ヨガ。 \n体験費がお安いに日体験してみませんか？ \nイベントのご予約はこちら\n 
URL:https://ilchibrainyoga-tsujido.com/event/%ef%bc%94%e3%83%bb%ef%bc%98%e3%81%ae%e3%81%a4%e3%81%8f%e6%97%a5%e3%81%af%e3%83%a8%e3%82%ac%e3%81%ae%e6%97%a5-16/
LOCATION:イルチブレインヨガ辻堂スタジオ\, 神奈川県茅ヶ崎市浜竹２丁目２−４ 安達ビル2階\, 2530021\, 日本
END:VEVENT
BEGIN:VEVENT
DTSTART;TZID=Asia/Tokyo:20150215T140000
DTEND;TZID=Asia/Tokyo:20150215T160000
DTSTAMP:20260425T041851
CREATED:20150131T131621Z
LAST-MODIFIED:20150203T054518Z
UID:312-1424008800-1424016000@ilchibrainyoga-tsujido.com
SUMMARY:ぽかぽかワークショップ
DESCRIPTION:健康のカギは「体温」だった！体温が１℃上がると免疫力が３０％もアップすると言われています。季節の変わり目の今だからこそ「温活」始めてみませんか？ \nなぜ「冷え」は体に毒なのか？役立つ健康原理をお話しながら、テレビで紹介されて話題の冷えに効く体操を体験できます。美味しい健康茶もご用意してお待ちしています。体がぽかぽか♪心ほぐれる♪お気軽にご参加ください。 \n参加者特典 \nスタジオ体験１回プレゼント（1回3\,000円相当）＋腸セラピー（1回3\,000円相当） \n\n画像をクリックするとPDFファイルが開きます。 \n  \nイベントのご予約はこちら
URL:https://ilchibrainyoga-tsujido.com/event/%e3%81%bd%e3%81%8b%e3%81%bd%e3%81%8b%e3%83%af%e3%83%bc%e3%82%af%e3%82%b7%e3%83%a7%e3%83%83%e3%83%97-2/
LOCATION:イルチブレインヨガ辻堂スタジオ\, 神奈川県茅ヶ崎市浜竹２丁目２−４ 安達ビル2階\, 2530021\, 日本
END:VEVENT
BEGIN:VEVENT
DTSTART;TZID=Asia/Tokyo:20150224T070000
DTEND;TZID=Asia/Tokyo:20150224T210000
DTSTAMP:20260425T041851
CREATED:20150202T115749Z
LAST-MODIFIED:20150202T115749Z
UID:315-1424761200-1424811600@ilchibrainyoga-tsujido.com
SUMMARY:４・８のつく日はヨガの日
DESCRIPTION:ヨガが体と心をつなげるという意味があります。 \n質のよい、呼吸と瞑想でその効果があらわれます。 \nトレーニングでは、体をよくほぐしてあげて、複式呼吸が自然にできるようにします。 \nイルチブレインヨガでは、脳科学と東洋医学融合した画期的なヨガ。 \nその効果が世界的にも認められています。 \n飽きずに、健康つくりにも役立つ脳活性ヨガ。 \n体験費がお安いに日体験してみませんか？ \nイベントのご予約はこちら
URL:https://ilchibrainyoga-tsujido.com/event/%ef%bc%94%e3%83%bb%ef%bc%98%e3%81%ae%e3%81%a4%e3%81%8f%e6%97%a5%e3%81%af%e3%83%a8%e3%82%ac%e3%81%ae%e6%97%a5-18/
LOCATION:イルチブレインヨガ辻堂スタジオ\, 神奈川県茅ヶ崎市浜竹２丁目２−４ 安達ビル2階\, 2530021\, 日本
END:VEVENT
BEGIN:VEVENT
DTSTART;TZID=Asia/Tokyo:20150224T143000
DTEND;TZID=Asia/Tokyo:20150224T163000
DTSTAMP:20260425T041851
CREATED:20150202T115628Z
LAST-MODIFIED:20150202T115628Z
UID:314-1424788200-1424795400@ilchibrainyoga-tsujido.com
SUMMARY:４・８のつく日はヨガの日
DESCRIPTION:ヨガが体と心をつなげるという意味があります。 \n質のよい、呼吸と瞑想でその効果があらわれます。 \nトレーニングでは、体をよくほぐしてあげて、複式呼吸が自然にできるようにします。 \nイルチブレインヨガでは、脳科学と東洋医学融合した画期的なヨガ。 \nその効果が世界的にも認められています。 \n飽きずに、健康つくりにも役立つ脳活性ヨガ。 \n体験費がお安いに日体験してみませんか？ \nイベントのご予約はこちら\n 
URL:https://ilchibrainyoga-tsujido.com/event/%ef%bc%94%e3%83%bb%ef%bc%98%e3%81%ae%e3%81%a4%e3%81%8f%e6%97%a5%e3%81%af%e3%83%a8%e3%82%ac%e3%81%ae%e6%97%a5-17/
LOCATION:イルチブレインヨガ辻堂スタジオ\, 神奈川県茅ヶ崎市浜竹２丁目２−４ 安達ビル2階\, 2530021\, 日本
END:VEVENT
BEGIN:VEVENT
DTSTART;TZID=Asia/Tokyo:20150228T143000
DTEND;TZID=Asia/Tokyo:20150228T163000
DTSTAMP:20260425T041851
CREATED:20150226T110519Z
LAST-MODIFIED:20150226T110519Z
UID:343-1425133800-1425141000@ilchibrainyoga-tsujido.com
SUMMARY:4・8のつく日はヨガの日
DESCRIPTION:ヨガが体と心をつなげるという意味があります。 \n質のよい、呼吸と瞑想でその効果があらわれます。 \nトレーニングでは、体をよくほぐしてあげて、複式呼吸が自然にできるようにします。 \nイルチブレインヨガでは、脳科学と東洋医学融合した画期的なヨガ。 \nその効果が世界的にも認められています。 \n飽きずに、健康つくりにも役立つ脳活性ヨガ。 \n体験費がお安いに日体験してみませんか？ \nイベントのご予約はこちら\n 
URL:https://ilchibrainyoga-tsujido.com/event/4%e3%83%bb8%e3%81%ae%e3%81%a4%e3%81%8f%e6%97%a5%e3%81%af%e3%83%a8%e3%82%ac%e3%81%ae%e6%97%a5-2/
LOCATION:イルチブレインヨガ辻堂スタジオ\, 神奈川県茅ヶ崎市浜竹２丁目２−４ 安達ビル2階\, 2530021\, 日本
END:VEVENT
BEGIN:VEVENT
DTSTART;TZID=Asia/Tokyo:20150228T223000
DTEND;TZID=Asia/Tokyo:20150228T223000
DTSTAMP:20260425T041851
CREATED:20150202T115907Z
LAST-MODIFIED:20150202T115907Z
UID:316-1425162600-1425162600@ilchibrainyoga-tsujido.com
SUMMARY:４・８のつく日はヨガの日
DESCRIPTION:ヨガが体と心をつなげるという意味があります。 \n質のよい、呼吸と瞑想でその効果があらわれます。 \nトレーニングでは、体をよくほぐしてあげて、複式呼吸が自然にできるようにします。 \nイルチブレインヨガでは、脳科学と東洋医学融合した画期的なヨガ。 \nその効果が世界的にも認められています。 \n飽きずに、健康つくりにも役立つ脳活性ヨガ。 \n体験費がお安いに日体験してみませんか？ \nイベントのご予約はこちら
URL:https://ilchibrainyoga-tsujido.com/event/%ef%bc%94%e3%83%bb%ef%bc%98%e3%81%ae%e3%81%a4%e3%81%8f%e6%97%a5%e3%81%af%e3%83%a8%e3%82%ac%e3%81%ae%e6%97%a5-19/
LOCATION:イルチブレインヨガ辻堂スタジオ\, 神奈川県茅ヶ崎市浜竹２丁目２−４ 安達ビル2階\, 2530021\, 日本
END:VEVENT
END:VCALENDAR