BEGIN:VCALENDAR
VERSION:2.0
PRODID:-//【湘南茅ヶ崎 平塚 藤沢ヨガ】イルチブレインヨガ辻堂スタジオ｜辻堂駅南口より徒歩8分 体と心と脳のヨガ - ECPv6.15.20//NONSGML v1.0//EN
CALSCALE:GREGORIAN
METHOD:PUBLISH
X-WR-CALNAME:【湘南茅ヶ崎 平塚 藤沢ヨガ】イルチブレインヨガ辻堂スタジオ｜辻堂駅南口より徒歩8分 体と心と脳のヨガ
X-ORIGINAL-URL:https://ilchibrainyoga-tsujido.com
X-WR-CALDESC:【湘南茅ヶ崎 平塚 藤沢ヨガ】イルチブレインヨガ辻堂スタジオ｜辻堂駅南口より徒歩8分 体と心と脳のヨガ のイベント
REFRESH-INTERVAL;VALUE=DURATION:PT1H
X-Robots-Tag:noindex
X-PUBLISHED-TTL:PT1H
BEGIN:VTIMEZONE
TZID:Asia/Tokyo
BEGIN:STANDARD
TZOFFSETFROM:+0900
TZOFFSETTO:+0900
TZNAME:JST
DTSTART:20140101T000000
END:STANDARD
END:VTIMEZONE
BEGIN:VEVENT
DTSTART;TZID=Asia/Tokyo:20150404T103000
DTEND;TZID=Asia/Tokyo:20150404T123000
DTSTAMP:20260425T015537
CREATED:20150402T112900Z
LAST-MODIFIED:20150402T112900Z
UID:392-1428143400-1428150600@ilchibrainyoga-tsujido.com
SUMMARY:４日はヨガの日。
DESCRIPTION:４日はヨガの日。 \nヨガが体と心をつなげるという意味があります。 \n質のよい、呼吸と瞑想でその効果があらわれます。 \nトレーニングでは、体をよくほぐしてあげて、複式呼吸が自然にできるようにします。 \nイルチブレインヨガでは、脳科学と東洋医学融合した画期的なヨガ。 \nその効果が世界的にも認められています。 \n飽きずに、健康つくりにも役立つ脳活性ヨガ。 \n体験費がお安いに日体験してみませんか？ \nイベントのご予約はこちら
URL:https://ilchibrainyoga-tsujido.com/event/%ef%bc%94%e6%97%a5%e3%81%af%e3%83%a8%e3%82%ac%e3%81%ae%e6%97%a5%e3%80%82/
LOCATION:イルチブレインヨガ辻堂スタジオ\, 神奈川県茅ヶ崎市浜竹２丁目２−４ 安達ビル2階\, 2530021\, 日本
END:VEVENT
BEGIN:VEVENT
DTSTART;TZID=Asia/Tokyo:20150404T140000
DTEND;TZID=Asia/Tokyo:20150404T160000
DTSTAMP:20260425T015537
CREATED:20150402T113231Z
LAST-MODIFIED:20150402T113231Z
UID:394-1428156000-1428163200@ilchibrainyoga-tsujido.com
SUMMARY:４日はヨガの日
DESCRIPTION:４日はヨガの日。 \nヨガが体と心をつなげるという意味があります。 \n質のよい、呼吸と瞑想でその効果があらわれます。 \nトレーニングでは、体をよくほぐしてあげて、複式呼吸が自然にできるようにします。 \nイルチブレインヨガでは、脳科学と東洋医学融合した画期的なヨガ。 \nその効果が世界的にも認められています。 \n飽きずに、健康つくりにも役立つ脳活性ヨガ。 \n体験費がお安いに日体験してみませんか？ \nイベントのご予約はこちら
URL:https://ilchibrainyoga-tsujido.com/event/%ef%bc%94%e6%97%a5%e3%81%af%e3%83%a8%e3%82%ac%e3%81%ae%e6%97%a5/
LOCATION:イルチブレインヨガ辻堂スタジオ\, 神奈川県茅ヶ崎市浜竹２丁目２−４ 安達ビル2階\, 2530021\, 日本
END:VEVENT
BEGIN:VEVENT
DTSTART;TZID=Asia/Tokyo:20150412T143000
DTEND;TZID=Asia/Tokyo:20150412T163000
DTSTAMP:20260425T015537
CREATED:20150320T102714Z
LAST-MODIFIED:20150320T102714Z
UID:369-1428849000-1428856200@ilchibrainyoga-tsujido.com
SUMMARY:腸デトックス集中セミナー
DESCRIPTION:腸内環境はいかがですか？ \nそんなことを言われても・・・・。ではないでしょうか？ \n毎日の食生活・ライフワークに運動を心がけていてもどうも自信がないという方、そうでない方も必見。 \n体を動かすというと、体力・筋力をつけることが主流ですが \nイルチブレインヨガはその他に内臓の働きをよくする体操を取り入れています。 \n簡単で、誰にでもできる。それでいて場所や時間を選ばない。 \nいつでもどこでもできる体操。 \n便秘がよくなり、胃腸の働きがよくなりなどなどいい事例がたくさん。 \nそんな、ヨガ体験してみたくはないですか？ \n毎日のクラス体験もOKです。 \n時間が取れる方は、腸デトックス集中セミナーへどうぞ \nイベントのご予約はこちら\n 
URL:https://ilchibrainyoga-tsujido.com/event/%e8%85%b8%e3%83%87%e3%83%88%e3%83%83%e3%82%af%e3%82%b9%e9%9b%86%e4%b8%ad%e3%82%bb%e3%83%9f%e3%83%8a%e3%83%bc-2/
LOCATION:イルチブレインヨガ辻堂スタジオ\, 神奈川県茅ヶ崎市浜竹２丁目２−４ 安達ビル2階\, 2530021\, 日本
END:VEVENT
BEGIN:VEVENT
DTSTART;TZID=Asia/Tokyo:20150414T070000
DTEND;TZID=Asia/Tokyo:20150414T210000
DTSTAMP:20260425T015537
CREATED:20150402T113717Z
LAST-MODIFIED:20150402T113717Z
UID:399-1428994800-1429045200@ilchibrainyoga-tsujido.com
SUMMARY:４日はヨガの日
DESCRIPTION:４日はヨガの日。 \nヨガが体と心をつなげるという意味があります。 \n質のよい、呼吸と瞑想でその効果があらわれます。 \nトレーニングでは、体をよくほぐしてあげて、複式呼吸が自然にできるようにします。 \nイルチブレインヨガでは、脳科学と東洋医学融合した画期的なヨガ。 \nその効果が世界的にも認められています。 \n飽きずに、健康つくりにも役立つ脳活性ヨガ。 \n体験費がお安いに日体験してみませんか？ \nイベントのご予約はこちら
URL:https://ilchibrainyoga-tsujido.com/event/%ef%bc%94%e6%97%a5%e3%81%af%e3%83%a8%e3%82%ac%e3%81%ae%e6%97%a5-3/
LOCATION:イルチブレインヨガ辻堂スタジオ\, 神奈川県茅ヶ崎市浜竹２丁目２−４ 安達ビル2階\, 2530021\, 日本
END:VEVENT
BEGIN:VEVENT
DTSTART;TZID=Asia/Tokyo:20150414T143000
DTEND;TZID=Asia/Tokyo:20150414T163000
DTSTAMP:20260425T015537
CREATED:20150402T113348Z
LAST-MODIFIED:20150402T113348Z
UID:395-1429021800-1429029000@ilchibrainyoga-tsujido.com
SUMMARY:４日はヨガの日
DESCRIPTION:４日はヨガの日。 \nヨガが体と心をつなげるという意味があります。 \n質のよい、呼吸と瞑想でその効果があらわれます。 \nトレーニングでは、体をよくほぐしてあげて、複式呼吸が自然にできるようにします。 \nイルチブレインヨガでは、脳科学と東洋医学融合した画期的なヨガ。 \nその効果が世界的にも認められています。 \n飽きずに、健康つくりにも役立つ脳活性ヨガ。 \n体験費がお安いに日体験してみませんか？ \nイベントのご予約はこちら
URL:https://ilchibrainyoga-tsujido.com/event/%ef%bc%94%e6%97%a5%e3%81%af%e3%83%a8%e3%82%ac%e3%81%ae%e6%97%a5-2/
LOCATION:イルチブレインヨガ辻堂スタジオ\, 神奈川県茅ヶ崎市浜竹２丁目２−４ 安達ビル2階\, 2530021\, 日本
END:VEVENT
BEGIN:VEVENT
DTSTART;TZID=Asia/Tokyo:20150424T100000
DTEND;TZID=Asia/Tokyo:20150424T120000
DTSTAMP:20260425T015537
CREATED:20150402T113932Z
LAST-MODIFIED:20150402T113932Z
UID:400-1429869600-1429876800@ilchibrainyoga-tsujido.com
SUMMARY:４日はヨガの日
DESCRIPTION:４日はヨガの日。 \nヨガが体と心をつなげるという意味があります。 \n質のよい、呼吸と瞑想でその効果があらわれます。 \nトレーニングでは、体をよくほぐしてあげて、複式呼吸が自然にできるようにします。 \nイルチブレインヨガでは、脳科学と東洋医学融合した画期的なヨガ。 \nその効果が世界的にも認められています。 \n飽きずに、健康つくりにも役立つ脳活性ヨガ。 \n体験費がお安いに日体験してみませんか？ \nイベントのご予約はこちら\n 
URL:https://ilchibrainyoga-tsujido.com/event/%ef%bc%94%e6%97%a5%e3%81%af%e3%83%a8%e3%82%ac%e3%81%ae%e6%97%a5-4/
LOCATION:イルチブレインヨガ辻堂スタジオ\, 神奈川県茅ヶ崎市浜竹２丁目２−４ 安達ビル2階\, 2530021\, 日本
END:VEVENT
BEGIN:VEVENT
DTSTART;TZID=Asia/Tokyo:20150424T190000
DTEND;TZID=Asia/Tokyo:20150424T210000
DTSTAMP:20260425T015537
CREATED:20150402T114124Z
LAST-MODIFIED:20150402T114150Z
UID:401-1429902000-1429909200@ilchibrainyoga-tsujido.com
SUMMARY:４日はヨガの日
DESCRIPTION:４日はヨガの日。 \nヨガが体と心をつなげるという意味があります。 \n質のよい、呼吸と瞑想でその効果があらわれます。 \nトレーニングでは、体をよくほぐしてあげて、複式呼吸が自然にできるようにします。 \nイルチブレインヨガでは、脳科学と東洋医学融合した画期的なヨガ。 \nその効果が世界的にも認められています。 \n飽きずに、健康つくりにも役立つ脳活性ヨガ。 \n体験費がお安いに日体験してみませんか？ \nイベントのご予約はこちら
URL:https://ilchibrainyoga-tsujido.com/event/%ef%bc%94%e6%97%a5%e3%81%af%e3%83%a8%e3%82%ac%e3%81%ae%e6%97%a5-5/
LOCATION:イルチブレインヨガ辻堂スタジオ\, 神奈川県茅ヶ崎市浜竹２丁目２−４ 安達ビル2階\, 2530021\, 日本
END:VEVENT
BEGIN:VEVENT
DTSTART;TZID=Asia/Tokyo:20150426T103000
DTEND;TZID=Asia/Tokyo:20150426T120000
DTSTAMP:20260425T015537
CREATED:20150407T100032Z
LAST-MODIFIED:20150408T101653Z
UID:406-1430044200-1430049600@ilchibrainyoga-tsujido.com
SUMMARY:野外トレーニング
DESCRIPTION:4月26日（日） \n辻堂海浜公園内　（噴水の近く）で日曜のクラスを野外で行います。 \n会員さん・会員さんのご家族・知人 \n一般の方も受け付けています。 \nいつもとは少し違う内容でする予定です。 \nお近くの方、この日たまたまイベントに参加する方。 \nどなたでも参加ＯＫです。 \n当日参加もＯＫです。そのときはお声かけください。 \n野外なので、マットか敷き物をご用意ください。 \nお気軽に参加してください。 \nイベントのご予約はこちら
URL:https://ilchibrainyoga-tsujido.com/event/%e9%87%8e%e5%a4%96%e3%83%88%e3%83%ac%e3%83%bc%e3%83%8b%e3%83%b3%e3%82%b0/
LOCATION:イルチブレインヨガ辻堂スタジオ\, 神奈川県茅ヶ崎市浜竹２丁目２−４ 安達ビル2階\, 2530021\, 日本
END:VEVENT
END:VCALENDAR