BEGIN:VCALENDAR
VERSION:2.0
PRODID:-//【湘南茅ヶ崎 平塚 藤沢ヨガ】イルチブレインヨガ辻堂スタジオ｜辻堂駅南口より徒歩8分 体と心と脳のヨガ - ECPv6.15.20//NONSGML v1.0//EN
CALSCALE:GREGORIAN
METHOD:PUBLISH
X-ORIGINAL-URL:https://ilchibrainyoga-tsujido.com
X-WR-CALDESC:【湘南茅ヶ崎 平塚 藤沢ヨガ】イルチブレインヨガ辻堂スタジオ｜辻堂駅南口より徒歩8分 体と心と脳のヨガ のイベント
REFRESH-INTERVAL;VALUE=DURATION:PT1H
X-Robots-Tag:noindex
X-PUBLISHED-TTL:PT1H
BEGIN:VTIMEZONE
TZID:Asia/Tokyo
BEGIN:STANDARD
TZOFFSETFROM:+0900
TZOFFSETTO:+0900
TZNAME:JST
DTSTART:20140101T000000
END:STANDARD
END:VTIMEZONE
BEGIN:VEVENT
DTSTART;TZID=Asia/Tokyo:20150501T100000
DTEND;TZID=Asia/Tokyo:20150501T120000
DTSTAMP:20260425T003720
CREATED:20150430T015739Z
LAST-MODIFIED:20150430T015739Z
UID:435-1430474400-1430481600@ilchibrainyoga-tsujido.com
SUMMARY:1のつく日は男前デー
DESCRIPTION:1のつく日は、男前デー。 \n当スタジオでは、男性会員さんが1割ほどいます。 \n年齢もさまざま。 \n健康つくり、ストレス解消、肩こり・腰痛などに効果あります。 \n時間も固定しておらず、好きな曜日・時間に来れることも魅力の1つだとか。 \n夜クラスは、仕事帰り。 \n休日休み・平日休みにも対応しています。 \n長く通っている方は、体も柔軟になっています。 \n男性の方も大歓迎です。 \nイベントのご予約はこちら
URL:https://ilchibrainyoga-tsujido.com/event/1%e3%81%ae%e3%81%a4%e3%81%8f%e6%97%a5%e3%81%af%e7%94%b7%e5%89%8d%e3%83%87%e3%83%bc/
LOCATION:イルチブレインヨガ辻堂スタジオ\, 神奈川県茅ヶ崎市浜竹２丁目２−４ 安達ビル2階\, 2530021\, 日本
END:VEVENT
BEGIN:VEVENT
DTSTART;TZID=Asia/Tokyo:20150501T190000
DTEND;TZID=Asia/Tokyo:20150501T210000
DTSTAMP:20260425T003720
CREATED:20150430T015917Z
LAST-MODIFIED:20150430T015917Z
UID:436-1430506800-1430514000@ilchibrainyoga-tsujido.com
SUMMARY:﻿1のつく日は、男前デー
DESCRIPTION:1のつく日は、男前デー。 \n当スタジオでは、男性会員さんが1割ほどいます。 \n年齢もさまざま。 \n健康つくり、ストレス解消、肩こり・腰痛などに効果あります。 \n時間も固定しておらず、好きな曜日・時間に来れることも魅力の1つだとか。 \n夜クラスは、仕事帰り。 \n休日休み・平日休みにも対応しています。 \n長く通っている方は、体も柔軟になっています。 \n男性の方も大歓迎です。 \nイベントのご予約はこちら
URL:https://ilchibrainyoga-tsujido.com/event/%ef%bb%bf1%e3%81%ae%e3%81%a4%e3%81%8f%e6%97%a5%e3%81%af%e3%80%81%e7%94%b7%e5%89%8d%e3%83%87%e3%83%bc/
LOCATION:イルチブレインヨガ辻堂スタジオ\, 神奈川県茅ヶ崎市浜竹２丁目２−４ 安達ビル2階\, 2530021\, 日本
END:VEVENT
BEGIN:VEVENT
DTSTART;TZID=Asia/Tokyo:20150508T100000
DTEND;TZID=Asia/Tokyo:20150508T120000
DTSTAMP:20260425T003720
CREATED:20150430T022614Z
LAST-MODIFIED:20150430T022614Z
UID:439-1431079200-1431086400@ilchibrainyoga-tsujido.com
SUMMARY:８のつく日はレディースデー
DESCRIPTION:当スタジオでは、20代～70代の方が通っています。 \n長い方では、4年目という方もいます。 \n週に1回～2回。多い方では3回くらい来る方も。 \n以前よりも体が柔軟になった。強くなった。健康になった。 \n病気の改善。心が前向きになった。集中力がついた。肯定的になった。老化予防。 \nなどなど効果はいろいろたくさん。 \nその方の体や心の状態もお聞きして個人ケアーもしています。 \n目的が達成できるようにお手伝いいたします。 \nイベントのご予約はこちら
URL:https://ilchibrainyoga-tsujido.com/event/%ef%bc%98%e3%81%ae%e3%81%a4%e3%81%8f%e6%97%a5%e3%81%af%e3%83%ac%e3%83%87%e3%82%a3%e3%83%bc%e3%82%b9%e3%83%87%e3%83%bc/
LOCATION:イルチブレインヨガ辻堂スタジオ\, 神奈川県茅ヶ崎市浜竹２丁目２−４ 安達ビル2階\, 2530021\, 日本
END:VEVENT
BEGIN:VEVENT
DTSTART;TZID=Asia/Tokyo:20150508T190000
DTEND;TZID=Asia/Tokyo:20150508T210000
DTSTAMP:20260425T003720
CREATED:20150430T022728Z
LAST-MODIFIED:20150430T022728Z
UID:440-1431111600-1431118800@ilchibrainyoga-tsujido.com
SUMMARY:8のつく日はレディースデー
DESCRIPTION:当スタジオでは、20代～70代の方が通っています。 \n長い方では、4年目という方もいます。 \n週に1回～2回。多い方では3回くらい来る方も。 \n以前よりも体が柔軟になった。強くなった。健康になった。 \n病気の改善。心が前向きになった。集中力がついた。肯定的になった。老化予防。 \nなどなど効果はいろいろたくさん。 \nその方の体や心の状態もお聞きして個人ケアーもしています。 \n目的が達成できるようにお手伝いいたします。 \nイベントのご予約はこちら
URL:https://ilchibrainyoga-tsujido.com/event/8%e3%81%ae%e3%81%a4%e3%81%8f%e6%97%a5%e3%81%af%e3%83%ac%e3%83%87%e3%82%a3%e3%83%bc%e3%82%b9%e3%83%87%e3%83%bc/
LOCATION:イルチブレインヨガ辻堂スタジオ\, 神奈川県茅ヶ崎市浜竹２丁目２−４ 安達ビル2階\, 2530021\, 日本
END:VEVENT
BEGIN:VEVENT
DTSTART;TZID=Asia/Tokyo:20150510T143000
DTEND;TZID=Asia/Tokyo:20150510T163000
DTSTAMP:20260425T003720
CREATED:20150421T145427Z
LAST-MODIFIED:20150421T145427Z
UID:413-1431268200-1431275400@ilchibrainyoga-tsujido.com
SUMMARY:脳活性ヨガでチェンジ
DESCRIPTION:今回は、保険会社とコラボで場所をお借りしてのヨガ体験会です。 \nちょっと変わった場所でほけんのお店の一角でヨガをします。 \n辻堂駅西口に隣接しているビルの１階です。 \n内容は、スタジオでしていることとほぼ同じです。 \n脳を活性化して体と心の健康を応援します。 \n単発の体験でもかまいません。 \nイベントのご予約はこちら
URL:https://ilchibrainyoga-tsujido.com/event/%e8%84%b3%e6%b4%bb%e6%80%a7%e3%83%a8%e3%82%ac%e3%81%a7%e3%83%81%e3%82%a7%e3%83%b3%e3%82%b8/
LOCATION:湘南辻堂ほけんカフェ\, 藤沢市辻堂２－２－１４テラス湘南１F\, 2510047
END:VEVENT
BEGIN:VEVENT
DTSTART;TZID=Asia/Tokyo:20150514T143000
DTEND;TZID=Asia/Tokyo:20150514T163000
DTSTAMP:20260425T003720
CREATED:20150430T012953Z
LAST-MODIFIED:20150430T013441Z
UID:425-1431613800-1431621000@ilchibrainyoga-tsujido.com
SUMMARY:４日はヨガの日
DESCRIPTION:４日はヨガの日。 \nヨガが体と心をつなげるという意味があります。 \n質のよい、呼吸と瞑想でその効果があらわれます。 \nトレーニングでは、体をよくほぐしてあげて、複式呼吸が自然にできるようにします。 \nイルチブレインヨガでは、脳科学と東洋医学融合した画期的なヨガ。 \nその効果が世界的にも認められています。 \n飽きずに、健康つくりにも役立つ脳活性ヨガ。 \n体験費がお安いに日体験してみませんか？ \nイベントのご予約はこちら
URL:https://ilchibrainyoga-tsujido.com/event/%ef%bc%94%e6%97%a5%e3%81%af%e3%83%a8%e3%82%ac%e3%81%ae%e6%97%a5-6/
LOCATION:イルチブレインヨガ辻堂スタジオ\, 神奈川県茅ヶ崎市浜竹２丁目２−４ 安達ビル2階\, 2530021\, 日本
END:VEVENT
BEGIN:VEVENT
DTSTART;TZID=Asia/Tokyo:20150517T103000
DTEND;TZID=Asia/Tokyo:20150517T120000
DTSTAMP:20260425T003720
CREATED:20150430T014521Z
LAST-MODIFIED:20150430T014521Z
UID:433-1431858600-1431864000@ilchibrainyoga-tsujido.com
SUMMARY:野外トレーニング
DESCRIPTION:先月に引き続き、辻堂海浜公園内　（池の近く）で日曜のクラスを野外で行います。 \n自然の空気、太陽、地のエネルギーを満喫できる野外の醍醐味があります。 \n会員さん・会員さんのご家族・知人 \n一般の方も受け付けています。 \nいつもとは少し違う内容でする予定です。 \nお近くの方、いつも散歩を楽しんでいる方。 \nどなたでも参加ＯＫです。 \n当日参加もＯＫです。そのときはお声かけください。 \n野外なので簡単な1人座るくらいの敷き物を持ってきてください。 \nお気軽に参加してみてください。 \nイベントのご予約はこちら
URL:https://ilchibrainyoga-tsujido.com/event/%e9%87%8e%e5%a4%96%e3%83%88%e3%83%ac%e3%83%bc%e3%83%8b%e3%83%b3%e3%82%b0-2/
LOCATION:辻堂海浜公園
END:VEVENT
BEGIN:VEVENT
DTSTART;TZID=Asia/Tokyo:20150521T143000
DTEND;TZID=Asia/Tokyo:20150521T163000
DTSTAMP:20260425T003720
CREATED:20150430T020042Z
LAST-MODIFIED:20150430T020042Z
UID:437-1432218600-1432225800@ilchibrainyoga-tsujido.com
SUMMARY:1のつく日は男前デー
DESCRIPTION:1のつく日は、男前デー。 \n当スタジオでは、男性会員さんが1割ほどいます。 \n年齢もさまざま。 \n健康つくり、ストレス解消、肩こり・腰痛などに効果あります。 \n時間も固定しておらず、好きな曜日・時間に来れることも魅力の1つだとか。 \n夜クラスは、仕事帰り。 \n休日休み・平日休みにも対応しています。 \n長く通っている方は、体も柔軟になっています。 \n男性の方も大歓迎です。 \nイベントのご予約はこちら
URL:https://ilchibrainyoga-tsujido.com/event/1%e3%81%ae%e3%81%a4%e3%81%8f%e6%97%a5%e3%81%af%e7%94%b7%e5%89%8d%e3%83%87%e3%83%bc-2/
LOCATION:イルチブレインヨガ辻堂スタジオ\, 神奈川県茅ヶ崎市浜竹２丁目２−４ 安達ビル2階\, 2530021\, 日本
END:VEVENT
BEGIN:VEVENT
DTSTART;TZID=Asia/Tokyo:20150524T103000
DTEND;TZID=Asia/Tokyo:20150524T123000
DTSTAMP:20260425T003720
CREATED:20150430T013151Z
LAST-MODIFIED:20150430T013320Z
UID:426-1432463400-1432470600@ilchibrainyoga-tsujido.com
SUMMARY:４日はヨガの日
DESCRIPTION:４日はヨガの日。 \nヨガが体と心をつなげるという意味があります。 \n質のよい、呼吸と瞑想でその効果があらわれます。 \nトレーニングでは、体をよくほぐしてあげて、複式呼吸が自然にできるようにします。 \nイルチブレインヨガでは、脳科学と東洋医学融合した画期的なヨガ。 \nその効果が世界的にも認められています。 \n飽きずに、健康つくりにも役立つ脳活性ヨガ。 \n体験費がお安いに日体験してみませんか？ \nイベントのご予約はこちら
URL:https://ilchibrainyoga-tsujido.com/event/%ef%bc%94%e6%97%a5%e3%81%af%e3%83%a8%e3%82%ac%e3%81%ae%e6%97%a5-7/
LOCATION:イルチブレインヨガ辻堂スタジオ\, 神奈川県茅ヶ崎市浜竹２丁目２−４ 安達ビル2階\, 2530021\, 日本
END:VEVENT
BEGIN:VEVENT
DTSTART;TZID=Asia/Tokyo:20150528T143000
DTEND;TZID=Asia/Tokyo:20150528T163000
DTSTAMP:20260425T003720
CREATED:20150430T022847Z
LAST-MODIFIED:20150430T022847Z
UID:441-1432823400-1432830600@ilchibrainyoga-tsujido.com
SUMMARY:8のつく日はレディースデー
DESCRIPTION:当スタジオでは、20代～70代の方が通っています。 \n長い方では、4年目という方もいます。 \n週に1回～2回。多い方では3回くらい来る方も。 \n以前よりも体が柔軟になった。強くなった。健康になった。 \n病気の改善。心が前向きになった。集中力がついた。肯定的になった。老化予防。 \nなどなど効果はいろいろたくさん。 \nその方の体や心の状態もお聞きして個人ケアーもしています。 \n目的が達成できるようにお手伝いいたします。 \nイベントのご予約はこちら
URL:https://ilchibrainyoga-tsujido.com/event/8%e3%81%ae%e3%81%a4%e3%81%8f%e6%97%a5%e3%81%af%e3%83%ac%e3%83%87%e3%82%a3%e3%83%bc%e3%82%b9%e3%83%87%e3%83%bc-2/
LOCATION:イルチブレインヨガ辻堂スタジオ\, 神奈川県茅ヶ崎市浜竹２丁目２−４ 安達ビル2階\, 2530021\, 日本
END:VEVENT
BEGIN:VEVENT
DTSTART;TZID=Asia/Tokyo:20150531T103000
DTEND;TZID=Asia/Tokyo:20150531T123000
DTSTAMP:20260425T003720
CREATED:20150430T020210Z
LAST-MODIFIED:20150430T020210Z
UID:438-1433068200-1433075400@ilchibrainyoga-tsujido.com
SUMMARY:﻿1のつく日は男前デー
DESCRIPTION:1のつく日は、男前デー。 \n当スタジオでは、男性会員さんが1割ほどいます。 \n年齢もさまざま。 \n健康つくり、ストレス解消、肩こり・腰痛などに効果あります。 \n時間も固定しておらず、好きな曜日・時間に来れることも魅力の1つだとか。 \n夜クラスは、仕事帰り。 \n休日休み・平日休みにも対応しています。 \n長く通っている方は、体も柔軟になっています。 \n男性の方も大歓迎です。 \nイベントのご予約はこちら
URL:https://ilchibrainyoga-tsujido.com/event/%ef%bb%bf1%e3%81%ae%e3%81%a4%e3%81%8f%e6%97%a5%e3%81%af%e7%94%b7%e5%89%8d%e3%83%87%e3%83%bc/
LOCATION:イルチブレインヨガ辻堂スタジオ\, 神奈川県茅ヶ崎市浜竹２丁目２−４ 安達ビル2階\, 2530021\, 日本
END:VEVENT
END:VCALENDAR