BEGIN:VCALENDAR
VERSION:2.0
PRODID:-//【湘南茅ヶ崎 平塚 藤沢ヨガ】イルチブレインヨガ辻堂スタジオ｜辻堂駅南口より徒歩8分 体と心と脳のヨガ - ECPv6.15.20//NONSGML v1.0//EN
CALSCALE:GREGORIAN
METHOD:PUBLISH
X-WR-CALNAME:【湘南茅ヶ崎 平塚 藤沢ヨガ】イルチブレインヨガ辻堂スタジオ｜辻堂駅南口より徒歩8分 体と心と脳のヨガ
X-ORIGINAL-URL:https://ilchibrainyoga-tsujido.com
X-WR-CALDESC:【湘南茅ヶ崎 平塚 藤沢ヨガ】イルチブレインヨガ辻堂スタジオ｜辻堂駅南口より徒歩8分 体と心と脳のヨガ のイベント
REFRESH-INTERVAL;VALUE=DURATION:PT1H
X-Robots-Tag:noindex
X-PUBLISHED-TTL:PT1H
BEGIN:VTIMEZONE
TZID:Asia/Tokyo
BEGIN:STANDARD
TZOFFSETFROM:+0900
TZOFFSETTO:+0900
TZNAME:JST
DTSTART:20140101T000000
END:STANDARD
END:VTIMEZONE
BEGIN:VEVENT
DTSTART;TZID=Asia/Tokyo:20150604T143000
DTEND;TZID=Asia/Tokyo:20150604T163000
DTSTAMP:20260424T225314
CREATED:20150520T125121Z
LAST-MODIFIED:20150520T125823Z
UID:475-1433428200-1433435400@ilchibrainyoga-tsujido.com
SUMMARY:4日はヨガの日
DESCRIPTION:４日はヨガの日。 \nヨガが体と心をつなげるという意味があります。 \n質のよい、呼吸と瞑想でその効果があらわれます。 \nトレーニングでは、体をよくほぐしてあげて、複式呼吸が自然にできるようにします。 \nイルチブレインヨガでは、脳科学と東洋医学融合した画期的なヨガ。 \nその効果が世界的にも認められています。 \n飽きずに、健康つくりにも役立つ脳活性ヨガ。 \n体験費がお安いに日体験してみませんか？ \nイベントのご予約はこちら
URL:https://ilchibrainyoga-tsujido.com/event/4%e6%97%a5%e3%81%af%e3%83%a8%e3%82%ac%e3%81%ae%e6%97%a5/
LOCATION:イルチブレインヨガ辻堂スタジオ\, 神奈川県茅ヶ崎市浜竹２丁目２−４ 安達ビル2階\, 2530021\, 日本
END:VEVENT
BEGIN:VEVENT
DTSTART;TZID=Asia/Tokyo:20150604T190000
DTEND;TZID=Asia/Tokyo:20150604T210000
DTSTAMP:20260424T225314
CREATED:20150529T073534Z
LAST-MODIFIED:20150529T073534Z
UID:501-1433444400-1433451600@ilchibrainyoga-tsujido.com
SUMMARY:４日はヨガの日
DESCRIPTION:４日はヨガの日。 \nヨガが体と心をつなげるという意味があります。 \n質のよい、呼吸と瞑想でその効果があらわれます。 \nトレーニングでは、体をよくほぐしてあげて、複式呼吸が自然にできるようにします。 \nイルチブレインヨガでは、脳科学と東洋医学融合した画期的なヨガ。 \nその効果が世界的にも認められています。 \n飽きずに、健康つくりにも役立つ脳活性ヨガ。 \n体験費がお安いに日体験してみませんか？ \nイベントのご予約はこちら
URL:https://ilchibrainyoga-tsujido.com/event/%ef%bc%94%e6%97%a5%e3%81%af%e3%83%a8%e3%82%ac%e3%81%ae%e6%97%a5-10/
LOCATION:イルチブレインヨガ辻堂スタジオ\, 神奈川県茅ヶ崎市浜竹２丁目２−４ 安達ビル2階\, 2530021\, 日本
END:VEVENT
BEGIN:VEVENT
DTSTART;TZID=Asia/Tokyo:20150611T143000
DTEND;TZID=Asia/Tokyo:20150611T163000
DTSTAMP:20260424T225314
CREATED:20150523T084214Z
LAST-MODIFIED:20150524T020654Z
UID:490-1434033000-1434040200@ilchibrainyoga-tsujido.com
SUMMARY:1のつく日は男前デー
DESCRIPTION:1のつく日は、男前デー。 \n当スタジオでは、男性会員さんが1割ほどいます。 \n年齢もさまざま。 \n健康つくり、ストレス解消、肩こり・腰痛などに効果あります。 \n時間も固定しておらず、好きな曜日・時間に来れることも魅力の1つだとか。 \n夜クラスは、仕事帰り。 \n休日休み・平日休みにも対応しています。 \n長く通っている方は、体も柔軟になっています。 \n男性の方も大歓迎です。 \n  \nイベントのご予約はこちら\n 
URL:https://ilchibrainyoga-tsujido.com/event/1%e3%81%ae%e3%81%a4%e3%81%8f%e6%97%a5%e3%81%af%e7%94%b7%e5%89%8d%e3%83%87%e3%83%bc-3/
LOCATION:イルチブレインヨガ辻堂スタジオ\, 神奈川県茅ヶ崎市浜竹２丁目２−４ 安達ビル2階\, 2530021\, 日本
END:VEVENT
BEGIN:VEVENT
DTSTART;TZID=Asia/Tokyo:20150614T103000
DTEND;TZID=Asia/Tokyo:20150614T123000
DTSTAMP:20260424T225314
CREATED:20150520T125313Z
LAST-MODIFIED:20150520T125329Z
UID:476-1434277800-1434285000@ilchibrainyoga-tsujido.com
SUMMARY:4日はヨガの日
DESCRIPTION:４日はヨガの日。 \nヨガが体と心をつなげるという意味があります。 \n質のよい、呼吸と瞑想でその効果があらわれます。 \nトレーニングでは、体をよくほぐしてあげて、複式呼吸が自然にできるようにします。 \nイルチブレインヨガでは、脳科学と東洋医学融合した画期的なヨガ。 \nその効果が世界的にも認められています。 \n飽きずに、健康つくりにも役立つ脳活性ヨガ。 \n体験費がお安いに日体験してみませんか？ \nイベントのご予約はこちら
URL:https://ilchibrainyoga-tsujido.com/event/4%e6%97%a5%e3%81%af%e3%83%a8%e3%82%ac%e3%81%ae%e6%97%a5-2/
LOCATION:イルチブレインヨガ辻堂スタジオ\, 神奈川県茅ヶ崎市浜竹２丁目２−４ 安達ビル2階\, 2530021\, 日本
END:VEVENT
BEGIN:VEVENT
DTSTART;TZID=Asia/Tokyo:20150618T143000
DTEND;TZID=Asia/Tokyo:20150618T163000
DTSTAMP:20260424T225314
CREATED:20150524T021552Z
LAST-MODIFIED:20150529T073030Z
UID:495-1434637800-1434645000@ilchibrainyoga-tsujido.com
SUMMARY:8のつく日はレディースデー
DESCRIPTION:当スタジオでは、20代～70代の方が通っています。 \n長い方では、4年目という方もいます。 \n週に1回～2回。多い方では3回くらい来る方も。 \n以前よりも体が柔軟になった。強くなった。健康になった。 \n病気の改善。心が前向きになった。集中力がついた。肯定的になった。老化予防。 \nなどなど効果はいろいろたくさん。 \nその方の体や心の状態もお聞きして個人ケアーもしています。 \n目的が達成できるようにお手伝いいたします。 \nイベントのご予約はこちら
URL:https://ilchibrainyoga-tsujido.com/event/495/
LOCATION:イルチブレインヨガ辻堂スタジオ\, 神奈川県茅ヶ崎市浜竹２丁目２−４ 安達ビル2階\, 2530021\, 日本
END:VEVENT
BEGIN:VEVENT
DTSTART;TZID=Asia/Tokyo:20150618T190000
DTEND;TZID=Asia/Tokyo:20150618T210000
DTSTAMP:20260424T225314
CREATED:20150529T073156Z
LAST-MODIFIED:20150529T073228Z
UID:499-1434654000-1434661200@ilchibrainyoga-tsujido.com
SUMMARY:８のつく日はレディースデー
DESCRIPTION:当スタジオでは、20代～70代の方が通っています。 \n長い方では、4年目という方もいます。 \n週に1回～2回。多い方では3回くらい来る方も。 \n以前よりも体が柔軟になった。強くなった。健康になった。 \n病気の改善。心が前向きになった。集中力がついた。肯定的になった。老化予防。 \nなどなど効果はいろいろたくさん。 \nその方の体や心の状態もお聞きして個人ケアーもしています。 \n目的が達成できるようにお手伝いいたします。 \nイベントのご予約はこちら
URL:https://ilchibrainyoga-tsujido.com/event/499/
LOCATION:イルチブレインヨガ辻堂スタジオ\, 神奈川県茅ヶ崎市浜竹２丁目２−４ 安達ビル2階\, 2530021\, 日本
END:VEVENT
BEGIN:VEVENT
DTSTART;TZID=Asia/Tokyo:20150621T103000
DTEND;TZID=Asia/Tokyo:20150621T123000
DTSTAMP:20260424T225314
CREATED:20150524T020351Z
LAST-MODIFIED:20150524T020851Z
UID:492-1434882600-1434889800@ilchibrainyoga-tsujido.com
SUMMARY:1のつく日は男前デー
DESCRIPTION:1のつく日は、男前デー。 \n当スタジオでは、男性会員さんが1割ほどいます。 \n年齢もさまざま。 \n健康つくり、ストレス解消、肩こり・腰痛などに効果あります。 \n時間も固定しておらず、好きな曜日・時間に来れることも魅力の1つだとか。 \n夜クラスは、仕事帰り。 \n休日休み・平日休みにも対応しています。 \n長く通っている方は、体も柔軟になっています。 \n男性の方、大歓迎です。 \nイベントのご予約はこちら \n 
URL:https://ilchibrainyoga-tsujido.com/event/1%e3%81%ae%e3%81%a4%e3%81%8f%e6%97%a5%e3%81%af%e7%94%b7%e5%89%8d%e3%83%87%e3%83%bc-4/
LOCATION:イルチブレインヨガ辻堂スタジオ\, 神奈川県茅ヶ崎市浜竹２丁目２−４ 安達ビル2階\, 2530021\, 日本
END:VEVENT
BEGIN:VEVENT
DTSTART;TZID=Asia/Tokyo:20150624T070000
DTEND;TZID=Asia/Tokyo:20150624T090000
DTSTAMP:20260424T225314
CREATED:20150520T125748Z
LAST-MODIFIED:20150520T125748Z
UID:480-1435129200-1435136400@ilchibrainyoga-tsujido.com
SUMMARY:４日はヨガの日
DESCRIPTION:４日はヨガの日。 \nヨガが体と心をつなげるという意味があります。 \n質のよい、呼吸と瞑想でその効果があらわれます。 \nトレーニングでは、体をよくほぐしてあげて、複式呼吸が自然にできるようにします。 \nイルチブレインヨガでは、脳科学と東洋医学融合した画期的なヨガ。 \nその効果が世界的にも認められています。 \n飽きずに、健康つくりにも役立つ脳活性ヨガ。 \n体験費がお安いに日体験してみませんか？ \nイベントのご予約はこちら
URL:https://ilchibrainyoga-tsujido.com/event/%ef%bc%94%e6%97%a5%e3%81%af%e3%83%a8%e3%82%ac%e3%81%ae%e6%97%a5-9/
LOCATION:イルチブレインヨガ辻堂スタジオ\, 神奈川県茅ヶ崎市浜竹２丁目２−４ 安達ビル2階\, 2530021\, 日本
END:VEVENT
BEGIN:VEVENT
DTSTART;TZID=Asia/Tokyo:20150624T103000
DTEND;TZID=Asia/Tokyo:20150624T123000
DTSTAMP:20260424T225314
CREATED:20150520T125454Z
LAST-MODIFIED:20150520T125454Z
UID:477-1435141800-1435149000@ilchibrainyoga-tsujido.com
SUMMARY:４日はヨガの日
DESCRIPTION:４日はヨガの日。 \nヨガが体と心をつなげるという意味があります。 \n質のよい、呼吸と瞑想でその効果があらわれます。 \nトレーニングでは、体をよくほぐしてあげて、複式呼吸が自然にできるようにします。 \nイルチブレインヨガでは、脳科学と東洋医学融合した画期的なヨガ。 \nその効果が世界的にも認められています。 \n飽きずに、健康つくりにも役立つ脳活性ヨガ。 \n体験費がお安いに日体験してみませんか？ \nイベントのご予約はこちら
URL:https://ilchibrainyoga-tsujido.com/event/%ef%bc%94%e6%97%a5%e3%81%af%e3%83%a8%e3%82%ac%e3%81%ae%e6%97%a5-8/
LOCATION:イルチブレインヨガ辻堂スタジオ\, 神奈川県茅ヶ崎市浜竹２丁目２−４ 安達ビル2階\, 2530021\, 日本
END:VEVENT
BEGIN:VEVENT
DTSTART;TZID=Asia/Tokyo:20150624T143000
DTEND;TZID=Asia/Tokyo:20150624T163000
DTSTAMP:20260424T225314
CREATED:20150520T125649Z
LAST-MODIFIED:20150520T125649Z
UID:479-1435156200-1435163400@ilchibrainyoga-tsujido.com
SUMMARY:4日はヨガの日
DESCRIPTION:４日はヨガの日。 \nヨガが体と心をつなげるという意味があります。 \n質のよい、呼吸と瞑想でその効果があらわれます。 \nトレーニングでは、体をよくほぐしてあげて、複式呼吸が自然にできるようにします。 \nイルチブレインヨガでは、脳科学と東洋医学融合した画期的なヨガ。 \nその効果が世界的にも認められています。 \n飽きずに、健康つくりにも役立つ脳活性ヨガ。 \n体験費がお安いに日体験してみませんか？ \nイベントのご予約はこちら
URL:https://ilchibrainyoga-tsujido.com/event/4%e6%97%a5%e3%81%af%e3%83%a8%e3%82%ac%e3%81%ae%e6%97%a5-3/
LOCATION:イルチブレインヨガ辻堂スタジオ\, 神奈川県茅ヶ崎市浜竹２丁目２−４ 安達ビル2階\, 2530021\, 日本
END:VEVENT
BEGIN:VEVENT
DTSTART;TZID=Asia/Tokyo:20150628T103000
DTEND;TZID=Asia/Tokyo:20150628T123000
DTSTAMP:20260424T225314
CREATED:20150529T073407Z
LAST-MODIFIED:20150529T073407Z
UID:500-1435487400-1435494600@ilchibrainyoga-tsujido.com
SUMMARY:8のつく日はレディースデー
DESCRIPTION:当スタジオでは、20代～70代の方が通っています。 \n長い方では、4年目という方もいます。 \n週に1回～2回。多い方では3回くらい来る方も。 \n以前よりも体が柔軟になった。強くなった。健康になった。 \n病気の改善。心が前向きになった。集中力がついた。肯定的になった。老化予防。 \nなどなど効果はいろいろたくさん。 \nその方の体や心の状態もお聞きして個人ケアーもしています。 \n目的が達成できるようにお手伝いいたします。 \nイベントのご予約はこちら
URL:https://ilchibrainyoga-tsujido.com/event/8%e3%81%ae%e3%81%a4%e3%81%8f%e6%97%a5%e3%81%af%e3%83%ac%e3%83%87%e3%82%a3%e3%83%bc%e3%82%b9%e3%83%87%e3%83%bc-3/
LOCATION:イルチブレインヨガ辻堂スタジオ\, 神奈川県茅ヶ崎市浜竹２丁目２−４ 安達ビル2階\, 2530021\, 日本
END:VEVENT
END:VCALENDAR