BEGIN:VCALENDAR
VERSION:2.0
PRODID:-//【湘南茅ヶ崎 平塚 藤沢ヨガ】イルチブレインヨガ辻堂スタジオ｜辻堂駅南口より徒歩8分 体と心と脳のヨガ - ECPv6.15.20//NONSGML v1.0//EN
CALSCALE:GREGORIAN
METHOD:PUBLISH
X-ORIGINAL-URL:https://ilchibrainyoga-tsujido.com
X-WR-CALDESC:【湘南茅ヶ崎 平塚 藤沢ヨガ】イルチブレインヨガ辻堂スタジオ｜辻堂駅南口より徒歩8分 体と心と脳のヨガ のイベント
REFRESH-INTERVAL;VALUE=DURATION:PT1H
X-Robots-Tag:noindex
X-PUBLISHED-TTL:PT1H
BEGIN:VTIMEZONE
TZID:Asia/Tokyo
BEGIN:STANDARD
TZOFFSETFROM:+0900
TZOFFSETTO:+0900
TZNAME:JST
DTSTART:20150101T000000
END:STANDARD
END:VTIMEZONE
BEGIN:VEVENT
DTSTART;TZID=Asia/Tokyo:20160708T143000
DTEND;TZID=Asia/Tokyo:20160708T160000
DTSTAMP:20260424T070002
CREATED:20160704T130231Z
LAST-MODIFIED:20160704T130231Z
UID:961-1467988200-1467993600@ilchibrainyoga-tsujido.com
SUMMARY:へそ健康講座
DESCRIPTION:お母さんのおなかの中で酸素や栄養をもらう所。 \n役目は終わったと思われがちな「へそ」。実は、内臓やリンパ節、神経が集まった「健康ボタン」だったのです。 \nへそをほぐすと、全身ぽかぽかすっきり！へそから体も心も元気になる健康法を \n体験を交えながらわかりやすくお伝えします。 \n■病原菌と闘うリンパ節\n 私たちの体には、血管と同じように、リンパ管がくまなく張り巡らされています。リンパ管の中にはリンパ液が流れており、全身の老廃物や細菌、ウイルスなどの有害な物質を回収してくれます。回収した水分は、「リンパ節（せつ）」と呼ばれるリンパ管の結合部分に集められ、ここで老廃物やウイルスが分解・浄化されます。リンパ節の中にある免疫機能が、ウイルスなどの病原菌を退治してくれるのです。風邪を引いたときに、首の下のリンパ節が腫れて痛むことがありますが、これはリンパ節の中の免疫システムが細菌と闘っているからです。 \n■へその周りに集中\nリンパ節は、体全体で４００～７００個あるとされ、その半数以上が腹部に集中しているとされます。とくにへその周りにはたくさんのリンパ節があり、免疫システムのカギを握っています。 \n■へそヒーリングとは\nへそヒーリングは、へその周辺に働きかけることで腹部のリンパ節の働きを活発にして、免疫反応や老廃物の排出を盛んにする健康法です。さらに、おへそから胃腸を刺激して腸内環境を整えるとともに、腸の中に溜まっている血液をポンピングし、全身に循環させていきます。気血循環の改善によって、短時間で腹部から下半身や足先まですぐに温かくなるのが感じられるのが特徴。腸のぜん動運動の活発化により、ダイエット効果も期待できます。 また、硬くなっていた腸の緊張がほぐれるとともに感情的な緊張もほぐれるため、心のリラックスやストレス解消へとつながります。 \n講座ではおへその話・実際に健康になれる体操・ヒーリングをします。
URL:https://ilchibrainyoga-tsujido.com/event/%e3%81%b8%e3%81%9d%e5%81%a5%e5%ba%b7%e8%ac%9b%e5%ba%a7/
LOCATION:イルチブレインヨガ辻堂スタジオ\, 神奈川県茅ヶ崎市浜竹２丁目２−４ 安達ビル2階\, 2530021\, 日本
END:VEVENT
BEGIN:VEVENT
DTSTART;TZID=Asia/Tokyo:20160714T143000
DTEND;TZID=Asia/Tokyo:20160714T163000
DTSTAMP:20260424T070002
CREATED:20160628T045730Z
LAST-MODIFIED:20160628T045730Z
UID:959-1468506600-1468513800@ilchibrainyoga-tsujido.com
SUMMARY:4日のつく日はヨガの日
DESCRIPTION:4日のつく日はヨガの日 \nネットから予約いただいた方→体験費が1000円でお得 \nヨガが体と心をつなげるという意味があります。 \n質のよい、呼吸と瞑想でその効果があらわれます。 \nトレーニングでは、体をよくほぐし、内臓までもほぐしていきます。 \nそれで丹田呼吸（下腹が動く呼吸）が自然にできるようにします。 \nイルチブレインヨガでは、脳科学と東洋医学融合した画期的なヨガ。 \nその効果が世界的にも認められています。 飽きずに、健康つくりにも役立つ脳活性ヨガ。 \n日常生活で体のメンテナンスをお考えの方、ぜひこの機会に体験してみてください。 \nイベントのご予約はこちら
URL:https://ilchibrainyoga-tsujido.com/event/4%e6%97%a5%e3%81%ae%e3%81%a4%e3%81%8f%e6%97%a5%e3%81%af%e3%83%a8%e3%82%ac%e3%81%ae%e6%97%a5-3/
LOCATION:イルチブレインヨガ辻堂スタジオ\, 神奈川県茅ヶ崎市浜竹２丁目２−４ 安達ビル2階\, 2530021\, 日本
END:VEVENT
BEGIN:VEVENT
DTSTART;TZID=Asia/Tokyo:20160716T023000
DTEND;TZID=Asia/Tokyo:20160716T180000
DTSTAMP:20260424T070002
CREATED:20160704T130501Z
LAST-MODIFIED:20160704T130544Z
UID:962-1468636200-1468692000@ilchibrainyoga-tsujido.com
SUMMARY:へそ健康講座
DESCRIPTION:お母さんのおなかの中で酸素や栄養をもらう所。 \n役目は終わったと思われがちな「へそ」。実は、内臓やリンパ節、神経が集まった「健康ボタン」だったのです。 \nへそをほぐすと、全身ぽかぽかすっきり！へそから体も心も元気になる健康法を \n体験を交えながらわかりやすくお伝えします。 \n■病原菌と闘うリンパ節\n 私たちの体には、血管と同じように、リンパ管がくまなく張り巡らされています。リンパ管の中にはリンパ液が流れており、全身の老廃物や細菌、ウイルスなどの有害な物質を回収してくれます。回収した水分は、「リンパ節（せつ）」と呼ばれるリンパ管の結合部分に集められ、ここで老廃物やウイルスが分解・浄化されます。リンパ節の中にある免疫機能が、ウイルスなどの病原菌を退治してくれるのです。風邪を引いたときに、首の下のリンパ節が腫れて痛むことがありますが、これはリンパ節の中の免疫システムが細菌と闘っているからです。 \n■へその周りに集中\nリンパ節は、体全体で４００～７００個あるとされ、その半数以上が腹部に集中しているとされます。とくにへその周りにはたくさんのリンパ節があり、免疫システムのカギを握っています。 \n■へそヒーリングとは\nへそヒーリングは、へその周辺に働きかけることで腹部のリンパ節の働きを活発にして、免疫反応や老廃物の排出を盛んにする健康法です。さらに、おへそから胃腸を刺激して腸内環境を整えるとともに、腸の中に溜まっている血液をポンピングし、全身に循環させていきます。気血循環の改善によって、短時間で腹部から下半身や足先まですぐに温かくなるのが感じられるのが特徴。腸のぜん動運動の活発化により、ダイエット効果も期待できます。 また、硬くなっていた腸の緊張がほぐれるとともに感情的な緊張もほぐれるため、心のリラックスやストレス解消へとつながります。 \n講座ではおへその話・実際に健康になれる体操・ヒーリングをします。
URL:https://ilchibrainyoga-tsujido.com/event/%e3%81%b8%e3%81%9d%e3%83%92%e3%83%bc%e3%83%aa%e3%83%b3%e3%82%b0%e8%ac%9b%e5%ba%a7/
LOCATION:イルチブレインヨガ辻堂スタジオ\, 神奈川県茅ヶ崎市浜竹２丁目２−４ 安達ビル2階\, 2530021\, 日本
END:VEVENT
BEGIN:VEVENT
DTSTART;TZID=Asia/Tokyo:20160724T103000
DTEND;TZID=Asia/Tokyo:20160724T123000
DTSTAMP:20260424T070002
CREATED:20160628T045833Z
LAST-MODIFIED:20160628T045833Z
UID:960-1469356200-1469363400@ilchibrainyoga-tsujido.com
SUMMARY:4日のつく日はヨガの日
DESCRIPTION:4日のつく日はヨガの日 \nネットから予約いただいた方→体験費が1000円でお得 \nヨガが体と心をつなげるという意味があります。 \n質のよい、呼吸と瞑想でその効果があらわれます。 \nトレーニングでは、体をよくほぐし、内臓までもほぐしていきます。 \nそれで丹田呼吸（下腹が動く呼吸）が自然にできるようにします。 \nイルチブレインヨガでは、脳科学と東洋医学融合した画期的なヨガ。 \nその効果が世界的にも認められています。 飽きずに、健康つくりにも役立つ脳活性ヨガ。 \n日常生活で体のメンテナンスをお考えの方、ぜひこの機会に体験してみてください。 \nイベントのご予約はこちら
URL:https://ilchibrainyoga-tsujido.com/event/4%e6%97%a5%e3%81%ae%e3%81%a4%e3%81%8f%e6%97%a5%e3%81%af%e3%83%a8%e3%82%ac%e3%81%ae%e6%97%a5-4/
LOCATION:イルチブレインヨガ辻堂スタジオ\, 神奈川県茅ヶ崎市浜竹２丁目２−４ 安達ビル2階\, 2530021\, 日本
END:VEVENT
END:VCALENDAR