BEGIN:VCALENDAR
VERSION:2.0
PRODID:-//【湘南茅ヶ崎 平塚 藤沢ヨガ】イルチブレインヨガ辻堂スタジオ｜辻堂駅南口より徒歩8分 体と心と脳のヨガ - ECPv6.15.20//NONSGML v1.0//EN
CALSCALE:GREGORIAN
METHOD:PUBLISH
X-WR-CALNAME:【湘南茅ヶ崎 平塚 藤沢ヨガ】イルチブレインヨガ辻堂スタジオ｜辻堂駅南口より徒歩8分 体と心と脳のヨガ
X-ORIGINAL-URL:https://ilchibrainyoga-tsujido.com
X-WR-CALDESC:【湘南茅ヶ崎 平塚 藤沢ヨガ】イルチブレインヨガ辻堂スタジオ｜辻堂駅南口より徒歩8分 体と心と脳のヨガ のイベント
REFRESH-INTERVAL;VALUE=DURATION:PT1H
X-Robots-Tag:noindex
X-PUBLISHED-TTL:PT1H
BEGIN:VTIMEZONE
TZID:Asia/Tokyo
BEGIN:STANDARD
TZOFFSETFROM:+0900
TZOFFSETTO:+0900
TZNAME:JST
DTSTART:20150101T000000
END:STANDARD
END:VTIMEZONE
BEGIN:VEVENT
DTSTART;TZID=Asia/Tokyo:20160904T023000
DTEND;TZID=Asia/Tokyo:20160904T163000
DTSTAMP:20260424T044900
CREATED:20160829T100219Z
LAST-MODIFIED:20160829T100324Z
UID:1012-1472956200-1473006600@ilchibrainyoga-tsujido.com
SUMMARY:4日はヨガの日
DESCRIPTION:4日はヨガの日 \nいま、イルチブレインヨガで話題のへそヒーリングも体験できるへそ＆腸ヨガ体験。 \nネットから予約いただいた方→体験費が1000円でお得 \nヨガが体と心をつなげるという意味があります。 \n質のよい、呼吸と瞑想でリラックス効果があらわれます。 \nトレーニングでは、体をよくほぐし、体の中心のお腹が温かくなっていき、 \nそれで複式呼吸（下腹が動く呼吸）が自然にできるようにします。 \n期待する効果は \n便秘、ひどい肩こり・腰痛、やる気が出ない、体力の減退・運動不足解消、痩せたい・太りたい etc. \n最近は、おへそ周りをほぐすことで、免疫系・循環器系・呼吸器系への効果が大きいことが分かってきました。 \n最新の効果と今までのトレーニング法を組み合わせ、効果が倍増 \n飽きずに、健康つくりにも役立つヨガです。 \n日常生活で体のメンテナンスをお考えの方、ぜひこの機会に体験してみてください。 \nイベントのご予約はこちら
URL:https://ilchibrainyoga-tsujido.com/event/4%e6%97%a5%e3%81%af%e3%83%a8%e3%82%ac%e3%81%ae%e6%97%a5-16/
LOCATION:イルチブレインヨガ辻堂スタジオ\, 神奈川県茅ヶ崎市浜竹２丁目２−４ 安達ビル2階\, 2530021\, 日本
END:VEVENT
BEGIN:VEVENT
DTSTART;TZID=Asia/Tokyo:20160904T103000
DTEND;TZID=Asia/Tokyo:20160904T123000
DTSTAMP:20260424T044900
CREATED:20160829T100019Z
LAST-MODIFIED:20160829T100048Z
UID:1011-1472985000-1472992200@ilchibrainyoga-tsujido.com
SUMMARY:4日はヨガの日
DESCRIPTION:4日はヨガの日 \nいま、イルチブレインヨガで話題のへそヒーリングも体験できるへそ＆腸ヨガ体験。 \nネットから予約いただいた方→体験費が1000円でお得 \nヨガが体と心をつなげるという意味があります。 \n質のよい、呼吸と瞑想でリラックス効果があらわれます。 \nトレーニングでは、体をよくほぐし、体の中心のお腹が温かくなっていき、 \nそれで複式呼吸（下腹が動く呼吸）が自然にできるようにします。 \n期待する効果は \n便秘、ひどい肩こり・腰痛、やる気が出ない、体力の減退・運動不足解消、痩せたい・太りたい etc. \n最近は、おへそ周りをほぐすことで、免疫系・循環器系・呼吸器系への効果が大きいことが分かってきました。 \n最新の効果と今までのトレーニング法を組み合わせ、効果が倍増 \n飽きずに、健康つくりにも役立つヨガです。 \n日常生活で体のメンテナンスをお考えの方、ぜひこの機会に体験してみてください。 \nイベントのご予約はこちら
URL:https://ilchibrainyoga-tsujido.com/event/4%e6%97%a5%e3%81%af%e3%83%a8%e3%82%ac%e3%81%ae%e6%97%a5-15/
LOCATION:イルチブレインヨガ辻堂スタジオ\, 神奈川県茅ヶ崎市浜竹２丁目２−４ 安達ビル2階\, 2530021\, 日本
END:VEVENT
BEGIN:VEVENT
DTSTART;TZID=Asia/Tokyo:20160911T130000
DTEND;TZID=Asia/Tokyo:20160911T170000
DTSTAMP:20260424T044900
CREATED:20160829T093910Z
LAST-MODIFIED:20160829T093910Z
UID:1009-1473598800-1473613200@ilchibrainyoga-tsujido.com
SUMMARY:グローバルメンタルヘルスセミナー
DESCRIPTION:第3回グローバルメンタルヘルスセミナー @ 東京大学 \n～脳教育を通した大人と子どものメンタルヘルスケア～ \n今年も「グローバルメンタルヘルスセミナー」開催決定！ \n９月１０日(土) →大阪大学 \n９月１１日(日) →東京大学 \n■開催日時 　2016年9月11日(日) 　13:00～17:00 (開場 12:30) \n■参加費 　一般 2\,600円（全席自由） \n※どなたでも参加できます。 　※当日は、受付が混雑すると予想されますので、下記チケットサイトからの事前購入をお願いします。 　http://ibreatokyo3.peatix.com/ \n■会場 　東京大学　弥生講堂　一条ホール \n東京都文京区弥生1-1-1 \n■セミナー概要 \n第3回となる本セミナーでは、第一線で活躍されている専門家をお招きし、第1部で脳と腸の関係性や腸がメンタルヘルスに与える影響、職場でのストレスケア等についてお伝えします。 \n特別講演といたしまして、東京には『腸内革命』『脳はバカ、腸はかしこい』などの著者、藤田紘一郎（ふじたこういちろう）教授をお招きしています。 \n第2部では、脳教育を通した青少年のメンタルヘルスケアについて、世界の先進的な取り組み事例をご紹介するとともに、世界の青少年に必要な教育の変化について、青少年によるスピーチ発表を行います。 \n脳と腸という、異種ともいえる組み合わせからアプローチするメンタルヘルスセミナー。  幅広い業種、年代の方に楽しんで学んでいただける内容となっております。  青少年のメンタルヘルス、および企業におけるメンタルヘルスの取り組みに、ぜひご活用ください。 \n～プログラム概要～ \n【第1部】第2の脳から始まる体と心の健康 \n13：15～14：15　特別講演　幸せな脳は「腸」がつくる \n東京医科歯科大学名誉教授　藤田紘一郎氏 \n14：15～15：05　招待講演　脳教育プログラムによる感情ストレスケアとへそヒーリングの効果 \nグローバルサイバー大学脳教育融合学部教授　オ・チャンヨン氏 \n15：05～15：25　休憩 \n【第2部】青少年のメンタルヘルスケアと脳教育 \n15：25～15：35　メンタルヘルスエクササイズ \n15：35～16：05　招待講演　脳教育を通して青少年に夢と希望を \n一般社団法人地球市民学校理事 \n日本ベンジャミン人間性英才学校校長　品川玲子氏 \n16：05～16：15　事例発表　国連を通した海外への導入事例(エルサルバドル等) \n16：15～16：25　事例発表　アメリカ(ニューヨーク)の学校への導入事例 \n16：25～16：55　青少年スピーチ発表 \n17：00　閉会 \n●グローバルメンタルヘルスセミナー詳細↓ \nhttp://global-mentalhealth-seminar.com/ \n■チケットのお求めお問い合わせ 　＊東京事務局 　専用電話：03-6757-0953 \nＭａｉｌ：tokyo@ibreajapan.org \nhttp://ibreatokyo3.peatix.com/ \n●facebookページ \nhttps://www.facebook.com/events/1669748270016009/ \n■主催 　特定非営利法人　IBREA JAPAN 　TEL：03-6757-0953 （グローバルメンタルヘルスセミナー専用） \n■後援 　一般社団法人　地球市民学校
URL:https://ilchibrainyoga-tsujido.com/event/%e3%82%b0%e3%83%ad%e3%83%bc%e3%83%90%e3%83%ab%e3%83%a1%e3%83%b3%e3%82%bf%e3%83%ab%e3%83%98%e3%83%ab%e3%82%b9%e3%82%bb%e3%83%9f%e3%83%8a%e3%83%bc/
LOCATION:東京大学
END:VEVENT
BEGIN:VEVENT
DTSTART;TZID=Asia/Tokyo:20160914T103000
DTEND;TZID=Asia/Tokyo:20160914T123000
DTSTAMP:20260424T044900
CREATED:20160829T231803Z
LAST-MODIFIED:20160829T231803Z
UID:1013-1473849000-1473856200@ilchibrainyoga-tsujido.com
SUMMARY:4のつく日はヨガの日
DESCRIPTION:4のつく日はヨガの日 \nいま、イルチブレインヨガで話題のへそヒーリングも体験できるへそ＆腸ヨガ体験。 \nネットから予約いただいた方→体験費が1000円でお得 \nヨガが体と心をつなげるという意味があります。 \n質のよい、呼吸と瞑想でリラックス効果があらわれます。 \nトレーニングでは、体をよくほぐし、体の中心のお腹が温かくなっていき、 \nそれで複式呼吸（下腹が動く呼吸）が自然にできるようにします。 \n期待する効果は \n便秘、ひどい肩こり・腰痛、やる気が出ない、体力の減退・運動不足解消、痩せたい・太りたい etc. \n最近は、おへそ周りをほぐすことで、免疫系・循環器系・呼吸器系への効果が大きいことが分かってきました。 \n最新の効果と今までのトレーニング法を組み合わせ、効果が倍増 \n飽きずに、健康つくりにも役立つヨガです。 \n日常生活で体のメンテナンスをお考えの方、ぜひこの機会に体験してみてください。 \nイベントのご予約はこちら
URL:https://ilchibrainyoga-tsujido.com/event/4%e3%81%ae%e3%81%a4%e3%81%8f%e6%97%a5%e3%81%af%e3%83%a8%e3%82%ac%e3%81%ae%e6%97%a5-15/
LOCATION:イルチブレインヨガ辻堂スタジオ\, 神奈川県茅ヶ崎市浜竹２丁目２−４ 安達ビル2階\, 2530021\, 日本
END:VEVENT
BEGIN:VEVENT
DTSTART;TZID=Asia/Tokyo:20160914T190000
DTEND;TZID=Asia/Tokyo:20160914T210000
DTSTAMP:20260424T044900
CREATED:20160829T232018Z
LAST-MODIFIED:20160829T232320Z
UID:1014-1473879600-1473886800@ilchibrainyoga-tsujido.com
SUMMARY:4のつく日はヨガの日
DESCRIPTION:4のつく日はヨガの日 \nいま、イルチブレインヨガで話題のへそヒーリングも体験できるへそ＆腸健康ヨガ体験。 \nネットから予約いただいた方→体験費が1000円でお得 \nヨガが体と心をつなげるという意味があります。 \n質のよい、呼吸と瞑想でリラックス効果があらわれます。 \nトレーニングでは、体をよくほぐし、体の中心のお腹が温かくなっていき、 \nそれで複式呼吸（下腹が動く呼吸）が自然にできるようにします。 \n期待する効果は \n便秘、ひどい肩こり・腰痛、やる気が出ない、体力の減退・運動不足解消、痩せたい・太りたい etc. \n最近は、おへそ周りをほぐすことで、免疫系・循環器系・呼吸器系への効果が大きいことが分かってきました。 \n最新のトレーニング法を組み合わせ、効果が倍増 \n飽きずに、健康つくりにも役立つヨガです。 \n日常生活で体のメンテナンスをお考えの方、ぜひこの機会に体験してみてください。 \nイベントのご予約はこちら
URL:https://ilchibrainyoga-tsujido.com/event/4%e3%81%ae%e3%81%a4%e3%81%8f%e6%97%a5%e3%81%af%e3%83%a8%e3%82%ac%e3%81%ae%e6%97%a5-16/
LOCATION:イルチブレインヨガ辻堂スタジオ\, 神奈川県茅ヶ崎市浜竹２丁目２−４ 安達ビル2階\, 2530021\, 日本
END:VEVENT
BEGIN:VEVENT
DTSTART;TZID=Asia/Tokyo:20160917T143000
DTEND;TZID=Asia/Tokyo:20160917T160000
DTSTAMP:20260424T044900
CREATED:20160903T142110Z
LAST-MODIFIED:20160913T094448Z
UID:1020-1474122600-1474128000@ilchibrainyoga-tsujido.com
SUMMARY:へそから始める健康法「へそヒーリング」
DESCRIPTION:お母さんのおなかの中で酸素や栄養をもらう「へそ」。 \n役目は終わったと思われがちですが、実は内臓やリンパ節・神経が集まった「健康ボタン」だったのです。 \nへそを中心にリンパの流れをよくする１０個のヒーリング法で自己healingをしながら \n１日の疲れをその日のうちに取り除きます。 \n自己healingをするbefore\,afterで体の変化を感じていただくことができます。 \nいつでもどこでもできる簡単healingで体と心が軽くなります。 \n  \n内容：へその話・自己ヒーリング法\n \n効果 \n１．血液循環が促進される \n２．体温が上がる \n３．免疫力が向上し解毒の排出がスムーズになる \n４．消化・排泄機能が高まる \n５、関節の痛みや緊張が緩和される \n６、頭がクリアーになり集中力が高まる \n７、肌のツヤがよくなり顔が明るくなる \n８、呼吸が深まり心の中心をとることができる \nぜひ体験してみてください。 \nイベントのご予約はこちら
URL:https://ilchibrainyoga-tsujido.com/event/%e3%81%b8%e3%81%9d%e3%81%8b%e3%82%89%e5%a7%8b%e3%82%81%e3%82%8b%e5%81%a5%e5%ba%b7%e6%b3%95%e3%80%8c%e3%81%b8%e3%81%9d%e3%83%92%e3%83%bc%e3%83%aa%e3%83%b3%e3%82%b0%e3%80%8d/
LOCATION:イルチブレインヨガ辻堂スタジオ\, 神奈川県茅ヶ崎市浜竹２丁目２−４ 安達ビル2階\, 2530021\, 日本
END:VEVENT
BEGIN:VEVENT
DTSTART;TZID=Asia/Tokyo:20160922T103000
DTEND;TZID=Asia/Tokyo:20160922T120000
DTSTAMP:20260424T044900
CREATED:20160913T130153Z
LAST-MODIFIED:20160913T132227Z
UID:1029-1474540200-1474545600@ilchibrainyoga-tsujido.com
SUMMARY:へそから始める健康法「へそヒーリング」
DESCRIPTION:お母さんのおなかの中で酸素や栄養をもらう「へそ」。 \n役目は終わったと思われがちですが、実は内臓やリンパ節・神経が集まった「健康ボタン」だったのです。 \nへそを中心にリンパの流れをよくする１０個のヒーリング法で自己healingをしながら \n１日の疲れをその日のうちに取り除きます。 \n自己healingをするbefore\,afterで体の変化を感じていただくことができます。 \nいつでもどこでもできる簡単healingで体と心が軽くなります。 \n内容：へその話・10分で出来る自己ヒーリング法\n \n効果 \n１．血液循環が促進される \n２．体温が上がる \n３．免疫力が向上し解毒の排出がスムーズになる \n４．消化・排泄機能が高まる \n５、関節の痛みや緊張が緩和される \n６、頭がクリアーになり集中力が高まる \n７、肌のツヤがよくなり顔が明るくなる \n８、呼吸が深まり心の中心をとることができる \nぜひ体験してみてください。 \nイベントのご予約はこちら
URL:https://ilchibrainyoga-tsujido.com/event/%e3%81%b8%e3%81%9d%e3%81%8b%e3%82%89%e5%a7%8b%e3%82%81%e3%82%8b%e5%81%a5%e5%ba%b7%e6%b3%95%e3%80%8c%e3%81%b8%e3%81%9d%e3%83%92%e3%83%bc%e3%83%aa%e3%83%b3%e3%82%b0%e3%80%8d-3/
LOCATION:イルチブレインヨガ辻堂スタジオ\, 神奈川県茅ヶ崎市浜竹２丁目２−４ 安達ビル2階\, 2530021\, 日本
END:VEVENT
BEGIN:VEVENT
DTSTART;TZID=Asia/Tokyo:20160924T103000
DTEND;TZID=Asia/Tokyo:20160924T123000
DTSTAMP:20260424T044900
CREATED:20160829T232519Z
LAST-MODIFIED:20160829T232519Z
UID:1016-1474713000-1474720200@ilchibrainyoga-tsujido.com
SUMMARY:4のつく日はヨガの日
DESCRIPTION:4のつく日はヨガの日 \nいま、イルチブレインヨガで話題のへそヒーリングも体験できるへそ＆腸健康ヨガ体験。 \nネットから予約いただいた方→体験費が1000円でお得 \nヨガが体と心をつなげるという意味があります。 \n質のよい、呼吸と瞑想でリラックス効果があらわれます。 \nトレーニングでは、体をよくほぐし、体の中心のお腹が温かくなっていき、 \nそれで複式呼吸（下腹が動く呼吸）が自然にできるようにします。 \n期待する効果は \n便秘、ひどい肩こり・腰痛、やる気が出ない、体力の減退・運動不足解消、痩せたい・太りたい etc. \n最近は、おへそ周りをほぐすことで、免疫系・循環器系・呼吸器系への効果が大きいことが分かってきました。 \n最新のトレーニング法を組み合わせ、効果が倍増 \n飽きずに、健康つくりにも役立つヨガです。 \n日常生活で体のメンテナンスをお考えの方、ぜひこの機会に体験してみてください。 \nイベントのご予約はこちら
URL:https://ilchibrainyoga-tsujido.com/event/4%e3%81%ae%e3%81%a4%e3%81%8f%e6%97%a5%e3%81%af%e3%83%a8%e3%82%ac%e3%81%ae%e6%97%a5-17/
LOCATION:イルチブレインヨガ辻堂スタジオ\, 神奈川県茅ヶ崎市浜竹２丁目２−４ 安達ビル2階\, 2530021\, 日本
END:VEVENT
BEGIN:VEVENT
DTSTART;TZID=Asia/Tokyo:20160924T143000
DTEND;TZID=Asia/Tokyo:20160924T160000
DTSTAMP:20260424T044900
CREATED:20160903T142409Z
LAST-MODIFIED:20160913T094313Z
UID:1021-1474727400-1474732800@ilchibrainyoga-tsujido.com
SUMMARY:へそから始める健康法「へそヒーリング」
DESCRIPTION:お母さんのおなかの中で酸素や栄養をもらう「へそ」。 \n役目は終わったと思われがちですが、実は内臓やリンパ節・神経が集まった「健康ボタン」だったのです。 \nへそを中心にリンパの流れをよくする１０個のヒーリング法で自己healingをしながら \n１日の疲れをその日のうちに取り除きます。 \n自己healingをするbefore\,afterで体の変化を感じていただくことができます。 \nいつでもどこでもできる簡単healingで体と心が軽くなります。 \n  \n内容：へその話・10分で出来る自己ヒーリング法\n \n効果 \n１．血液循環が促進される \n２．体温が上がる \n３．免疫力が向上し解毒の排出がスムーズになる \n４．消化・排泄機能が高まる \n５、関節の痛みや緊張が緩和される \n６、頭がクリアーになり集中力が高まる \n７、肌のツヤがよくなり顔が明るくなる \n８、呼吸が深まり心の中心をとることができる \nぜひ体験してみてください。 \nイベントのご予約はこちら
URL:https://ilchibrainyoga-tsujido.com/event/%e3%81%b8%e3%81%9d%e3%81%8b%e3%82%89%e5%a7%8b%e3%82%81%e3%82%8b%e5%81%a5%e5%ba%b7%e6%b3%95%e3%80%8c%e3%81%b8%e3%81%9d%e3%83%92%e3%83%bc%e3%83%aa%e3%83%b3%e3%82%b0%e3%80%8d-2/
LOCATION:イルチブレインヨガ辻堂スタジオ\, 神奈川県茅ヶ崎市浜竹２丁目２−４ 安達ビル2階\, 2530021\, 日本
END:VEVENT
BEGIN:VEVENT
DTSTART;TZID=Asia/Tokyo:20160927T103000
DTEND;TZID=Asia/Tokyo:20160927T120000
DTSTAMP:20260424T044900
CREATED:20160913T130317Z
LAST-MODIFIED:20160913T130317Z
UID:1030-1474972200-1474977600@ilchibrainyoga-tsujido.com
SUMMARY:へそから始める健康法「へそヒーリング」
DESCRIPTION:母さんのおなかの中で酸素や栄養をもらう「へそ」。 \n役目は終わったと思われがちですが、実は内臓やリンパ節・神経が集まった「健康ボタン」だったのです。 \nへそを中心にリンパの流れをよくする１０個のヒーリング法で自己healingをしながら \n１日の疲れをその日のうちに取り除きます。 \n自己healingをするbefore\,afterで体の変化を感じていただくことができます。 \nいつでもどこでもできる簡単healingで体と心が軽くなります。 \n  \n内容：へその話・自己ヒーリング法 \n効果 \n１．血液循環が促進される \n２．体温が上がる \n３．免疫力が向上し解毒の排出がスムーズになる \n４．消化・排泄機能が高まる \n５、関節の痛みや緊張が緩和される \n６、頭がクリアーになり集中力が高まる \n７、肌のツヤがよくなり顔が明るくなる \n８、呼吸が深まり心の中心をとることができる \nぜひ体験してみてください。 \n  \nイベントのご予約はこちら
URL:https://ilchibrainyoga-tsujido.com/event/%e3%81%b8%e3%81%9d%e3%81%8b%e3%82%89%e5%a7%8b%e3%82%81%e3%82%8b%e5%81%a5%e5%ba%b7%e6%b3%95%e3%80%8c%e3%81%b8%e3%81%9d%e3%83%92%e3%83%bc%e3%83%aa%e3%83%b3%e3%82%b0%e3%80%8d-4/
LOCATION:イルチブレインヨガ辻堂スタジオ\, 神奈川県茅ヶ崎市浜竹２丁目２−４ 安達ビル2階\, 2530021\, 日本
END:VEVENT
END:VCALENDAR